{"text_format":"1","workbook":"xlsx","n_sheets":27,"sheets":["INÍCIO","Ingressantes","Concluintes","Matriculados","Cursos","C_CORR_COM_HU S_HU","Substituir","Parametros","ALUNO_GRAD_TEMPO_INTEGRAL","ALUNO_DE_GRADUAÇÃO","ALUNO_EQUIV_GRADUAÇÃO","APGTI","ALUNO_RESIDENTE","ALUNO_TEMPO_INTEGRAL","ALUNO_EQUIVALENTE","PROFESSOR_EQUIVALENTE","FUNCIONÁRIO_EQUIVALENTE_HU","CUSTO_HU_AE","ATI_PROFESSOR_EQUIVALENTE","ATI_FUNCIONÁRIO_COM_HU","FUNCIONÁRIO_PROF_EQUIV","GRAU_PARTICIPAÇÃO_ESTUDANTIL","GRAU_ENVOLVIMENTO_ALUNO_POS","CONCEITO_CAPES","QUALIFICAÇÃO DOCENTE","TAXA_DE_SUCESSO_NA_GRADUAÇÃO","INDICADORES_TCU"],"not_rendered":{"charts":19,"images":5,"macros":1,"external_links":0,"defined_names":10,"comments":4,"pivot_tables":1},"unopened":[],"bounds":{"document_bytes":16777216,"sheet_cells":100000,"rows_first":2000,"rows_last":500,"rows_between":2000,"halvings":0,"cell_chars":16384,"cell_head_chars":4096},"cells_cut":0,"cells_raw":0,"read":"whole","date_system":"1900"}

{"sheet":"INÍCIO","index":0,"n_rows":33,"n_cols":4,"rows_kept":33,"cut":false,"hidden":true,"merged":[]}
[]
[]
[]
[null,"Ano de elaboração:",2022]
[null,"Ano de referência:",{"$f":"C4-1","v":2021}]
[]
[]
[]
[]
[]
[]
[]
[]
[]
[]
[]
[]
[]
[]
[]
[null,"Concluintes",null,"Não computados"]
[null,"Informados:",{"$f":"SUM(Concluintes!F:F)","v":2270}]
[null,"Computados:",{"$f":"ALUNO_GRAD_TEMPO_INTEGRAL!C142","v":2270},{"$f":"C22-C23","v":0}]
[]
[null,"Ingressantes"]
[null,"Informados - ano:",{"$f":"SUMIF(Ingressantes!A:A,Ano_de_referência,Ingressantes!F:F)","v":4630}]
[null,"Computados - ano:",{"$f":"ALUNO_GRAD_TEMPO_INTEGRAL!F142","v":4630},{"$f":"C26-C27","v":0}]
[null,"Informados - outros:",{"$f":"SUM(Ingressantes!F:F)-C26","v":33758}]
[null,"Computados - outros:",{"$f":"C27+TAXA_DE_SUCESSO_NA_GRADUAÇÃO!F141","v":10019},{"$f":"C28-C29","v":23739}]
[]
[null,"Matriculados"]
[null,"Informados:",{"$f":"SUM(Matriculados!E:E)","v":42397}]
[null,"Computados:",{"$f":"ALUNO_DE_GRADUAÇÃO!C142+ALUNO_DE_GRADUAÇÃO!D142","v":42397},{"$f":"C32-C33","v":0}]

{"sheet":"Ingressantes","index":1,"n_rows":1344,"n_cols":6,"rows_kept":1344,"cut":false,"hidden":true,"merged":[]}
["ANO","SEM","CURSO"," CURSOINEP","TURNO","ALUNOS"]
[2015,1,"ABI - CIÊNCIAS BIOLÓGICAS - 01ABI","   5000608","INTEGRAL",7]
[2015,1,"CIÊNCIAS BIOLÓGICAS - 01B","    313086","INTEGRAL",39]
[2015,1,"ADMINISTRAÇÃO - 01GV","   1178684","INTEGRAL",23]
[2015,1,"CIÊNCIAS BIOLÓGICAS - 01L","     13086","INTEGRAL",21]
[2015,1,"CIÊNCIAS CONTÁBEIS - 02GV","   1183351","INTEGRAL",31]
[2015,1,"CIÊNCIAS ECONÔMICAS - 03GV","   1178683","INTEGRAL",21]
[2015,1,"DIREITO - 04A","     13089","INTEGRAL",47]
[2015,1,"DIREITO - 04GV","   1178675","INTEGRAL",67]
[2015,1,"CIÊNCIAS ECONÔMICAS - 05A","     13090","INTEGRAL",50]
[2015,1,"FARMÁCIA - 05GV","   1185503","INTEGRAL",21]
[2015,1,"FISIOTERAPIA - 06GV","   1178689","INTEGRAL",18]
[2015,1,"FARMÁCIA - 07A","     38509","INTEGRAL",46]
[2015,1,"MEDICINA - 07GV","   5001167","INTEGRAL",53]
[2015,1,"ABI - FILOSOFIA - 08ABI","   5000611","INTEGRAL",15]
[2015,1,"FILOSOFIA - 08B","    313097","INTEGRAL",18]
[2015,1,"NUTRIÇÃO - 08GV","   1178688","INTEGRAL",18]
[2015,1,"FILOSOFIA - 08L","     13097","INTEGRAL",8]
[2015,1,"FÍSICA - 09A","   5000613","INTEGRAL",3]
[2015,1,"ODONTOLOGIA - 09GV","   5001168","INTEGRAL",33]
[2015,1,"ABI - GEOGRAFIA - 10ABI","   5000615","INTEGRAL",23]
[2015,1,"GEOGRAFIA - 10B","    313099","INTEGRAL",32]
[2015,1,"EDUCAÇÃO FÍSICA - 10GV","   1270439","INTEGRAL",21]
[2015,1,"GEOGRAFIA - 10L","     13099","INTEGRAL",14]
[2015,1,"ABI - HISTÓRIA - 11ABI","   5000616","INTEGRAL",12]
[2015,1,"HISTÓRIA - 11B","    313100","INTEGRAL",47]
[2015,1,"HISTÓRIA - 11L","     13100","INTEGRAL",22]
[2015,1,"LETRAS - 13A","   5000617","INTEGRAL",2]
[2015,1,"ABI - LETRAS - 13ABI","   5000617","INTEGRAL",7]
[2015,1,"LETRAS - 13B","    313101","INTEGRAL",13]
[2015,1,"LETRAS - 13B","    313101","INTEGRAL",4]
[2015,1,"LETRAS - 13L","     13101","INTEGRAL",5]
[2015,1,"LETRAS - 13L","     13101","INTEGRAL",7]
[2015,1,"LETRAS - 13L","     13101","INTEGRAL",21]
[2015,1,"LETRAS - 13L","     13101","INTEGRAL",1]
[2015,1,"LETRAS - 13L","     13101","INTEGRAL",1]
[2015,1,"LETRAS - 13L","     13101","INTEGRAL",25]
[2015,1,"LETRAS - 13L","     13101","INTEGRAL",3]
[2015,1,"LETRAS - 13L","     13101","INTEGRAL",2]
[2015,1,"MEDICINA - 15A","     13103","INTEGRAL",96]
[2015,1,"ODONTOLOGIA - 16A","     13104","INTEGRAL",51]
[2015,1,"PEDAGOGIA - 17A","     13105","MATUTINO",34]
[2015,1,"SERVIÇO SOCIAL - 19A","     13107","MATUTINO",34]
[2015,1,"FISIOTERAPIA - 20A","     13118","INTEGRAL",21]
[2015,1,"EDUCAÇÃO FÍSICA - 21B","   5000610","INTEGRAL",33]
[2015,1,"EDUCAÇÃO FÍSICA - 21B","    313092","INTEGRAL",10]
[2015,1,"EDUCAÇÃO FÍSICA - 21L","     13092","INTEGRAL",26]
[2015,1,"ENFERMAGEM - 23A","     38994","INTEGRAL",35]
[2015,1,"ENFERMAGEM - 23L","    338994","INTEGRAL",29]
[2015,1,"ENGENHARIA CIVIL - 24A","     13094","INTEGRAL",51]
[2015,1,"ADMINISTRAÇÃO - 26A","     22451","INTEGRAL",38]
[2015,1,"ABI - GEOGRAFIA - 27ABI","   5000615","NOTURNO",25]
[2015,1,"GEOGRAFIA - 27L","    313099","NOTURNO",7]
[2015,1,"GEOGRAFIA - 27L","     13099","NOTURNO",18]
[2015,1,"ABI - HISTÓRIA - 28ABI","   5000616","NOTURNO",3]
[2015,1,"HISTÓRIA - 28B","    313100","NOTURNO",16]
[2015,1,"HISTÓRIA - 28L","     13100","NOTURNO",5]
[2015,1,"LETRAS - 29A","   5000617","NOTURNO",4]
[2015,1,"ABI - LETRAS - 29ABI","   5000617","NOTURNO",1]
[2015,1,"LETRAS - 29B","    313101","NOTURNO",2]
[2015,1,"LETRAS - 29L","     13101","NOTURNO",3]
[2015,1,"PEDAGOGIA - 30A","     13105","NOTURNO",1]
[2015,1,"CIÊNCIAS SOCIAIS - 31B","    313087","INTEGRAL",1]
[2015,1,"PSICOLOGIA - 32A","     13113","INTEGRAL",48]
[2015,1,"ARQUITETURA E URBANISMO - 33A","     13114","INTEGRAL",44]
[2015,1,"DIREITO - 34A","     21860","NOTURNO",48]
[2015,1,"ADMINISTRAÇÃO - 46A","     22451","NOTURNO",41]
[2015,1,"ENGENHARIA DE PRODUÇÃO - 49A","     38594","NOTURNO",31]
[2015,1,"CIÊNCIAS ECONÔMICAS - 51A","     13090","NOTURNO",49]
[2015,1,"MÚSICA - CANTO - 63A","    116490","INTEGRAL",2]
[2015,1,"MÚSICA - MODALIDADE PIANO - 63C","    116490","INTEGRAL",1]
[2015,1,"MÚSICA - MODALIDADE PIANO - 63C","    116492","INTEGRAL",1]
[2015,1,"MÚSICA - MODALIDADE VIOLÃO - 63D","    116490","INTEGRAL",1]
[2015,1,"MÚSICA - MODALIDADE VIOLÃO - 63D","    116493","INTEGRAL",1]
[2015,1,"MÚSICA - MODALIDADE VIOLINO - 63E","    116490","INTEGRAL",1]
[2015,1,"MÚSICA - MODALIDADE VIOLINO - 63E","    116494","INTEGRAL",1]
[2015,1,"MÚSICA - MODALIDADE VIOLONCELO - 63F","    116490","INTEGRAL",1]
[2015,1,"MÚSICA - MODALIDADE VIOLONCELO - 63F","    116495","INTEGRAL",1]
[2015,1,"MÚSICA - MODALIDADE COMPOSIÇÃO - 63G","    116490","INTEGRAL",4]
[2015,1,"MÚSICA - MODALIDADE COMPOSIÇÃO - 63G","   1271995","INTEGRAL",4]
[2015,1,"NUTRIÇÃO - 64A","    116498","INTEGRAL",57]
[2015,1,"CIÊNCIAS EXATAS - 65A","    116502","INTEGRAL",261]
[2015,1,"ENGENHARIA COMPUTACIONAL - 65B","   1120244","INTEGRAL",28]
[2015,1,"CIÊNCIA DA COMPUTAÇÃO - 65C","     65361","INTEGRAL",42]
[2015,1,"ESTATÍSTICA - 65D","    113531","INTEGRAL",19]
[2015,1,"FÍSICA - 65E","   5000613","INTEGRAL",35]
[2015,1,"FÍSICA - 65E","    313098","INTEGRAL",2]
[2015,1,"MATEMÁTICA - 65F","   5000618","INTEGRAL",32]
[2015,1,"MATEMÁTICA - 65F","    313102","INTEGRAL",8]
[2015,1,"MATEMÁTICA - 65FL","     13102","INTEGRAL",2]
[2015,1,"QUÍMICA - 65GB","   5000619","INTEGRAL",63]
[2015,1,"QUÍMICA - 65GB","   5000619","INTEGRAL",1]
[2015,1,"QUÍMICA - 65GB","    313106","INTEGRAL",14]
[2015,1,"QUÍMICA - 65GL","     13106","INTEGRAL",10]
[2015,1,"ENGENHARIA ELÉTRICA - HABILITAÇÃO EM ENERGIA - 65H","   1109475","NOTURNO",5]
[2015,1,"ENGENHARIA ELÉTRICA - HAB. EM ROBÓTICA E AUTOMAÇÃO INDUSTRIAL - 65I","   1109485","INTEGRAL",2]
[2015,1,"ENGENHARIA ELÉTRICA - HABILITAÇÃO EM SISTEMAS DE POTÊNCIA - 65J","   1109486","INTEGRAL",6]
[2015,1,"ENGENHARIA ELÉTRICA - HABILITAÇÃO EM SISTEMAS ELETRÔNICOS - 65K","   1109487","INTEGRAL",1]
[2015,1,"ENGENHARIA MECÂNICA - 65M","   1109489","INTEGRAL",15]
[2015,1,"BACHARELADO INTERDISCIPLINAR EM ARTES E DESIGN - 66A","    116500","INTEGRAL",121]
[2015,1,"BACHARELADO EM CINEMA E AUDIOVISUAL - 66B","   1153947","INTEGRAL",38]
[2015,1,"BACHARELADO EM ARTES VISUAIS - 66C","   1153948","INTEGRAL",20]
[2015,1,"BACHARELADO EM DESIGN - 66D","   1153949","INTEGRAL",65]
[2015,1,"BACHARELADO EM MODA - 66E","   1153950","INTEGRAL",37]
[2015,1,"LICENCIATURA EM ARTES VISUAIS - 66F","   1153951","NOTURNO",38]
[2015,1,"ENGENHARIA AMBIENTAL E SANITÁRIA - 67A","    116496","INTEGRAL",47]
[2015,1,"SERVIÇO SOCIAL - 68A","     13107","NOTURNO",2]
[2015,1,"ENGENHARIA ELÉTRICA - HABILITAÇÃO EM SISTEMAS ELETRÔNICOS - 69A","   1109487","INTEGRAL",19]
[2015,1,"ENGENHARIA ELÉTRICA - HAB. EM ROBÓTICA E AUTOMAÇÃO INDUSTRIAL - 69B","   1109485","INTEGRAL",20]
[2015,1,"ENGENHARIA ELÉTRICA - HABILITAÇÃO EM SISTEMAS DE POTÊNCIA - 69C","   1109486","INTEGRAL",21]
[2015,1,"ENGENHARIA ELÉTRICA - HABILITAÇÃO EM TELECOMUNICAÇÕES - 69D","   1109488","INTEGRAL",21]
[2015,1,"ENGENHARIA ELÉTRICA - HABILITAÇÃO EM ENERGIA - 70A","   1109475","NOTURNO",39]
[2015,1,"ENGENHARIA MECÂNICA - 71A","   1109489","INTEGRAL",22]
[2015,1,"BACHARELADO INTERDISCIPLINAR EM CIÊNCIAS HUMANAS - 72A","   1120242","INTEGRAL",161]
[2015,1,"CIÊNCIA DA RELIGIÃO - 72B","   1165350","NOTURNO",2]
[2015,1,"CIÊNCIAS SOCIAIS - 72C","   5000609","INTEGRAL",2]
[2015,1,"CIÊNCIAS SOCIAIS - 72CB","    313087","INTEGRAL",5]
[2015,1,"CIÊNCIAS SOCIAIS - 72CL","     13087","INTEGRAL",2]
[2015,1,"TURISMO - 72D","     21589","INTEGRAL",16]
[2015,1,"FILOSOFIA - 72EB","   5000611","INTEGRAL",2]
[2015,1,"FILOSOFIA - 72EB","    313097","DIURNO",3]
[2015,1,"FILOSOFIA - 72EL","     13097","INTEGRAL",2]
[2015,1,"BACHARELADO INTERDISCIPLINAR EM CIÊNCIAS HUMANAS - 73A","   1120242","NOTURNO",5]
[2015,1,"CIÊNCIA DA RELIGIÃO - 73B","   1165350","NOTURNO",6]
[2015,1,"CIÊNCIA DA RELIGIÃO - 73BL","   1165686","NOTURNO",9]
[2015,1,"CIÊNCIAS SOCIAIS - 73C","   5000609","NOTURNO",30]
[2015,1,"CIÊNCIAS SOCIAIS - 73CB","    313087","NOTURNO",10]
[2015,1,"CIÊNCIAS SOCIAIS - 73CL","     13087","NOTURNO",10]
[2015,1,"TURISMO - 73D","     21589","NOTURNO",6]
[2015,1,"CIÊNCIAS CONTÁBEIS - 77A","   1132074","INTEGRAL",38]
[2015,1,"CIÊNCIAS CONTÁBEIS - 78A","   1132074","NOTURNO",45]
[2015,1,"JORNALISMO - 84A","     27657","INTEGRAL",35]
[2015,1,"JORNALISMO - 85A","     36356","NOTURNO",38]
[2015,1,"MEDICINA VETERINÁRIA - 87A","   1268972","INTEGRAL",49]
[2015,1,"LICENCIATURA EM MÚSICA - 89A","   1278855","INTEGRAL",7]
[2015,1,"LICENCIATURA EM MÚSICA - 89A","   1278855","INTEGRAL",1]
[2015,1,"LICENCIATURA EM MÚSICA - 89A","   1278855","INTEGRAL",7]
[2015,2,"CIÊNCIAS BIOLÓGICAS - 01A","   5000608","INTEGRAL",1]
[2015,2,"ABI - CIÊNCIAS BIOLÓGICAS - 01ABI","   5000608","INTEGRAL",18]
[2015,2,"CIÊNCIAS BIOLÓGICAS - 01B","    313086","INTEGRAL",20]
[2015,2,"ADMINISTRAÇÃO - 01GV","   1178684","INTEGRAL",98]
[2015,2,"CIÊNCIAS BIOLÓGICAS - 01L","     13086","INTEGRAL",11]
[2015,2,"CIÊNCIAS ECONÔMICAS - 03GV","   1178683","INTEGRAL",86]
[2015,2,"DIREITO - 04A","     13089","INTEGRAL",58]
[2015,2,"DIREITO - 04GV","   1178675","INTEGRAL",59]
[2015,2,"FARMÁCIA - 05GV","   1185503","INTEGRAL",75]
[2015,2,"FISIOTERAPIA - 06GV","   1178689","INTEGRAL",55]
[2015,2,"FARMÁCIA - 07A","     38509","INTEGRAL",61]
[2015,2,"MEDICINA - 07GV","   5001167","INTEGRAL",73]
[2015,2,"FILOSOFIA - 08B","    313097","INTEGRAL",1]
[2015,2,"NUTRIÇÃO - 08GV","   1178688","INTEGRAL",84]
[2015,2,"FILOSOFIA - 08L","     13097","INTEGRAL",4]
[2015,2,"FÍSICA - 09A","   5000613","INTEGRAL",1]
[2015,2,"ODONTOLOGIA - 09GV","   5001168","INTEGRAL",70]
[2015,2,"GEOGRAFIA - 10B","    313099","INTEGRAL",3]
[2015,2,"EDUCAÇÃO FÍSICA - 10GV","   1270439","INTEGRAL",86]
[2015,2,"GEOGRAFIA - 10L","     13099","INTEGRAL",2]
[2015,2,"HISTÓRIA - 11B","    313100","INTEGRAL",1]
[2015,2,"LETRAS - 13A","   5000617","INTEGRAL",1]
[2015,2,"LETRAS - 13B","    313101","INTEGRAL",2]
[2015,2,"LETRAS - 13B","    313101","INTEGRAL",3]
[2015,2,"LETRAS - 13L","     13101","INTEGRAL",2]
[2015,2,"LETRAS - 13L","     13101","INTEGRAL",8]
[2015,2,"LETRAS - 13L","     13101","INTEGRAL",5]
[2015,2,"MEDICINA - 15A","     13103","INTEGRAL",113]
[2015,2,"ODONTOLOGIA - 16A","     13104","INTEGRAL",61]
[2015,2,"PEDAGOGIA - 17A","     13105","MATUTINO",1]
[2015,2,"SERVIÇO SOCIAL - 19A","     13107","MATUTINO",1]
[2015,2,"FISIOTERAPIA - 20A","     13118","INTEGRAL",23]
[2015,2,"EDUCAÇÃO FÍSICA - 21B","   5000610","INTEGRAL",47]
[2015,2,"EDUCAÇÃO FÍSICA - 21B","    313092","INTEGRAL",15]
[2015,2,"EDUCAÇÃO FÍSICA - 21L","     13092","INTEGRAL",30]
[2015,2,"ENFERMAGEM - 23A","     38994","INTEGRAL",46]
[2015,2,"ENFERMAGEM - 23L","    338994","INTEGRAL",14]
[2015,2,"ENGENHARIA CIVIL - 24A","     13094","INTEGRAL",55]
[2015,2,"GEOGRAFIA - 27L","    313099","NOTURNO",2]
[2015,2,"GEOGRAFIA - 27L","     13099","NOTURNO",1]
[2015,2,"ABI - HISTÓRIA - 28ABI","   5000616","NOTURNO",31]
[2015,2,"HISTÓRIA - 28B","    313100","NOTURNO",20]
[2015,2,"HISTÓRIA - 28L","     13100","NOTURNO",21]
[2015,2,"LETRAS - 29A","   5000617","NOTURNO",3]
[2015,2,"ABI - LETRAS - 29ABI","   5000617","NOTURNO",40]
[2015,2,"LETRAS - 29L","     13101","NOTURNO",2]
[2015,2,"LETRAS - 29L","     13101","NOTURNO",7]
[2015,2,"LETRAS - 29L","     13101","NOTURNO",10]
[2015,2,"PEDAGOGIA - 30A","     13105","NOTURNO",45]
[2015,2,"PSICOLOGIA - 32A","     13113","INTEGRAL",1]
[2015,2,"ARQUITETURA E URBANISMO - 33A","     13114","INTEGRAL",41]
[2015,2,"DIREITO - 34A","     21860","NOTURNO",58]
[2015,2,"CIÊNCIA DA COMPUTAÇÃO - 35A","     18518","NOTURNO",49]
[2015,2,"ADMINISTRAÇÃO - 46A","     22451","NOTURNO",1]
[2015,2,"ENGENHARIA DE PRODUÇÃO - 49A","     38594","NOTURNO",34]
[2015,2,"CIÊNCIAS ECONÔMICAS - 51A","     13090","NOTURNO",3]
[2015,2,"NUTRIÇÃO - 64A","    116498","INTEGRAL",66]
[2015,2,"ENGENHARIA COMPUTACIONAL - 65B","   1120244","INTEGRAL",5]
[2015,2,"ESTATÍSTICA - 65D","    113531","INTEGRAL",1]
[2015,2,"FÍSICA - 65E","    313098","INTEGRAL",1]
[2015,2,"MATEMÁTICA - 65F","   5000618","INTEGRAL",2]
[2015,2,"MATEMÁTICA - 65F","    313102","INTEGRAL",1]
[2015,2,"MATEMÁTICA - 65FL","     13102","INTEGRAL",1]
[2015,2,"QUÍMICA - 65GB","    313106","INTEGRAL",1]
[2015,2,"BACHARELADO INTERDISCIPLINAR EM ARTES E DESIGN - 66A","    116500","INTEGRAL",139]
[2015,2,"BACHARELADO EM CINEMA E AUDIOVISUAL - 66B","   1153947","INTEGRAL",23]
[2015,2,"BACHARELADO EM ARTES VISUAIS - 66C","   1153948","INTEGRAL",6]
[2015,2,"BACHARELADO EM DESIGN - 66D","   1153949","INTEGRAL",14]
[2015,2,"BACHARELADO EM MODA - 66E","   1153950","INTEGRAL",8]
[2015,2,"LICENCIATURA EM ARTES VISUAIS - 66F","   1153951","NOTURNO",6]
[2015,2,"ENGENHARIA AMBIENTAL E SANITÁRIA - 67A","    116496","INTEGRAL",1]
[2015,2,"SERVIÇO SOCIAL - 68A","     13107","NOTURNO",41]
[2015,2,"ENGENHARIA ELÉTRICA - HABILITAÇÃO EM SISTEMAS ELETRÔNICOS - 69A","   1109487","INTEGRAL",33]
[2015,2,"ENGENHARIA ELÉTRICA - HAB. EM ROBÓTICA E AUTOMAÇÃO INDUSTRIAL - 69B","   1109485","INTEGRAL",26]
[2015,2,"ENGENHARIA ELÉTRICA - HABILITAÇÃO EM SISTEMAS DE POTÊNCIA - 69C","   1109486","INTEGRAL",28]
[2015,2,"ENGENHARIA ELÉTRICA - HABILITAÇÃO EM TELECOMUNICAÇÕES - 69D","   1109488","INTEGRAL",30]
[2015,2,"ENGENHARIA MECÂNICA - 71A","   1109489","INTEGRAL",31]
[2015,2,"CIÊNCIAS SOCIAIS - 72C","   5000609","INTEGRAL",4]
[2015,2,"CIÊNCIAS SOCIAIS - 72CB","    313087","INTEGRAL",2]
[2015,2,"TURISMO - 72D","     21589","INTEGRAL",5]
[2015,2,"FILOSOFIA - 72EB","   5000611","INTEGRAL",1]
[2015,2,"FILOSOFIA - 72EB","    313097","DIURNO",6]
[2015,2,"FILOSOFIA - 72EL","     13097","INTEGRAL",6]
[2015,2,"BACHARELADO INTERDISCIPLINAR EM CIÊNCIAS HUMANAS - 73A","   1120242","NOTURNO",224]
[2015,2,"CIÊNCIA DA RELIGIÃO - 73B","   1165350","NOTURNO",5]
[2015,2,"CIÊNCIA DA RELIGIÃO - 73BL","   1165686","NOTURNO",2]
[2015,2,"CIÊNCIAS SOCIAIS - 73C","   5000609","NOTURNO",20]
[2015,2,"CIÊNCIAS SOCIAIS - 73CB","    313087","NOTURNO",11]
[2015,2,"CIÊNCIAS SOCIAIS - 73CL","     13087","NOTURNO",11]
[2015,2,"TURISMO - 73D","     21589","NOTURNO",6]
[2015,2,"SISTEMAS DE INFORMAÇÃO - 76A","   1128364","NOTURNO",50]
[2015,2,"CIÊNCIAS CONTÁBEIS - 78A","   1132074","NOTURNO",2]
[2015,2,"FÍSICA - 81A","   1166037","NOTURNO",26]
[2015,2,"MATEMÁTICA - 82A","   1166038","NOTURNO",39]
[2015,2,"QUÍMICA - 83A","   1166039","NOTURNO",36]
[2015,2,"JORNALISMO - 84A","     27657","INTEGRAL",42]
[2015,2,"JORNALISMO - 85A","     36356","NOTURNO",2]
[2015,2,"MEDICINA VETERINÁRIA - 87A","   1268972","INTEGRAL",56]
[2015,2,"LICENCIATURA EM LETRAS - LIBRAS - 88A","   1268983","NOTURNO",40]
[2015,3,"MEDICINA - 15A","     13103","INTEGRAL",1]
[2016,1,"ABI - CIÊNCIAS BIOLÓGICAS - 01ABI","   5000608","INTEGRAL",12]
[2016,1,"CIÊNCIAS BIOLÓGICAS - 01B","    313086","INTEGRAL",20]
[2016,1,"ADMINISTRAÇÃO - 01GV","   1178684","INTEGRAL",63]
[2016,1,"CIÊNCIAS BIOLÓGICAS - 01L","     13086","INTEGRAL",17]
[2016,1,"CIÊNCIAS CONTÁBEIS - 02GV","   1183351","INTEGRAL",63]
[2016,1,"EDUCAÇÃO ARTÍSTICA - 03A","     38748","INTEGRAL",2]
[2016,1,"EDUCAÇÃO ARTÍSTICA - 03A","    338748","INTEGRAL",1]
[2016,1,"CIÊNCIAS ECONÔMICAS - 03GV","   1178683","INTEGRAL",65]
[2016,1,"DIREITO - 04A","     13089","INTEGRAL",70]
[2016,1,"DIREITO - 04GV","   1178675","INTEGRAL",62]
[2016,1,"CIÊNCIAS ECONÔMICAS - 05A","     13090","INTEGRAL",60]
[2016,1,"FARMÁCIA - 05GV","   1185503","INTEGRAL",40]
[2016,1,"FISIOTERAPIA - 06GV","   1178689","INTEGRAL",35]
[2016,1,"FARMÁCIA - 07A","     38509","INTEGRAL",65]
[2016,1,"MEDICINA - 07GV","   5001167","INTEGRAL",57]
[2016,1,"ABI - FILOSOFIA - 08ABI","   5000611","INTEGRAL",24]
[2016,1,"FILOSOFIA - 08B","    313097","INTEGRAL",10]
[2016,1,"NUTRIÇÃO - 08GV","   1178688","INTEGRAL",37]
[2016,1,"FILOSOFIA - 08L","     13097","INTEGRAL",11]
[2016,1,"FÍSICA - 09A","   5000613","INTEGRAL",1]
[2016,1,"ODONTOLOGIA - 09GV","   5001168","INTEGRAL",43]
[2016,1,"ABI - GEOGRAFIA - 10ABI","   5000615","INTEGRAL",35]
[2016,1,"GEOGRAFIA - 10B","    313099","INTEGRAL",29]
[2016,1,"EDUCAÇÃO FÍSICA - 10GV","   1270439","INTEGRAL",34]
[2016,1,"GEOGRAFIA - 10L","     13099","INTEGRAL",22]
[2016,1,"HISTÓRIA - 11A","   5000616","INTEGRAL",1]
[2016,1,"ABI - HISTÓRIA - 11ABI","   5000616","INTEGRAL",24]
[2016,1,"HISTÓRIA - 11B","    313100","INTEGRAL",22]
[2016,1,"HISTÓRIA - 11L","     13100","INTEGRAL",28]
[2016,1,"ABI - LETRAS - 13ABI","   5000617","INTEGRAL",18]
[2016,1,"LETRAS - 13B","    313101","INTEGRAL",1]
[2016,1,"LETRAS - 13B","    313101","INTEGRAL",1]
[2016,1,"LETRAS - 13B","    313101","INTEGRAL",8]
[2016,1,"LETRAS - 13B","    313101","INTEGRAL",1]
[2016,1,"LETRAS - 13L","     13101","INTEGRAL",3]
[2016,1,"LETRAS - 13L","     13101","INTEGRAL",2]
[2016,1,"LETRAS - 13L","     13101","INTEGRAL",21]
[2016,1,"LETRAS - 13L","     13101","INTEGRAL",1]
[2016,1,"LETRAS - 13L","     13101","INTEGRAL",15]
[2016,1,"LETRAS - 13L","     13101","INTEGRAL",1]
[2016,1,"LETRAS - 13L","     13101","INTEGRAL",1]
[2016,1,"LETRAS - 13L","     13101","INTEGRAL",2]
[2016,1,"MEDICINA - 15A","     13103","INTEGRAL",114]
[2016,1,"ODONTOLOGIA - 16A","     13104","INTEGRAL",61]
[2016,1,"PEDAGOGIA - 17A","     13105","MATUTINO",59]
[2016,1,"SERVIÇO SOCIAL - 19A","     13107","MATUTINO",46]
[2016,1,"FISIOTERAPIA - 20A","     13118","INTEGRAL",28]
[2016,1,"EDUCAÇÃO FÍSICA - 21B","   5000610","INTEGRAL",34]
[2016,1,"EDUCAÇÃO FÍSICA - 21B","    313092","INTEGRAL",22]
[2016,1,"EDUCAÇÃO FÍSICA - 21L","     13092","INTEGRAL",17]
[2016,1,"ENFERMAGEM - 23A","     38994","INTEGRAL",49]
[2016,1,"ENFERMAGEM - 23L","    338994","INTEGRAL",2]
[2016,1,"ENGENHARIA CIVIL - 24A","     13094","INTEGRAL",60]
[2016,1,"ADMINISTRAÇÃO - 26A","     22451","INTEGRAL",49]
[2016,1,"ABI - GEOGRAFIA - 27ABI","   5000615","NOTURNO",43]
[2016,1,"GEOGRAFIA - 27L","    313099","NOTURNO",3]
[2016,1,"GEOGRAFIA - 27L","     13099","NOTURNO",26]
[2016,1,"ABI - HISTÓRIA - 28ABI","   5000616","NOTURNO",1]
[2016,1,"ABI - LETRAS - 29ABI","   5000617","NOTURNO",3]
[2016,1,"LETRAS - 29L","     13101","NOTURNO",1]
[2016,1,"LETRAS - 29L","     13101","NOTURNO",2]
[2016,1,"PEDAGOGIA - 30A","     13105","NOTURNO",2]
[2016,1,"CIÊNCIAS SOCIAIS - 31B","    313087","INTEGRAL",6]
[2016,1,"CIÊNCIAS SOCIAIS - 31L","     13087","INTEGRAL",1]
[2016,1,"PSICOLOGIA - 32A","     13113","INTEGRAL",69]
[2016,1,"ARQUITETURA E URBANISMO - 33A","     13114","INTEGRAL",42]
[2016,1,"DIREITO - 34A","     21860","NOTURNO",68]
[2016,1,"CIÊNCIA DA COMPUTAÇÃO - 35A","     18518","NOTURNO",2]
[2016,1,"ADMINISTRAÇÃO - 46A","     22451","NOTURNO",46]
[2016,1,"ENGENHARIA DE PRODUÇÃO - 49A","     38594","NOTURNO",34]
[2016,1,"CIÊNCIAS ECONÔMICAS - 51A","     13090","NOTURNO",63]
[2016,1,"MÚSICA - CANTO - 63A","    116490","INTEGRAL",4]
[2016,1,"MÚSICA - MODALIDADE FLAUTA TRANSVERSAL - 63B","    116490","INTEGRAL",1]
[2016,1,"MÚSICA - MODALIDADE FLAUTA TRANSVERSAL - 63B","    116491","INTEGRAL",1]
[2016,1,"MÚSICA - MODALIDADE PIANO - 63C","    116490","INTEGRAL",2]
[2016,1,"MÚSICA - MODALIDADE PIANO - 63C","    116492","INTEGRAL",2]
[2016,1,"MÚSICA - MODALIDADE VIOLÃO - 63D","    116490","INTEGRAL",1]
[2016,1,"MÚSICA - MODALIDADE VIOLÃO - 63D","    116493","INTEGRAL",1]
[2016,1,"MÚSICA - MODALIDADE COMPOSIÇÃO - 63G","    116490","INTEGRAL",4]
[2016,1,"MÚSICA - MODALIDADE COMPOSIÇÃO - 63G","   1271995","INTEGRAL",4]
[2016,1,"NUTRIÇÃO - 64A","    116498","INTEGRAL",64]
[2016,1,"CIÊNCIAS EXATAS - 65A","    116502","INTEGRAL",322]
[2016,1,"ENGENHARIA COMPUTACIONAL - 65B","   1120244","INTEGRAL",39]
[2016,1,"CIÊNCIA DA COMPUTAÇÃO - 65C","     65361","INTEGRAL",43]
[2016,1,"ESTATÍSTICA - 65D","    113531","INTEGRAL",32]
[2016,1,"FÍSICA - 65E","   5000613","INTEGRAL",38]
[2016,1,"FÍSICA - 65E","    313098","INTEGRAL",5]
[2016,1,"MATEMÁTICA - 65F","   5000618","INTEGRAL",41]
[2016,1,"MATEMÁTICA - 65F","    313102","INTEGRAL",4]
[2016,1,"MATEMÁTICA - 65FL","     13102","INTEGRAL",6]
[2016,1,"QUÍMICA - 65GB","   5000619","INTEGRAL",71]
[2016,1,"QUÍMICA - 65GB","   5000619","INTEGRAL",2]
[2016,1,"QUÍMICA - 65GB","    313106","INTEGRAL",17]
[2016,1,"QUÍMICA - 65GL","     13106","INTEGRAL",5]
[2016,1,"ENGENHARIA ELÉTRICA - HABILITAÇÃO EM ENERGIA - 65H","   1109475","NOTURNO",3]
[2016,1,"ENGENHARIA ELÉTRICA - HAB. EM ROBÓTICA E AUTOMAÇÃO INDUSTRIAL - 65I","   1109485","INTEGRAL",4]
[2016,1,"ENGENHARIA ELÉTRICA - HABILITAÇÃO EM SISTEMAS DE POTÊNCIA - 65J","   1109486","INTEGRAL",5]
[2016,1,"ENGENHARIA ELÉTRICA - HABILITAÇÃO EM SISTEMAS ELETRÔNICOS - 65K","   1109487","INTEGRAL",1]
[2016,1,"ENGENHARIA MECÂNICA - 65M","   1109489","INTEGRAL",8]
[2016,1,"BACHARELADO INTERDISCIPLINAR EM ARTES E DESIGN - 66A","    116500","INTEGRAL",154]
[2016,1,"BACHARELADO EM CINEMA E AUDIOVISUAL - 66B","   1153947","INTEGRAL",41]
[2016,1,"BACHARELADO EM ARTES VISUAIS - 66C","   1153948","INTEGRAL",17]
[2016,1,"BACHARELADO EM DESIGN - 66D","   1153949","INTEGRAL",54]
[2016,1,"BACHARELADO EM MODA - 66E","   1153950","INTEGRAL",22]
[2016,1,"LICENCIATURA EM ARTES VISUAIS - 66F","   1153951","NOTURNO",20]
[2016,1,"ENGENHARIA AMBIENTAL E SANITÁRIA - 67A","    116496","INTEGRAL",64]
[2016,1,"ENGENHARIA ELÉTRICA - HABILITAÇÃO EM SISTEMAS ELETRÔNICOS - 69A","   1109487","INTEGRAL",26]
[2016,1,"ENGENHARIA ELÉTRICA - HAB. EM ROBÓTICA E AUTOMAÇÃO INDUSTRIAL - 69B","   1109485","INTEGRAL",23]
[2016,1,"ENGENHARIA ELÉTRICA - HABILITAÇÃO EM SISTEMAS DE POTÊNCIA - 69C","   1109486","INTEGRAL",21]
[2016,1,"ENGENHARIA ELÉTRICA - HABILITAÇÃO EM TELECOMUNICAÇÕES - 69D","   1109488","INTEGRAL",26]
[2016,1,"ENGENHARIA ELÉTRICA - HABILITAÇÃO EM ENERGIA - 70A","   1109475","NOTURNO",50]
[2016,1,"ENGENHARIA MECÂNICA - 71A","   1109489","INTEGRAL",31]
[2016,1,"BACHARELADO INTERDISCIPLINAR EM CIÊNCIAS HUMANAS - 72A","   1120242","INTEGRAL",243]
[2016,1,"CIÊNCIA DA RELIGIÃO - 72B","   1165350","NOTURNO",2]
[2016,1,"CIÊNCIAS SOCIAIS - 72C","   5000609","INTEGRAL",3]
[2016,1,"CIÊNCIAS SOCIAIS - 72CB","    313087","INTEGRAL",2]
[2016,1,"CIÊNCIAS SOCIAIS - 72CL","     13087","INTEGRAL",1]
[2016,1,"TURISMO - 72D","     21589","INTEGRAL",3]
[2016,1,"FILOSOFIA - 72EB","   5000611","INTEGRAL",9]
[2016,1,"FILOSOFIA - 72EB","    313097","DIURNO",3]
[2016,1,"FILOSOFIA - 72EL","     13097","INTEGRAL",2]
[2016,1,"CIÊNCIA DA RELIGIÃO - 73B","   1165350","NOTURNO",11]
[2016,1,"CIÊNCIA DA RELIGIÃO - 73BL","   1165686","NOTURNO",14]
[2016,1,"CIÊNCIAS SOCIAIS - 73C","   5000609","NOTURNO",25]
[2016,1,"CIÊNCIAS SOCIAIS - 73CB","    313087","NOTURNO",37]
[2016,1,"CIÊNCIAS SOCIAIS - 73CL","     13087","NOTURNO",15]
[2016,1,"TURISMO - 73D","     21589","NOTURNO",16]
[2016,1,"FILOSOFIA - 73E","   5000611","NOTURNO",2]
[2016,1,"SISTEMAS DE INFORMAÇÃO - 76A","   1128364","NOTURNO",1]
[2016,1,"CIÊNCIAS CONTÁBEIS - 77A","   1132074","INTEGRAL",46]
[2016,1,"CIÊNCIAS CONTÁBEIS - 78A","   1132074","NOTURNO",45]
[2016,1,"FÍSICA - 81A","   1166037","NOTURNO",3]
[2016,1,"MATEMÁTICA - 82A","   1166038","NOTURNO",4]
[2016,1,"QUÍMICA - 83A","   1166039","NOTURNO",1]
[2016,1,"JORNALISMO - 84A","     27657","INTEGRAL",36]
[2016,1,"JORNALISMO - 85A","     36356","NOTURNO",54]
[2016,1,"MEDICINA VETERINÁRIA - 87A","   1268972","INTEGRAL",52]
[2016,1,"LICENCIATURA EM MÚSICA - 89A","   1278855","INTEGRAL",3]
[2016,1,"LICENCIATURA EM MÚSICA - 89A","   1278855","INTEGRAL",2]
[2016,1,"LICENCIATURA EM MÚSICA - 89A","   1278855","INTEGRAL",1]
[2016,1,"LICENCIATURA EM MÚSICA - 89A","   1278855","INTEGRAL",1]
[2016,1,"LICENCIATURA EM MÚSICA - 89A","   1278855","INTEGRAL",3]
[2016,1,"LICENCIATURA EM MÚSICA - 89A","   1278855","INTEGRAL",4]
[2016,1,"LICENCIATURA EM MÚSICA - 89A","   1278855","INTEGRAL",1]
[2016,2,"ABI - CIÊNCIAS BIOLÓGICAS - 01ABI","   5000608","INTEGRAL",15]
[2016,2,"CIÊNCIAS BIOLÓGICAS - 01B","    313086","INTEGRAL",17]
[2016,2,"ADMINISTRAÇÃO - 01GV","   1178684","INTEGRAL",68]
[2016,2,"CIÊNCIAS BIOLÓGICAS - 01L","     13086","INTEGRAL",11]
[2016,2,"CIÊNCIAS CONTÁBEIS - 02GV","   1183351","INTEGRAL",4]
[2016,2,"CIÊNCIAS ECONÔMICAS - 03GV","   1178683","INTEGRAL",41]
[2016,2,"DIREITO - 04A","     13089","INTEGRAL",65]
[2016,2,"DIREITO - 04GV","   1178675","INTEGRAL",70]
[2016,2,"FARMÁCIA - 05GV","   1185503","INTEGRAL",54]
[2016,2,"FISIOTERAPIA - 06GV","   1178689","INTEGRAL",54]
[2016,2,"FARMÁCIA - 07A","     38509","INTEGRAL",62]
[2016,2,"MEDICINA - 07GV","   5001167","INTEGRAL",62]
[2016,2,"FILOSOFIA - 08A","   5000611","INTEGRAL",1]
[2016,2,"ABI - FILOSOFIA - 08ABI","   5000611","INTEGRAL",5]
[2016,2,"FILOSOFIA - 08B","    313097","INTEGRAL",5]
[2016,2,"NUTRIÇÃO - 08GV","   1178688","INTEGRAL",70]
[2016,2,"FILOSOFIA - 08L","     13097","INTEGRAL",1]
[2016,2,"ODONTOLOGIA - 09GV","   5001168","INTEGRAL",58]
[2016,2,"EDUCAÇÃO FÍSICA - 10GV","   1270439","INTEGRAL",69]
[2016,2,"ABI - HISTÓRIA - 11ABI","   5000616","INTEGRAL",3]
[2016,2,"HISTÓRIA - 11B","    313100","INTEGRAL",1]
[2016,2,"HISTÓRIA - 11L","     13100","INTEGRAL",2]
[2016,2,"LETRAS - 13B","    313101","INTEGRAL",8]
[2016,2,"LETRAS - 13B","    313101","INTEGRAL",1]
[2016,2,"LETRAS - 13B","    313101","INTEGRAL",2]
[2016,2,"LETRAS - 13L","     13101","INTEGRAL",1]
[2016,2,"LETRAS - 13L","     13101","INTEGRAL",2]
[2016,2,"MEDICINA - 15A","     13103","INTEGRAL",109]
[2016,2,"ODONTOLOGIA - 16A","     13104","INTEGRAL",66]
[2016,2,"PEDAGOGIA - 17A","     13105","MATUTINO",3]
[2016,2,"SERVIÇO SOCIAL - 19A","     13107","MATUTINO",1]
[2016,2,"FISIOTERAPIA - 20A","     13118","INTEGRAL",27]
[2016,2,"EDUCAÇÃO FÍSICA - 21B","   5000610","INTEGRAL",44]
[2016,2,"EDUCAÇÃO FÍSICA - 21B","    313092","INTEGRAL",9]
[2016,2,"EDUCAÇÃO FÍSICA - 21L","     13092","INTEGRAL",8]
[2016,2,"ENFERMAGEM - 23A","     38994","INTEGRAL",59]
[2016,2,"ENGENHARIA CIVIL - 24A","     13094","INTEGRAL",64]
[2016,2,"ABI - HISTÓRIA - 28ABI","   5000616","NOTURNO",32]
[2016,2,"HISTÓRIA - 28B","    313100","NOTURNO",14]
[2016,2,"HISTÓRIA - 28L","     13100","NOTURNO",26]
[2016,2,"ABI - LETRAS - 29ABI","   5000617","NOTURNO",35]
[2016,2,"LETRAS - 29L","     13101","NOTURNO",7]
[2016,2,"LETRAS - 29L","     13101","NOTURNO",17]
[2016,2,"PEDAGOGIA - 30A","     13105","NOTURNO",60]
[2016,2,"ARQUITETURA E URBANISMO - 33A","     13114","INTEGRAL",45]
[2016,2,"DIREITO - 34A","     21860","NOTURNO",62]
[2016,2,"CIÊNCIA DA COMPUTAÇÃO - 35A","     18518","NOTURNO",55]
[2016,2,"ADMINISTRAÇÃO - 46A","     22451","NOTURNO",2]
[2016,2,"ENGENHARIA DE PRODUÇÃO - 49A","     38594","NOTURNO",33]
[2016,2,"CIÊNCIAS ECONÔMICAS - 51A","     13090","NOTURNO",6]
[2016,2,"MÚSICA - MODALIDADE PIANO - 63C","    116490","INTEGRAL",1]
[2016,2,"MÚSICA - MODALIDADE PIANO - 63C","    116492","INTEGRAL",1]
[2016,2,"NUTRIÇÃO - 64A","    116498","INTEGRAL",69]
[2016,2,"ENGENHARIA COMPUTACIONAL - 65B","   1120244","INTEGRAL",2]
[2016,2,"CIÊNCIA DA COMPUTAÇÃO - 65C","     65361","INTEGRAL",4]
[2016,2,"ESTATÍSTICA - 65D","    113531","INTEGRAL",4]
[2016,2,"FÍSICA - 65E","   5000613","INTEGRAL",1]
[2016,2,"FÍSICA - 65E","    313098","INTEGRAL",1]
[2016,2,"FÍSICA - 65EL","     13098","INTEGRAL",1]
[2016,2,"MATEMÁTICA - 65F","   5000618","INTEGRAL",5]
[2016,2,"MATEMÁTICA - 65F","    313102","INTEGRAL",1]
[2016,2,"QUÍMICA - 65GB","   5000619","INTEGRAL",3]
[2016,2,"QUÍMICA - 65GB","   5000619","INTEGRAL",1]
[2016,2,"QUÍMICA - 65GL","     13106","INTEGRAL",2]
[2016,2,"BACHARELADO INTERDISCIPLINAR EM ARTES E DESIGN - 66A","    116500","INTEGRAL",149]
[2016,2,"BACHARELADO EM CINEMA E AUDIOVISUAL - 66B","   1153947","INTEGRAL",13]
[2016,2,"BACHARELADO EM ARTES VISUAIS - 66C","   1153948","INTEGRAL",14]
[2016,2,"BACHARELADO EM DESIGN - 66D","   1153949","INTEGRAL",15]
[2016,2,"BACHARELADO EM MODA - 66E","   1153950","INTEGRAL",8]
[2016,2,"LICENCIATURA EM ARTES VISUAIS - 66F","   1153951","NOTURNO",9]
[2016,2,"ENGENHARIA AMBIENTAL E SANITÁRIA - 67A","    116496","INTEGRAL",1]
[2016,2,"SERVIÇO SOCIAL - 68A","     13107","NOTURNO",51]
[2016,2,"ENGENHARIA ELÉTRICA - HABILITAÇÃO EM SISTEMAS ELETRÔNICOS - 69A","   1109487","INTEGRAL",27]
[2016,2,"ENGENHARIA ELÉTRICA - HAB. EM ROBÓTICA E AUTOMAÇÃO INDUSTRIAL - 69B","   1109485","INTEGRAL",29]
[2016,2,"ENGENHARIA ELÉTRICA - HABILITAÇÃO EM SISTEMAS DE POTÊNCIA - 69C","   1109486","INTEGRAL",35]
[2016,2,"ENGENHARIA ELÉTRICA - HABILITAÇÃO EM TELECOMUNICAÇÕES - 69D","   1109488","INTEGRAL",30]
[2016,2,"ENGENHARIA ELÉTRICA - HABILITAÇÃO EM ENERGIA - 70A","   1109475","NOTURNO",1]
[2016,2,"ENGENHARIA MECÂNICA - 71A","   1109489","INTEGRAL",29]
[2016,2,"BACHARELADO INTERDISCIPLINAR EM CIÊNCIAS HUMANAS - 72A","   1120242","INTEGRAL",8]
[2016,2,"TURISMO - 72D","     21589","INTEGRAL",1]
[2016,2,"FILOSOFIA - 72EB","   5000611","INTEGRAL",5]
[2016,2,"FILOSOFIA - 72EL","     13097","INTEGRAL",5]
[2016,2,"BACHARELADO INTERDISCIPLINAR EM CIÊNCIAS HUMANAS - 73A","   1120242","NOTURNO",231]
[2016,2,"CIÊNCIA DA RELIGIÃO - 73B","   1165350","NOTURNO",7]
[2016,2,"CIÊNCIA DA RELIGIÃO - 73BL","   1165686","NOTURNO",11]
[2016,2,"CIÊNCIAS SOCIAIS - 73C","   5000609","NOTURNO",27]
[2016,2,"CIÊNCIAS SOCIAIS - 73CB","    313087","NOTURNO",5]
[2016,2,"CIÊNCIAS SOCIAIS - 73CL","     13087","NOTURNO",5]
[2016,2,"TURISMO - 73D","     21589","NOTURNO",8]
[2016,2,"SISTEMAS DE INFORMAÇÃO - 76A","   1128364","NOTURNO",56]
[2016,2,"CIÊNCIAS CONTÁBEIS - 77A","   1132074","INTEGRAL",1]
[2016,2,"CIÊNCIAS CONTÁBEIS - 78A","   1132074","NOTURNO",1]
[2016,2,"FÍSICA - 81A","   1166037","NOTURNO",36]
[2016,2,"MATEMÁTICA - 82A","   1166038","NOTURNO",39]
[2016,2,"QUÍMICA - 83A","   1166039","NOTURNO",38]
[2016,2,"JORNALISMO - 84A","     27657","INTEGRAL",45]
[2016,2,"MEDICINA VETERINÁRIA - 87A","   1268972","INTEGRAL",62]
[2016,2,"LICENCIATURA EM LETRAS - LIBRAS - 88A","   1268983","NOTURNO",49]
[2016,2,"LICENCIATURA EM MÚSICA - 89A","   1278855","INTEGRAL",1]
[2016,2,"LICENCIATURA EM MÚSICA - 89A","   1278855","INTEGRAL",1]
[2017,1,"ABI - CIÊNCIAS BIOLÓGICAS - 01ABI","   5000608","INTEGRAL",11]
[2017,1,"CIÊNCIAS BIOLÓGICAS - 01B","    313086","INTEGRAL",18]
[2017,1,"ADMINISTRAÇÃO - 01GV","   1178684","INTEGRAL",54]
[2017,1,"CIÊNCIAS BIOLÓGICAS - 01L","     13086","INTEGRAL",13]
[2017,1,"CIÊNCIAS CONTÁBEIS - 02GV","   1183351","INTEGRAL",58]
[2017,1,"CIÊNCIAS ECONÔMICAS - 03GV","   1178683","INTEGRAL",57]
[2017,1,"DIREITO - 04A","     13089","INTEGRAL",58]
[2017,1,"DIREITO - 04GV","   1178675","INTEGRAL",69]
[2017,1,"CIÊNCIAS ECONÔMICAS - 05A","     13090","INTEGRAL",64]
[2017,1,"FARMÁCIA - 05GV","   1185503","INTEGRAL",41]
[2017,1,"FISIOTERAPIA - 06GV","   1178689","INTEGRAL",36]
[2017,1,"FARMÁCIA - 07A","     38509","INTEGRAL",57]
[2017,1,"MEDICINA - 07GV","   5001167","INTEGRAL",64]
[2017,1,"ABI - FILOSOFIA - 08ABI","   5000611","INTEGRAL",14]
[2017,1,"FILOSOFIA - 08B","    313097","INTEGRAL",8]
[2017,1,"NUTRIÇÃO - 08GV","   1178688","INTEGRAL",44]
[2017,1,"FILOSOFIA - 08L","     13097","INTEGRAL",16]
[2017,1,"ODONTOLOGIA - 09GV","   5001168","INTEGRAL",49]
[2017,1,"ABI - GEOGRAFIA - 10ABI","   5000615","INTEGRAL",19]
[2017,1,"GEOGRAFIA - 10B","    313099","INTEGRAL",16]
[2017,1,"EDUCAÇÃO FÍSICA - 10GV","   1270439","INTEGRAL",36]
[2017,1,"GEOGRAFIA - 10L","     13099","INTEGRAL",22]
[2017,1,"ABI - HISTÓRIA - 11ABI","   5000616","INTEGRAL",24]
[2017,1,"HISTÓRIA - 11B","    313100","INTEGRAL",16]
[2017,1,"HISTÓRIA - 11L","     13100","INTEGRAL",30]
[2017,1,"ABI - LETRAS - 13ABI","   5000617","INTEGRAL",18]
[2017,1,"LETRAS - 13B","    313101","INTEGRAL",15]
[2017,1,"LETRAS - 13B","    313101","INTEGRAL",4]
[2017,1,"LETRAS - 13L","     13101","INTEGRAL",1]
[2017,1,"LETRAS - 13L","     13101","INTEGRAL",3]
[2017,1,"LETRAS - 13L","     13101","INTEGRAL",1]
[2017,1,"LETRAS - 13L","     13101","INTEGRAL",19]
[2017,1,"LETRAS - 13L","     13101","INTEGRAL",5]
[2017,1,"LETRAS - 13L","     13101","INTEGRAL",2]
[2017,1,"LETRAS - 13L","     13101","INTEGRAL",1]
[2017,1,"MEDICINA - 15A","     13103","INTEGRAL",112]
[2017,1,"ODONTOLOGIA - 16A","     13104","INTEGRAL",60]
[2017,1,"PEDAGOGIA - 17A","     13105","MATUTINO",53]
[2017,1,"SERVIÇO SOCIAL - 19A","     13107","MATUTINO",38]
[2017,1,"FISIOTERAPIA - 20A","     13118","INTEGRAL",24]
[2017,1,"ABI - EDUCAÇÃO FÍSICA - 21ABI","   5000610","INTEGRAL",43]
[2017,1,"EDUCAÇÃO FÍSICA - 21B","    313092","INTEGRAL",10]
[2017,1,"EDUCAÇÃO FÍSICA - 21L","     13092","INTEGRAL",7]
[2017,1,"ENFERMAGEM - 23A","     38994","INTEGRAL",47]
[2017,1,"ENGENHARIA CIVIL - 24A","     13094","INTEGRAL",56]
[2017,1,"ADMINISTRAÇÃO - 26A","     22451","INTEGRAL",46]
[2017,1,"GEOGRAFIA - 27A","   5000615","NOTURNO",1]
[2017,1,"ABI - GEOGRAFIA - 27ABI","   5000615","NOTURNO",25]
[2017,1,"GEOGRAFIA - 27L","     13099","NOTURNO",26]
[2017,1,"HISTÓRIA - 28B","    313100","NOTURNO",1]
[2017,1,"HISTÓRIA - 28L","     13100","NOTURNO",1]
[2017,1,"ABI - LETRAS - 29ABI","   5000617","NOTURNO",6]
[2017,1,"LETRAS - 29L","     13101","NOTURNO",1]
[2017,1,"PEDAGOGIA - 30A","     13105","NOTURNO",13]
[2017,1,"PSICOLOGIA - 32A","     13113","INTEGRAL",58]
[2017,1,"ARQUITETURA E URBANISMO - 33A","     13114","INTEGRAL",46]
[2017,1,"DIREITO - 34A","     21860","NOTURNO",68]
[2017,1,"CIÊNCIA DA COMPUTAÇÃO - 35A","     18518","NOTURNO",2]
[2017,1,"ADMINISTRAÇÃO - 46A","     22451","NOTURNO",47]
[2017,1,"ENGENHARIA DE PRODUÇÃO - 49A","     38594","NOTURNO",36]
[2017,1,"CIÊNCIAS ECONÔMICAS - 51A","     13090","NOTURNO",57]
[2017,1,"MÚSICA - CANTO - 63A","    116490","INTEGRAL",2]
[2017,1,"MÚSICA - MODALIDADE FLAUTA TRANSVERSAL - 63B","    116490","INTEGRAL",2]
[2017,1,"MÚSICA - MODALIDADE FLAUTA TRANSVERSAL - 63B","    116491","INTEGRAL",2]
[2017,1,"MÚSICA - MODALIDADE PIANO - 63C","    116490","INTEGRAL",1]
[2017,1,"MÚSICA - MODALIDADE PIANO - 63C","    116492","INTEGRAL",1]
[2017,1,"MÚSICA - MODALIDADE VIOLÃO - 63D","    116490","INTEGRAL",2]
[2017,1,"MÚSICA - MODALIDADE VIOLÃO - 63D","    116493","INTEGRAL",2]
[2017,1,"MÚSICA - MODALIDADE VIOLONCELO - 63F","    116490","INTEGRAL",1]
[2017,1,"MÚSICA - MODALIDADE VIOLONCELO - 63F","    116495","INTEGRAL",1]
[2017,1,"MÚSICA - MODALIDADE COMPOSIÇÃO - 63G","    116490","INTEGRAL",8]
[2017,1,"MÚSICA - MODALIDADE COMPOSIÇÃO - 63G","   1271995","INTEGRAL",8]
[2017,1,"NUTRIÇÃO - 64A","    116498","INTEGRAL",67]
[2017,1,"CIÊNCIAS EXATAS - 65A","    116502","INTEGRAL",293]
[2017,1,"ENGENHARIA COMPUTACIONAL - 65B","   1120244","INTEGRAL",29]
[2017,1,"CIÊNCIA DA COMPUTAÇÃO - 65C","     65361","INTEGRAL",27]
[2017,1,"ESTATÍSTICA - 65D","    113531","INTEGRAL",28]
[2017,1,"FÍSICA - 65E","   5000613","INTEGRAL",34]
[2017,1,"FÍSICA - 65E","    313098","INTEGRAL",1]
[2017,1,"FÍSICA - 65EL","     13098","INTEGRAL",1]
[2017,1,"MATEMÁTICA - 65F","   5000618","INTEGRAL",22]
[2017,1,"MATEMÁTICA - 65FL","     13102","INTEGRAL",3]
[2017,1,"QUÍMICA - 65GB","   5000619","INTEGRAL",30]
[2017,1,"QUÍMICA - 65GB","   5000619","INTEGRAL",6]
[2017,1,"QUÍMICA - 65GB","    313106","INTEGRAL",12]
[2017,1,"QUÍMICA - 65GL","     13106","INTEGRAL",12]
[2017,1,"ENGENHARIA ELÉTRICA - HABILITAÇÃO EM ENERGIA - 65H","   1109475","NOTURNO",1]
[2017,1,"ENGENHARIA ELÉTRICA - HAB. EM ROBÓTICA E AUTOMAÇÃO INDUSTRIAL - 65I","   1109485","INTEGRAL",3]
[2017,1,"ENGENHARIA ELÉTRICA - HABILITAÇÃO EM SISTEMAS DE POTÊNCIA - 65J","   1109486","INTEGRAL",4]
[2017,1,"ENGENHARIA MECÂNICA - 65M","   1109489","INTEGRAL",8]
[2017,1,"BACHARELADO INTERDISCIPLINAR EM ARTES E DESIGN - 66A","    116500","INTEGRAL",142]
[2017,1,"BACHARELADO EM CINEMA E AUDIOVISUAL - 66B","   1153947","INTEGRAL",21]
[2017,1,"BACHARELADO EM ARTES VISUAIS - 66C","   1153948","INTEGRAL",5]
[2017,1,"BACHARELADO EM DESIGN - 66D","   1153949","INTEGRAL",21]
[2017,1,"BACHARELADO EM MODA - 66E","   1153950","INTEGRAL",17]
[2017,1,"LICENCIATURA EM ARTES VISUAIS - 66F","   1153951","NOTURNO",6]
[2017,1,"ENGENHARIA AMBIENTAL E SANITÁRIA - 67A","    116496","INTEGRAL",57]
[2017,1,"SERVIÇO SOCIAL - 68A","     13107","NOTURNO",5]
[2017,1,"ENGENHARIA ELÉTRICA - HABILITAÇÃO EM SISTEMAS ELETRÔNICOS - 69A","   1109487","INTEGRAL",21]
[2017,1,"ENGENHARIA ELÉTRICA - HAB. EM ROBÓTICA E AUTOMAÇÃO INDUSTRIAL - 69B","   1109485","INTEGRAL",21]
[2017,1,"ENGENHARIA ELÉTRICA - HABILITAÇÃO EM SISTEMAS DE POTÊNCIA - 69C","   1109486","INTEGRAL",25]
[2017,1,"ENGENHARIA ELÉTRICA - HABILITAÇÃO EM TELECOMUNICAÇÕES - 69D","   1109488","INTEGRAL",23]
[2017,1,"ENGENHARIA ELÉTRICA - HABILITAÇÃO EM ENERGIA - 70A","   1109475","NOTURNO",53]
[2017,1,"ENGENHARIA MECÂNICA - 71A","   1109489","INTEGRAL",28]
[2017,1,"BACHARELADO INTERDISCIPLINAR EM CIÊNCIAS HUMANAS - 72A","   1120242","INTEGRAL",177]
[2017,1,"TURISMO - 72D","     21589","INTEGRAL",2]
[2017,1,"FILOSOFIA - 72EB","   5000611","INTEGRAL",4]
[2017,1,"FILOSOFIA - 72EB","    313097","DIURNO",2]
[2017,1,"BACHARELADO INTERDISCIPLINAR EM CIÊNCIAS HUMANAS - 73A","   1120242","NOTURNO",18]
[2017,1,"CIÊNCIA DA RELIGIÃO - 73B","   1165350","NOTURNO",18]
[2017,1,"CIÊNCIA DA RELIGIÃO - 73BL","   1165686","NOTURNO",20]
[2017,1,"CIÊNCIAS SOCIAIS - 73C","   5000609","NOTURNO",29]
[2017,1,"CIÊNCIAS SOCIAIS - 73CB","    313087","NOTURNO",8]
[2017,1,"CIÊNCIAS SOCIAIS - 73CL","     13087","NOTURNO",1]
[2017,1,"CIÊNCIAS CONTÁBEIS - 77A","   1132074","INTEGRAL",44]
[2017,1,"CIÊNCIAS CONTÁBEIS - 78A","   1132074","NOTURNO",40]
[2017,1,"FÍSICA - 81A","   1166037","NOTURNO",8]
[2017,1,"MATEMÁTICA - 82A","   1166038","NOTURNO",12]
[2017,1,"QUÍMICA - 83A","   1166039","NOTURNO",6]
[2017,1,"JORNALISMO - 85A","     36356","NOTURNO",47]
[2017,1,"MEDICINA VETERINÁRIA - 87A","   1268972","INTEGRAL",59]
[2017,1,"LICENCIATURA EM MÚSICA - 89A","   1278855","INTEGRAL",5]
[2017,1,"LICENCIATURA EM MÚSICA - 89A","   1278855","INTEGRAL",1]
[2017,1,"LICENCIATURA EM MÚSICA - 89A","   1278855","INTEGRAL",1]
[2017,1,"LICENCIATURA EM MÚSICA - 89A","   1278855","INTEGRAL",1]
[2017,1,"LICENCIATURA EM MÚSICA - 89A","   1278855","INTEGRAL",1]
[2017,1,"LICENCIATURA EM MÚSICA - 89A","   1278855","INTEGRAL",1]
[2017,1,"LICENCIATURA EM MÚSICA - 89A","   1278855","INTEGRAL",1]
[2017,1,"LICENCIATURA EM MÚSICA - 89A","   1278855","INTEGRAL",9]
[2017,1,"RÁDIO, TV E INTERNET - 91A","   1374873","INTEGRAL",35]
[2017,1,"TURISMO - 92A","     21589","INTEGRAL",37]
[2017,2,"ABI - CIÊNCIAS BIOLÓGICAS - 01ABI","   5000608","INTEGRAL",7]
[2017,2,"CIÊNCIAS BIOLÓGICAS - 01B","    313086","INTEGRAL",22]
[2017,2,"ADMINISTRAÇÃO - 01GV","   1178684","INTEGRAL",47]
[2017,2,"CIÊNCIAS BIOLÓGICAS - 01L","     13086","INTEGRAL",10]
[2017,2,"CIÊNCIAS ECONÔMICAS - 03GV","   1178683","INTEGRAL",47]
[2017,2,"DIREITO - 04A","     13089","INTEGRAL",61]
[2017,2,"DIREITO - 04GV","   1178675","INTEGRAL",60]
[2017,2,"CIÊNCIAS ECONÔMICAS - 05A","     13090","INTEGRAL",1]
[2017,2,"FARMÁCIA - 05GV","   1185503","INTEGRAL",37]
[2017,2,"FISIOTERAPIA - 06GV","   1178689","INTEGRAL",30]
[2017,2,"FARMÁCIA - 07A","     38509","INTEGRAL",54]
[2017,2,"MEDICINA - 07GV","   5001167","INTEGRAL",59]
[2017,2,"ABI - FILOSOFIA - 08ABI","   5000611","INTEGRAL",2]
[2017,2,"FILOSOFIA - 08B","    313097","INTEGRAL",2]
[2017,2,"NUTRIÇÃO - 08GV","   1178688","INTEGRAL",40]
[2017,2,"FILOSOFIA - 08L","     13097","INTEGRAL",1]
[2017,2,"ODONTOLOGIA - 09GV","   5001168","INTEGRAL",46]
[2017,2,"EDUCAÇÃO FÍSICA - 10GV","   1270439","INTEGRAL",38]
[2017,2,"ABI - HISTÓRIA - 11ABI","   5000616","INTEGRAL",2]
[2017,2,"HISTÓRIA - 11B","    313100","INTEGRAL",2]
[2017,2,"LETRAS - 13B","    313101","INTEGRAL",1]
[2017,2,"LETRAS - 13B","    313101","INTEGRAL",3]
[2017,2,"LETRAS - 13L","     13101","INTEGRAL",1]
[2017,2,"LETRAS - 13L","     13101","INTEGRAL",1]
[2017,2,"LETRAS - 13L","     13101","INTEGRAL",2]
[2017,2,"LETRAS - 13L","     13101","INTEGRAL",2]
[2017,2,"LETRAS - 13L","     13101","INTEGRAL",1]
[2017,2,"LETRAS - 13L","     13101","INTEGRAL",3]
[2017,2,"MEDICINA - 15A","     13103","INTEGRAL",103]
[2017,2,"ODONTOLOGIA - 16A","     13104","INTEGRAL",62]
[2017,2,"PEDAGOGIA - 17A","     13105","MATUTINO",2]
[2017,2,"SERVIÇO SOCIAL - 19A","     13107","MATUTINO",1]
[2017,2,"FISIOTERAPIA - 20A","     13118","INTEGRAL",27]
[2017,2,"ABI - EDUCAÇÃO FÍSICA - 21ABI","   5000610","INTEGRAL",45]
[2017,2,"ENFERMAGEM - 23A","     38994","INTEGRAL",43]
[2017,2,"ENGENHARIA CIVIL - 24A","     13094","INTEGRAL",62]
[2017,2,"ADMINISTRAÇÃO - 26A","     22451","INTEGRAL",1]
[2017,2,"ABI - HISTÓRIA - 28ABI","   5000616","NOTURNO",20]
[2017,2,"HISTÓRIA - 28B","    313100","NOTURNO",6]
[2017,2,"HISTÓRIA - 28L","     13100","NOTURNO",23]
[2017,2,"ABI - LETRAS - 29ABI","   5000617","NOTURNO",45]
[2017,2,"LETRAS - 29L","     13101","NOTURNO",2]
[2017,2,"LETRAS - 29L","     13101","NOTURNO",1]
[2017,2,"PEDAGOGIA - 30A","     13105","NOTURNO",42]
[2017,2,"PSICOLOGIA - 32A","     13113","INTEGRAL",1]
[2017,2,"ARQUITETURA E URBANISMO - 33A","     13114","INTEGRAL",42]
[2017,2,"DIREITO - 34A","     21860","NOTURNO",61]
[2017,2,"CIÊNCIA DA COMPUTAÇÃO - 35A","     18518","NOTURNO",45]
[2017,2,"ADMINISTRAÇÃO - 46A","     22451","NOTURNO",2]
[2017,2,"ENGENHARIA DE PRODUÇÃO - 49A","     38594","NOTURNO",34]
[2017,2,"CIÊNCIAS ECONÔMICAS - 51A","     13090","NOTURNO",5]
[2017,2,"NUTRIÇÃO - 64A","    116498","INTEGRAL",61]
[2017,2,"CIÊNCIAS EXATAS - 65A","    116502","INTEGRAL",1]
[2017,2,"ENGENHARIA COMPUTACIONAL - 65B","   1120244","INTEGRAL",7]
[2017,2,"ESTATÍSTICA - 65D","    113531","INTEGRAL",2]
[2017,2,"FÍSICA - 65E","   5000613","INTEGRAL",5]
[2017,2,"FÍSICA - 65E","    313098","INTEGRAL",1]
[2017,2,"MATEMÁTICA - 65F","   5000618","INTEGRAL",1]
[2017,2,"MATEMÁTICA - 65FL","     13102","INTEGRAL",1]
[2017,2,"QUÍMICA - 65GB","    313106","INTEGRAL",1]
[2017,2,"QUÍMICA - 65GL","     13106","INTEGRAL",2]
[2017,2,"BACHARELADO INTERDISCIPLINAR EM ARTES E DESIGN - 66A","    116500","INTEGRAL",138]
[2017,2,"BACHARELADO EM CINEMA E AUDIOVISUAL - 66B","   1153947","INTEGRAL",13]
[2017,2,"BACHARELADO EM ARTES VISUAIS - 66C","   1153948","INTEGRAL",9]
[2017,2,"BACHARELADO EM DESIGN - 66D","   1153949","INTEGRAL",13]
[2017,2,"BACHARELADO EM MODA - 66E","   1153950","INTEGRAL",7]
[2017,2,"LICENCIATURA EM ARTES VISUAIS - 66F","   1153951","NOTURNO",5]
[2017,2,"SERVIÇO SOCIAL - 68A","     13107","NOTURNO",41]
[2017,2,"ENGENHARIA ELÉTRICA - HABILITAÇÃO EM SISTEMAS ELETRÔNICOS - 69A","   1109487","INTEGRAL",26]
[2017,2,"ENGENHARIA ELÉTRICA - HAB. EM ROBÓTICA E AUTOMAÇÃO INDUSTRIAL - 69B","   1109485","INTEGRAL",22]
[2017,2,"ENGENHARIA ELÉTRICA - HABILITAÇÃO EM SISTEMAS DE POTÊNCIA - 69C","   1109486","INTEGRAL",22]
[2017,2,"ENGENHARIA ELÉTRICA - HABILITAÇÃO EM TELECOMUNICAÇÕES - 69D","   1109488","INTEGRAL",24]
[2017,2,"ENGENHARIA ELÉTRICA - HABILITAÇÃO EM ENERGIA - 70A","   1109475","NOTURNO",3]
[2017,2,"ENGENHARIA MECÂNICA - 71A","   1109489","INTEGRAL",31]
[2017,2,"FILOSOFIA - 72EB","   5000611","INTEGRAL",1]
[2017,2,"FILOSOFIA - 72EB","    313097","DIURNO",1]
[2017,2,"BACHARELADO INTERDISCIPLINAR EM CIÊNCIAS HUMANAS - 73A","   1120242","NOTURNO",173]
[2017,2,"CIÊNCIA DA RELIGIÃO - 73B","   1165350","NOTURNO",20]
[2017,2,"CIÊNCIA DA RELIGIÃO - 73BL","   1165686","NOTURNO",31]
[2017,2,"CIÊNCIAS SOCIAIS - 73C","   5000609","NOTURNO",23]
[2017,2,"TURISMO - 73D","     21589","NOTURNO",3]
[2017,2,"SISTEMAS DE INFORMAÇÃO - 76A","   1128364","NOTURNO",45]
[2017,2,"CIÊNCIAS CONTÁBEIS - 78A","   1132074","NOTURNO",1]
[2017,2,"FÍSICA - 81A","   1166037","NOTURNO",31]
[2017,2,"MATEMÁTICA - 82A","   1166038","NOTURNO",28]
[2017,2,"QUÍMICA - 83A","   1166039","NOTURNO",24]
[2017,2,"JORNALISMO - 84A","     27657","INTEGRAL",41]
[2017,2,"JORNALISMO - 85A","     36356","NOTURNO",2]
[2017,2,"MEDICINA VETERINÁRIA - 87A","   1268972","INTEGRAL",50]
[2017,2,"LICENCIATURA EM LETRAS - LIBRAS - 88A","   1268983","NOTURNO",26]
[2017,2,"TURISMO - 93A","     21589","NOTURNO",42]
[2017,2,"BACHARELADO EM CINEMA E AUDIOVISUAL - 66B","   1153947","INTEGRAL",1]
[2018,1,"ABI - CIÊNCIAS BIOLÓGICAS - 01ABI","   5000608","INTEGRAL",11]
[2018,1,"CIÊNCIAS BIOLÓGICAS - 01B","    313086","INTEGRAL",17]
[2018,1,"ADMINISTRAÇÃO - 01GV","   1178684","INTEGRAL",33]
[2018,1,"CIÊNCIAS BIOLÓGICAS - 01L","     13086","INTEGRAL",10]
[2018,1,"CIÊNCIAS CONTÁBEIS - 02GV","   1183351","INTEGRAL",35]
[2018,1,"CIÊNCIAS ECONÔMICAS - 03GV","   1178683","INTEGRAL",44]
[2018,1,"DIREITO - 04A","     13089","INTEGRAL",55]
[2018,1,"DIREITO - 04GV","   1178675","INTEGRAL",52]
[2018,1,"CIÊNCIAS ECONÔMICAS - 05A","     13090","INTEGRAL",53]
[2018,1,"FARMÁCIA - 05GV","   1185503","INTEGRAL",34]
[2018,1,"FISIOTERAPIA - 06GV","   1178689","INTEGRAL",27]
[2018,1,"FARMÁCIA - 07A","     38509","INTEGRAL",57]
[2018,1,"MEDICINA - 07GV","   5001167","INTEGRAL",56]
[2018,1,"ABI - FILOSOFIA - 08ABI","   5000611","INTEGRAL",25]
[2018,1,"FILOSOFIA - 08B","    313097","INTEGRAL",9]
[2018,1,"NUTRIÇÃO - 08GV","   1178688","INTEGRAL",30]
[2018,1,"FILOSOFIA - 08L","     13097","INTEGRAL",12]
[2018,1,"ODONTOLOGIA - 09GV","   5001168","INTEGRAL",44]
[2018,1,"ABI - GEOGRAFIA - 10ABI","   5000615","INTEGRAL",15]
[2018,1,"GEOGRAFIA - 10B","    313099","INTEGRAL",16]
[2018,1,"EDUCAÇÃO FÍSICA - 10GV","   1270439","INTEGRAL",17]
[2018,1,"GEOGRAFIA - 10L","     13099","INTEGRAL",20]
[2018,1,"ABI - HISTÓRIA - 11ABI","   5000616","INTEGRAL",19]
[2018,1,"HISTÓRIA - 11B","    313100","INTEGRAL",9]
[2018,1,"HISTÓRIA - 11L","     13100","INTEGRAL",30]
[2018,1,"ABI - LETRAS - 13ABI","   5000617","INTEGRAL",16]
[2018,1,"LETRAS - 13B","    313101","INTEGRAL",1]
[2018,1,"LETRAS - 13B","    313101","INTEGRAL",2]
[2018,1,"LETRAS - 13B","    313101","INTEGRAL",6]
[2018,1,"LETRAS - 13L","     13101","INTEGRAL",2]
[2018,1,"LETRAS - 13L","     13101","INTEGRAL",17]
[2018,1,"LETRAS - 13L","     13101","INTEGRAL",2]
[2018,1,"LETRAS - 13L","     13101","INTEGRAL",2]
[2018,1,"LETRAS - 13L","     13101","INTEGRAL",1]
[2018,1,"MEDICINA - 15A","     13103","INTEGRAL",97]
[2018,1,"ODONTOLOGIA - 16A","     13104","INTEGRAL",54]
[2018,1,"PEDAGOGIA - 17A","     13105","MATUTINO",43]
[2018,1,"SERVIÇO SOCIAL - 19A","     13107","MATUTINO",42]
[2018,1,"FISIOTERAPIA - 20A","     13118","INTEGRAL",22]
[2018,1,"ABI - EDUCAÇÃO FÍSICA - 21ABI","   5000610","INTEGRAL",49]
[2018,1,"ENFERMAGEM - 23A","     38994","INTEGRAL",49]
[2018,1,"ENGENHARIA CIVIL - 24A","     13094","INTEGRAL",53]
[2018,1,"ADMINISTRAÇÃO - 26A","     22451","INTEGRAL",45]
[2018,1,"ABI - GEOGRAFIA - 27ABI","   5000615","NOTURNO",17]
[2018,1,"GEOGRAFIA - 27L","     13099","NOTURNO",20]
[2018,1,"ABI - LETRAS - 29ABI","   5000617","NOTURNO",3]
[2018,1,"PEDAGOGIA - 30A","     13105","NOTURNO",1]
[2018,1,"PSICOLOGIA - 32A","     13113","INTEGRAL",57]
[2018,1,"ARQUITETURA E URBANISMO - 33A","     13114","INTEGRAL",42]
[2018,1,"DIREITO - 34A","     21860","NOTURNO",56]
[2018,1,"CIÊNCIA DA COMPUTAÇÃO - 35A","     18518","NOTURNO",2]
[2018,1,"ADMINISTRAÇÃO - 46A","     22451","NOTURNO",44]
[2018,1,"ENGENHARIA DE PRODUÇÃO - 49A","     38594","NOTURNO",33]
[2018,1,"CIÊNCIAS ECONÔMICAS - 51A","     13090","NOTURNO",52]
[2018,1,"MÚSICA - MODALIDADE VIOLINO - 63E","    116490","INTEGRAL",1]
[2018,1,"MÚSICA - MODALIDADE VIOLINO - 63E","    116494","INTEGRAL",1]
[2018,1,"MÚSICA - MODALIDADE COMPOSIÇÃO - 63G","    116490","INTEGRAL",4]
[2018,1,"MÚSICA - MODALIDADE COMPOSIÇÃO - 63G","   1271995","INTEGRAL",4]
[2018,1,"NUTRIÇÃO - 64A","    116498","INTEGRAL",54]
[2018,1,"CIÊNCIAS EXATAS - 65A","    116502","INTEGRAL",235]
[2018,1,"ENGENHARIA COMPUTACIONAL - 65B","   1120244","INTEGRAL",22]
[2018,1,"CIÊNCIA DA COMPUTAÇÃO - 65C","     65361","INTEGRAL",22]
[2018,1,"ESTATÍSTICA - 65D","    113531","INTEGRAL",21]
[2018,1,"FÍSICA - 65E","   5000613","INTEGRAL",30]
[2018,1,"MATEMÁTICA - 65F","   5000618","INTEGRAL",22]
[2018,1,"MATEMÁTICA - 65F","    313102","INTEGRAL",4]
[2018,1,"MATEMÁTICA - 65FL","     13102","INTEGRAL",4]
[2018,1,"QUÍMICA - 65GB","   5000619","INTEGRAL",31]
[2018,1,"QUÍMICA - 65GB","    313106","INTEGRAL",13]
[2018,1,"QUÍMICA - 65GL","     13106","INTEGRAL",9]
[2018,1,"ENGENHARIA ELÉTRICA - HAB. EM ROBÓTICA E AUTOMAÇÃO INDUSTRIAL - 65I","   1109485","INTEGRAL",1]
[2018,1,"ENGENHARIA ELÉTRICA - HABILITAÇÃO EM SISTEMAS DE POTÊNCIA - 65J","   1109486","INTEGRAL",1]
[2018,1,"ENGENHARIA ELÉTRICA - HABILITAÇÃO EM SISTEMAS ELETRÔNICOS - 65K","   1109487","INTEGRAL",1]
[2018,1,"ENGENHARIA MECÂNICA - 65M","   1109489","INTEGRAL",3]
[2018,1,"BACHARELADO INTERDISCIPLINAR EM ARTES E DESIGN - 66A","    116500","INTEGRAL",137]
[2018,1,"BACHARELADO EM CINEMA E AUDIOVISUAL - 66B","   1153947","INTEGRAL",18]
[2018,1,"BACHARELADO EM ARTES VISUAIS - 66C","   1153948","INTEGRAL",5]
[2018,1,"BACHARELADO EM DESIGN - 66D","   1153949","INTEGRAL",14]
[2018,1,"BACHARELADO EM MODA - 66E","   1153950","INTEGRAL",7]
[2018,1,"LICENCIATURA EM ARTES VISUAIS - 66F","   1153951","NOTURNO",8]
[2018,1,"ENGENHARIA AMBIENTAL E SANITÁRIA - 67A","    116496","INTEGRAL",61]
[2018,1,"ENGENHARIA ELÉTRICA - HABILITAÇÃO EM SISTEMAS ELETRÔNICOS - 69A","   1109487","INTEGRAL",27]
[2018,1,"ENGENHARIA ELÉTRICA - HAB. EM ROBÓTICA E AUTOMAÇÃO INDUSTRIAL - 69B","   1109485","INTEGRAL",28]
[2018,1,"ENGENHARIA ELÉTRICA - HABILITAÇÃO EM SISTEMAS DE POTÊNCIA - 69C","   1109486","INTEGRAL",24]
[2018,1,"ENGENHARIA ELÉTRICA - HABILITAÇÃO EM TELECOMUNICAÇÕES - 69D","   1109488","INTEGRAL",24]
[2018,1,"ENGENHARIA ELÉTRICA - HABILITAÇÃO EM ENERGIA - 70A","   1109475","NOTURNO",48]
[2018,1,"ENGENHARIA MECÂNICA - 71A","   1109489","INTEGRAL",27]
[2018,1,"BACHARELADO INTERDISCIPLINAR EM CIÊNCIAS HUMANAS - 72A","   1120242","INTEGRAL",155]
[2018,1,"TURISMO - 72D","     21589","INTEGRAL",2]
[2018,1,"FILOSOFIA - 72EB","   5000611","INTEGRAL",1]
[2018,1,"CIÊNCIAS SOCIAIS - 73C","   5000609","NOTURNO",36]
[2018,1,"CIÊNCIAS SOCIAIS - 73CB","    313087","NOTURNO",2]
[2018,1,"CIÊNCIAS SOCIAIS - 73CL","     13087","NOTURNO",1]
[2018,1,"SISTEMAS DE INFORMAÇÃO - 76A","   1128364","NOTURNO",1]
[2018,1,"CIÊNCIAS CONTÁBEIS - 77A","   1132074","INTEGRAL",44]
[2018,1,"CIÊNCIAS CONTÁBEIS - 78A","   1132074","NOTURNO",44]
[2018,1,"FÍSICA - 81A","   1166037","NOTURNO",1]
[2018,1,"MATEMÁTICA - 82A","   1166038","NOTURNO",1]
[2018,1,"QUÍMICA - 83A","   1166039","NOTURNO",1]
[2018,1,"JORNALISMO - 85A","     36356","NOTURNO",45]
[2018,1,"MEDICINA VETERINÁRIA - 87A","   1268972","INTEGRAL",55]
[2018,1,"LICENCIATURA EM LETRAS - LIBRAS - 88A","   1268983","NOTURNO",1]
[2018,1,"LICENCIATURA EM MÚSICA - 89A","   1278855","INTEGRAL",4]
[2018,1,"LICENCIATURA EM MÚSICA - 89A","   1278855","INTEGRAL",1]
[2018,1,"LICENCIATURA EM MÚSICA - 89A","   1278855","INTEGRAL",1]
[2018,1,"LICENCIATURA EM MÚSICA - 89A","   1278855","INTEGRAL",2]
[2018,1,"LICENCIATURA EM MÚSICA - 89A","   1278855","INTEGRAL",2]
[2018,1,"LICENCIATURA EM MÚSICA - 89A","   1278855","INTEGRAL",6]
[2018,1,"RÁDIO, TV E INTERNET - 91A","   1374873","INTEGRAL",31]
[2018,1,"TURISMO - 92A","     21589","INTEGRAL",36]
[2018,2,"ABI - CIÊNCIAS BIOLÓGICAS - 01ABI","   5000608","INTEGRAL",7]
[2018,2,"CIÊNCIAS BIOLÓGICAS - 01B","    313086","INTEGRAL",22]
[2018,2,"ADMINISTRAÇÃO - 01GV","   1178684","INTEGRAL",35]
[2018,2,"CIÊNCIAS BIOLÓGICAS - 01L","     13086","INTEGRAL",6]
[2018,2,"CIÊNCIAS CONTÁBEIS - 02GV","   1183351","INTEGRAL",1]
[2018,2,"CIÊNCIAS ECONÔMICAS - 03GV","   1178683","INTEGRAL",42]
[2018,2,"DIREITO - 04A","     13089","INTEGRAL",56]
[2018,2,"DIREITO - 04GV","   1178675","INTEGRAL",59]
[2018,2,"FARMÁCIA - 05GV","   1185503","INTEGRAL",50]
[2018,2,"FISIOTERAPIA - 06GV","   1178689","INTEGRAL",35]
[2018,2,"FARMÁCIA - 07A","     38509","INTEGRAL",54]
[2018,2,"MEDICINA - 07GV","   5001167","INTEGRAL",59]
[2018,2,"ABI - FILOSOFIA - 08ABI","   5000611","INTEGRAL",1]
[2018,2,"NUTRIÇÃO - 08GV","   1178688","INTEGRAL",46]
[2018,2,"FILOSOFIA - 08L","     13097","INTEGRAL",2]
[2018,2,"ODONTOLOGIA - 09GV","   5001168","INTEGRAL",47]
[2018,2,"EDUCAÇÃO FÍSICA - 10GV","   1270439","INTEGRAL",47]
[2018,2,"ABI - HISTÓRIA - 11ABI","   5000616","INTEGRAL",2]
[2018,2,"HISTÓRIA - 11B","    313100","INTEGRAL",1]
[2018,2,"HISTÓRIA - 11L","     13100","INTEGRAL",1]
[2018,2,"LETRAS - 13B","    313101","INTEGRAL",1]
[2018,2,"MEDICINA - 15A","     13103","INTEGRAL",112]
[2018,2,"ODONTOLOGIA - 16A","     13104","INTEGRAL",57]
[2018,2,"PEDAGOGIA - 17A","     13105","MATUTINO",1]
[2018,2,"FISIOTERAPIA - 20A","     13118","INTEGRAL",23]
[2018,2,"ABI - EDUCAÇÃO FÍSICA - 21ABI","   5000610","INTEGRAL",53]
[2018,2,"ENFERMAGEM - 23A","     38994","INTEGRAL",46]
[2018,2,"ENGENHARIA CIVIL - 24A","     13094","INTEGRAL",55]
[2018,2,"GEOGRAFIA - 27L","     13099","NOTURNO",1]
[2018,2,"ABI - HISTÓRIA - 28ABI","   5000616","NOTURNO",25]
[2018,2,"HISTÓRIA - 28B","    313100","NOTURNO",8]
[2018,2,"HISTÓRIA - 28L","     13100","NOTURNO",22]
[2018,2,"ABI - LETRAS - 29ABI","   5000617","NOTURNO",39]
[2018,2,"LETRAS - 29L","     13101","NOTURNO",3]
[2018,2,"PEDAGOGIA - 30A","     13105","NOTURNO",44]
[2018,2,"PSICOLOGIA - 32A","     13113","INTEGRAL",1]
[2018,2,"ARQUITETURA E URBANISMO - 33A","     13114","INTEGRAL",47]
[2018,2,"DIREITO - 34A","     21860","NOTURNO",62]
[2018,2,"CIÊNCIA DA COMPUTAÇÃO - 35A","     18518","NOTURNO",47]
[2018,2,"ADMINISTRAÇÃO - 46A","     22451","NOTURNO",3]
[2018,2,"ENGENHARIA DE PRODUÇÃO - 49A","     38594","NOTURNO",33]
[2018,2,"NUTRIÇÃO - 64A","    116498","INTEGRAL",55]
[2018,2,"CIÊNCIAS EXATAS - 65A","    116502","INTEGRAL",1]
[2018,2,"ENGENHARIA COMPUTACIONAL - 65B","   1120244","INTEGRAL",1]
[2018,2,"FÍSICA - 65E","   5000613","INTEGRAL",1]
[2018,2,"BACHARELADO INTERDISCIPLINAR EM ARTES E DESIGN - 66A","    116500","INTEGRAL",143]
[2018,2,"BACHARELADO EM CINEMA E AUDIOVISUAL - 66B","   1153947","INTEGRAL",8]
[2018,2,"BACHARELADO EM ARTES VISUAIS - 66C","   1153948","INTEGRAL",5]
[2018,2,"BACHARELADO EM DESIGN - 66D","   1153949","INTEGRAL",12]
[2018,2,"BACHARELADO EM MODA - 66E","   1153950","INTEGRAL",3]
[2018,2,"LICENCIATURA EM ARTES VISUAIS - 66F","   1153951","NOTURNO",4]
[2018,2,"SERVIÇO SOCIAL - 68A","     13107","NOTURNO",41]
[2018,2,"ENGENHARIA ELÉTRICA - HABILITAÇÃO EM SISTEMAS ELETRÔNICOS - 69A","   1109487","INTEGRAL",21]
[2018,2,"ENGENHARIA ELÉTRICA - HAB. EM ROBÓTICA E AUTOMAÇÃO INDUSTRIAL - 69B","   1109485","INTEGRAL",23]
[2018,2,"ENGENHARIA ELÉTRICA - HABILITAÇÃO EM SISTEMAS DE POTÊNCIA - 69C","   1109486","INTEGRAL",25]
[2018,2,"ENGENHARIA ELÉTRICA - HABILITAÇÃO EM TELECOMUNICAÇÕES - 69D","   1109488","INTEGRAL",24]
[2018,2,"ENGENHARIA MECÂNICA - 71A","   1109489","INTEGRAL",27]
[2018,2,"FILOSOFIA - 72EB","   5000611","INTEGRAL",2]
[2018,2,"BACHARELADO INTERDISCIPLINAR EM CIÊNCIAS HUMANAS - 73A","   1120242","NOTURNO",181]
[2018,2,"CIÊNCIA DA RELIGIÃO - 73BL","   1165686","NOTURNO",1]
[2018,2,"CIÊNCIAS SOCIAIS - 73C","   5000609","NOTURNO",10]
[2018,2,"CIÊNCIAS SOCIAIS - 73CL","     13087","NOTURNO",1]
[2018,2,"SISTEMAS DE INFORMAÇÃO - 76A","   1128364","NOTURNO",44]
[2018,2,"CIÊNCIAS CONTÁBEIS - 78A","   1132074","NOTURNO",2]
[2018,2,"FÍSICA - 81A","   1166037","NOTURNO",22]
[2018,2,"MATEMÁTICA - 82A","   1166038","NOTURNO",34]
[2018,2,"QUÍMICA - 83A","   1166039","NOTURNO",29]
[2018,2,"JORNALISMO - 84A","     27657","INTEGRAL",41]
[2018,2,"JORNALISMO - 85A","     36356","NOTURNO",2]
[2018,2,"MEDICINA VETERINÁRIA - 87A","   1268972","INTEGRAL",57]
[2018,2,"LICENCIATURA EM LETRAS - LIBRAS - 88A","   1268983","NOTURNO",30]
[2018,2,"RÁDIO, TV E INTERNET - 91A","   1374873","INTEGRAL",2]
[2018,2,"TURISMO - 93A","     21589","NOTURNO",45]
[2019,1,"ABI - CIÊNCIAS BIOLÓGICAS - 01ABI","   5000608","INTEGRAL",9]
[2019,1,"CIÊNCIAS BIOLÓGICAS - 01B","    313086","INTEGRAL",11]
[2019,1,"ADMINISTRAÇÃO - 01GV","   1178684","INTEGRAL",67]
[2019,1,"CIÊNCIAS BIOLÓGICAS - 01L","     13086","INTEGRAL",11]
[2019,1,"CIÊNCIAS CONTÁBEIS - 02GV","   1183351","INTEGRAL",61]
[2019,1,"CIÊNCIAS ECONÔMICAS - 03GV","   1178683","INTEGRAL",62]
[2019,1,"DIREITO - 04A","     13089","INTEGRAL",54]
[2019,1,"DIREITO - 04GV","   1178675","INTEGRAL",62]
[2019,1,"CIÊNCIAS ECONÔMICAS - 05A","     13090","INTEGRAL",68]
[2019,1,"FARMÁCIA - 05GV","   1185503","INTEGRAL",41]
[2019,1,"FISIOTERAPIA - 06GV","   1178689","INTEGRAL",31]
[2019,1,"FARMÁCIA - 07A","     38509","INTEGRAL",51]
[2019,1,"MEDICINA - 07GV","   5001167","INTEGRAL",52]
[2019,1,"ABI - FILOSOFIA - 08ABI","   5000611","INTEGRAL",31]
[2019,1,"FILOSOFIA - 08B","    313097","INTEGRAL",15]
[2019,1,"NUTRIÇÃO - 08GV","   1178688","INTEGRAL",49]
[2019,1,"FILOSOFIA - 08L","     13097","INTEGRAL",23]
[2019,1,"ODONTOLOGIA - 09GV","   5001168","INTEGRAL",44]
[2019,1,"ABI - GEOGRAFIA - 10ABI","   5000615","INTEGRAL",11]
[2019,1,"GEOGRAFIA - 10B","    313099","INTEGRAL",18]
[2019,1,"EDUCAÇÃO FÍSICA - 10GV","   1270439","INTEGRAL",36]
[2019,1,"GEOGRAFIA - 10L","     13099","INTEGRAL",17]
[2019,1,"ABI - HISTÓRIA - 11ABI","   5000616","INTEGRAL",20]
[2019,1,"HISTÓRIA - 11B","    313100","INTEGRAL",4]
[2019,1,"HISTÓRIA - 11L","     13100","INTEGRAL",27]
[2019,1,"ABI - LETRAS - 13ABI","   5000617","INTEGRAL",8]
[2019,1,"LETRAS - 13B","    313101","INTEGRAL",3]
[2019,1,"LETRAS - 13B","    313101","INTEGRAL",8]
[2019,1,"LETRAS - 13L","     13101","INTEGRAL",5]
[2019,1,"LETRAS - 13L","     13101","INTEGRAL",18]
[2019,1,"LETRAS - 13L","     13101","INTEGRAL",3]
[2019,1,"LETRAS - 13L","     13101","INTEGRAL",1]
[2019,1,"LETRAS - 13L","     13101","INTEGRAL",3]
[2019,1,"MEDICINA - 15A","     13103","INTEGRAL",94]
[2019,1,"ODONTOLOGIA - 16A","     13104","INTEGRAL",53]
[2019,1,"PEDAGOGIA - 17A","     13105","MATUTINO",41]
[2019,1,"SERVIÇO SOCIAL - 19A","     13107","MATUTINO",42]
[2019,1,"FISIOTERAPIA - 20A","     13118","INTEGRAL",21]
[2019,1,"ABI - EDUCAÇÃO FÍSICA - 21ABI","   5000610","INTEGRAL",45]
[2019,1,"ENFERMAGEM - 23A","     38994","INTEGRAL",47]
[2019,1,"ENGENHARIA CIVIL - 24A","     13094","INTEGRAL",53]
[2019,1,"ADMINISTRAÇÃO - 26A","     22451","INTEGRAL",41]
[2019,1,"GEOGRAFIA - 27L","     13099","NOTURNO",54]
[2019,1,"ABI - LETRAS - 29ABI","   5000617","NOTURNO",10]
[2019,1,"PEDAGOGIA - 30A","     13105","NOTURNO",6]
[2019,1,"PSICOLOGIA - 32A","     13113","INTEGRAL",62]
[2019,1,"ARQUITETURA E URBANISMO - 33A","     13114","INTEGRAL",46]
[2019,1,"DIREITO - 34A","     21860","NOTURNO",54]
[2019,1,"CIÊNCIA DA COMPUTAÇÃO - 35A","     18518","NOTURNO",1]
[2019,1,"ADMINISTRAÇÃO - 46A","     22451","NOTURNO",40]
[2019,1,"ENGENHARIA DE PRODUÇÃO - 49A","     38594","NOTURNO",31]
[2019,1,"CIÊNCIAS ECONÔMICAS - 51A","     13090","NOTURNO",100]
[2019,1,"MÚSICA - CANTO - 63A","    116490","INTEGRAL",2]
[2019,1,"MÚSICA - MODALIDADE PIANO - 63C","    116490","INTEGRAL",1]
[2019,1,"MÚSICA - MODALIDADE PIANO - 63C","    116492","INTEGRAL",1]
[2019,1,"MÚSICA - MODALIDADE VIOLÃO - 63D","    116490","INTEGRAL",1]
[2019,1,"MÚSICA - MODALIDADE VIOLÃO - 63D","    116493","INTEGRAL",1]
[2019,1,"MÚSICA - MODALIDADE VIOLINO - 63E","    116490","INTEGRAL",1]
[2019,1,"MÚSICA - MODALIDADE VIOLINO - 63E","    116494","INTEGRAL",1]
[2019,1,"MÚSICA - MODALIDADE COMPOSIÇÃO - 63G","    116490","INTEGRAL",5]
[2019,1,"MÚSICA - MODALIDADE COMPOSIÇÃO - 63G","   1271995","INTEGRAL",5]
[2019,1,"NUTRIÇÃO - 64A","    116498","INTEGRAL",61]
[2019,1,"CIÊNCIAS EXATAS - 65A","    116502","INTEGRAL",245]
[2019,1,"ENGENHARIA COMPUTACIONAL - 65B","   1120244","INTEGRAL",30]
[2019,1,"CIÊNCIA DA COMPUTAÇÃO - 65C","     65361","INTEGRAL",27]
[2019,1,"ESTATÍSTICA - 65D","    113531","INTEGRAL",27]
[2019,1,"FÍSICA - 65E","   5000613","INTEGRAL",29]
[2019,1,"FÍSICA - 65E","    313098","INTEGRAL",1]
[2019,1,"FÍSICA - 65EL","     13098","INTEGRAL",1]
[2019,1,"MATEMÁTICA - 65F","   5000618","INTEGRAL",22]
[2019,1,"MATEMÁTICA - 65F","    313102","INTEGRAL",2]
[2019,1,"MATEMÁTICA - 65FL","     13102","INTEGRAL",3]
[2019,1,"QUÍMICA - 65GB","   5000619","INTEGRAL",24]
[2019,1,"QUÍMICA - 65GB","    313106","INTEGRAL",20]
[2019,1,"QUÍMICA - 65GL","     13106","INTEGRAL",10]
[2019,1,"ENGENHARIA ELÉTRICA - HABILITAÇÃO EM ENERGIA - 65H","   1109475","NOTURNO",3]
[2019,1,"ENGENHARIA ELÉTRICA - HABILITAÇÃO EM SISTEMAS DE POTÊNCIA - 65J","   1109486","INTEGRAL",1]
[2019,1,"ENGENHARIA ELÉTRICA - HABILITAÇÃO EM SISTEMAS ELETRÔNICOS - 65K","   1109487","INTEGRAL",1]
[2019,1,"ENGENHARIA ELÉTRICA - HABILITAÇÃO EM TELECOMUNICAÇÕES - 65L","   1109488","INTEGRAL",1]
[2019,1,"ENGENHARIA MECÂNICA - 65M","   1109489","INTEGRAL",1]
[2019,1,"BACHARELADO INTERDISCIPLINAR EM ARTES E DESIGN - 66A","    116500","INTEGRAL",131]
[2019,1,"BACHARELADO EM CINEMA E AUDIOVISUAL - 66B","   1153947","INTEGRAL",5]
[2019,1,"BACHARELADO EM ARTES VISUAIS - 66C","   1153948","INTEGRAL",1]
[2019,1,"BACHARELADO EM DESIGN - 66D","   1153949","INTEGRAL",4]
[2019,1,"BACHARELADO EM MODA - 66E","   1153950","INTEGRAL",1]
[2019,1,"LICENCIATURA EM ARTES VISUAIS - 66F","   1153951","NOTURNO",1]
[2019,1,"ENGENHARIA AMBIENTAL E SANITÁRIA - 67A","    116496","INTEGRAL",55]
[2019,1,"SERVIÇO SOCIAL - 68A","     13107","NOTURNO",8]
[2019,1,"ENGENHARIA ELÉTRICA - HABILITAÇÃO EM SISTEMAS ELETRÔNICOS - 69A","   1109487","INTEGRAL",21]
[2019,1,"ENGENHARIA ELÉTRICA - HAB. EM ROBÓTICA E AUTOMAÇÃO INDUSTRIAL - 69B","   1109485","INTEGRAL",21]
[2019,1,"ENGENHARIA ELÉTRICA - HABILITAÇÃO EM SISTEMAS DE POTÊNCIA - 69C","   1109486","INTEGRAL",23]
[2019,1,"ENGENHARIA ELÉTRICA - HABILITAÇÃO EM TELECOMUNICAÇÕES - 69D","   1109488","INTEGRAL",22]
[2019,1,"ENGENHARIA ELÉTRICA - HABILITAÇÃO EM ENERGIA - 70A","   1109475","NOTURNO",43]
[2019,1,"ENGENHARIA MECÂNICA - 71A","   1109489","INTEGRAL",26]
[2019,1,"BACHARELADO INTERDISCIPLINAR EM CIÊNCIAS HUMANAS - 72A","   1120242","INTEGRAL",160]
[2019,1,"FILOSOFIA - 72EB","   5000611","INTEGRAL",2]
[2019,1,"CIÊNCIA DA RELIGIÃO - 73B","   1165350","NOTURNO",1]
[2019,1,"CIÊNCIA DA RELIGIÃO - 73BL","   1165686","NOTURNO",7]
[2019,1,"CIÊNCIAS SOCIAIS - 73C","   5000609","NOTURNO",15]
[2019,1,"CIÊNCIAS CONTÁBEIS - 77A","   1132074","INTEGRAL",44]
[2019,1,"CIÊNCIAS CONTÁBEIS - 78A","   1132074","NOTURNO",48]
[2019,1,"FÍSICA - 81A","   1166037","NOTURNO",8]
[2019,1,"MATEMÁTICA - 82A","   1166038","NOTURNO",5]
[2019,1,"QUÍMICA - 83A","   1166039","NOTURNO",1]
[2019,1,"JORNALISMO - 84A","     27657","INTEGRAL",1]
[2019,1,"JORNALISMO - 85A","     36356","NOTURNO",33]
[2019,1,"MEDICINA VETERINÁRIA - 87A","   1268972","INTEGRAL",54]
[2019,1,"LICENCIATURA EM LETRAS - LIBRAS - 88A","   1268983","NOTURNO",2]
[2019,1,"LICENCIATURA EM MÚSICA - 89A","   1278855","INTEGRAL",1]
[2019,1,"LICENCIATURA EM MÚSICA - 89A","   1278855","INTEGRAL",2]
[2019,1,"LICENCIATURA EM MÚSICA - 89A","   1278855","INTEGRAL",5]
[2019,1,"LICENCIATURA EM MÚSICA - 89A","   1278855","INTEGRAL",2]
[2019,1,"RÁDIO, TV E INTERNET - 91A","   1374873","INTEGRAL",44]
[2019,1,"TURISMO - 92A","     21589","INTEGRAL",60]
[2019,1,"BACHARELADO EM ARTES VISUAIS - 66C","   1153948","INTEGRAL",2]
[2019,1,"BACHARELADO EM MODA - 66E","   1153950","INTEGRAL",1]
[2019,2,"ABI - CIÊNCIAS BIOLÓGICAS - 01ABI","   5000608","INTEGRAL",13]
[2019,2,"CIÊNCIAS BIOLÓGICAS - 01B","    313086","INTEGRAL",8]
[2019,2,"ADMINISTRAÇÃO - 01GV","   1178684","INTEGRAL",42]
[2019,2,"CIÊNCIAS BIOLÓGICAS - 01L","     13086","INTEGRAL",11]
[2019,2,"CIÊNCIAS ECONÔMICAS - 03GV","   1178683","INTEGRAL",29]
[2019,2,"DIREITO - 04A","     13089","INTEGRAL",51]
[2019,2,"DIREITO - 04GV","   1178675","INTEGRAL",51]
[2019,2,"FARMÁCIA - 05GV","   1185503","INTEGRAL",36]
[2019,2,"FISIOTERAPIA - 06GV","   1178689","INTEGRAL",30]
[2019,2,"FARMÁCIA - 07A","     38509","INTEGRAL",50]
[2019,2,"MEDICINA - 07GV","   5001167","INTEGRAL",54]
[2019,2,"NUTRIÇÃO - 08GV","   1178688","INTEGRAL",43]
[2019,2,"ODONTOLOGIA - 09GV","   5001168","INTEGRAL",44]
[2019,2,"EDUCAÇÃO FÍSICA - 10GV","   1270439","INTEGRAL",35]
[2019,2,"MEDICINA - 15A","     13103","INTEGRAL",97]
[2019,2,"ODONTOLOGIA - 16A","     13104","INTEGRAL",51]
[2019,2,"PEDAGOGIA - 17A","     13105","MATUTINO",1]
[2019,2,"FISIOTERAPIA - 20A","     13118","INTEGRAL",22]
[2019,2,"ABI - EDUCAÇÃO FÍSICA - 21ABI","   5000610","INTEGRAL",50]
[2019,2,"ENFERMAGEM - 23A","     38994","INTEGRAL",43]
[2019,2,"ENGENHARIA CIVIL - 24A","     13094","INTEGRAL",50]
[2019,2,"ADMINISTRAÇÃO - 26A","     22451","INTEGRAL",1]
[2019,2,"ABI - HISTÓRIA - 28ABI","   5000616","NOTURNO",28]
[2019,2,"HISTÓRIA - 28B","    313100","NOTURNO",1]
[2019,2,"HISTÓRIA - 28L","     13100","NOTURNO",27]
[2019,2,"LETRAS - 29L","     13101","NOTURNO",47]
[2019,2,"PEDAGOGIA - 30A","     13105","NOTURNO",39]
[2019,2,"ARQUITETURA E URBANISMO - 33A","     13114","INTEGRAL",42]
[2019,2,"DIREITO - 34A","     21860","NOTURNO",52]
[2019,2,"CIÊNCIA DA COMPUTAÇÃO - 35A","     18518","NOTURNO",42]
[2019,2,"ENGENHARIA DE PRODUÇÃO - 49A","     38594","NOTURNO",34]
[2019,2,"NUTRIÇÃO - 64A","    116498","INTEGRAL",54]
[2019,2,"CIÊNCIAS EXATAS - 65A","    116502","INTEGRAL",1]
[2019,2,"QUÍMICA - 65GL","     13106","INTEGRAL",1]
[2019,2,"BACHARELADO INTERDISCIPLINAR EM ARTES E DESIGN - 66A","    116500","INTEGRAL",130]
[2019,2,"SERVIÇO SOCIAL - 68A","     13107","NOTURNO",35]
[2019,2,"ENGENHARIA ELÉTRICA - HABILITAÇÃO EM SISTEMAS ELETRÔNICOS - 69A","   1109487","INTEGRAL",22]
[2019,2,"ENGENHARIA ELÉTRICA - HAB. EM ROBÓTICA E AUTOMAÇÃO INDUSTRIAL - 69B","   1109485","INTEGRAL",22]
[2019,2,"ENGENHARIA ELÉTRICA - HABILITAÇÃO EM SISTEMAS DE POTÊNCIA - 69C","   1109486","INTEGRAL",25]
[2019,2,"ENGENHARIA ELÉTRICA - HABILITAÇÃO EM TELECOMUNICAÇÕES - 69D","   1109488","INTEGRAL",22]
[2019,2,"ENGENHARIA MECÂNICA - 71A","   1109489","INTEGRAL",25]
[2019,2,"FILOSOFIA - 72EB","   5000611","INTEGRAL",3]
[2019,2,"BACHARELADO INTERDISCIPLINAR EM CIÊNCIAS HUMANAS - 73A","   1120242","NOTURNO",156]
[2019,2,"CIÊNCIA DA RELIGIÃO - 73B","   1165350","NOTURNO",1]
[2019,2,"CIÊNCIA DA RELIGIÃO - 73BL","   1165686","NOTURNO",1]
[2019,2,"CIÊNCIAS SOCIAIS - 73C","   5000609","NOTURNO",6]
[2019,2,"SISTEMAS DE INFORMAÇÃO - 76A","   1128364","NOTURNO",42]
[2019,2,"FÍSICA - 81A","   1166037","NOTURNO",25]
[2019,2,"MATEMÁTICA - 82A","   1166038","NOTURNO",34]
[2019,2,"QUÍMICA - 83A","   1166039","NOTURNO",33]
[2019,2,"JORNALISMO - 84A","     27657","INTEGRAL",34]
[2019,2,"JORNALISMO - 85A","     36356","NOTURNO",1]
[2019,2,"MEDICINA VETERINÁRIA - 87A","   1268972","INTEGRAL",53]
[2019,2,"LICENCIATURA EM LETRAS - LIBRAS - 88A","   1268983","NOTURNO",30]
[2019,2,"TURISMO - 93A","     21589","NOTURNO",45]
[2019,2,"BACHARELADO EM ARTES VISUAIS - 66C","   1153948","INTEGRAL",2]
[2019,2,"BACHARELADO EM CINEMA E AUDIOVISUAL - 66B","   1153947","INTEGRAL",1]
[2020,1,"ABI - CIÊNCIAS BIOLÓGICAS - 01ABI","   5000608","INTEGRAL",11]
[2020,1,"CIÊNCIAS BIOLÓGICAS - 01B","    313086","INTEGRAL",20]
[2020,1,"ADMINISTRAÇÃO - 01GV","   1178684","INTEGRAL",66]
[2020,1,"CIÊNCIAS BIOLÓGICAS - 01L","     13086","INTEGRAL",6]
[2020,1,"CIÊNCIAS CONTÁBEIS - 02GV","   1183351","INTEGRAL",48]
[2020,1,"CIÊNCIAS ECONÔMICAS - 03GV","   1178683","INTEGRAL",60]
[2020,1,"DIREITO - 04A","     13089","INTEGRAL",64]
[2020,1,"DIREITO - 04GV","   1178675","INTEGRAL",64]
[2020,1,"CIÊNCIAS ECONÔMICAS - 05A","     13090","INTEGRAL",61]
[2020,1,"FARMÁCIA - 05GV","   1185503","INTEGRAL",49]
[2020,1,"FISIOTERAPIA - 06GV","   1178689","INTEGRAL",18]
[2020,1,"FARMÁCIA - 07A","     38509","INTEGRAL",63]
[2020,1,"MEDICINA - 07GV","   5001167","INTEGRAL",62]
[2020,1,"ABI - FILOSOFIA - 08ABI","   5000611","INTEGRAL",33]
[2020,1,"FILOSOFIA - 08B","    313097","INTEGRAL",7]
[2020,1,"NUTRIÇÃO - 08GV","   1178688","INTEGRAL",53]
[2020,1,"FILOSOFIA - 08L","     13097","INTEGRAL",10]
[2020,1,"ODONTOLOGIA - 09GV","   5001168","INTEGRAL",46]
[2020,1,"ABI - GEOGRAFIA - 10ABI","   5000615","INTEGRAL",16]
[2020,1,"GEOGRAFIA - 10B","    313099","INTEGRAL",15]
[2020,1,"EDUCAÇÃO FÍSICA - 10GV","   1270439","INTEGRAL",47]
[2020,1,"GEOGRAFIA - 10L","     13099","INTEGRAL",22]
[2020,1,"ABI - HISTÓRIA - 11ABI","   5000616","INTEGRAL",56]
[2020,1,"HISTÓRIA - 11B","    313100","INTEGRAL",1]
[2020,1,"HISTÓRIA - 11L","     13100","INTEGRAL",26]
[2020,1,"ABI - LETRAS - 13ABI","   5000617","INTEGRAL",36]
[2020,1,"LETRAS - 13B","    313101","INTEGRAL",1]
[2020,1,"LETRAS - 13B","    313101","INTEGRAL",6]
[2020,1,"LETRAS - 13B","    313101","INTEGRAL",1]
[2020,1,"LETRAS - 13L","     13101","INTEGRAL",7]
[2020,1,"LETRAS - 13L","     13101","INTEGRAL",8]
[2020,1,"LETRAS - 13L","     13101","INTEGRAL",5]
[2020,1,"LETRAS - 13L","     13101","INTEGRAL",2]
[2020,1,"MEDICINA - 15A","     13103","INTEGRAL",104]
[2020,1,"ODONTOLOGIA - 16A","     13104","INTEGRAL",54]
[2020,1,"PEDAGOGIA - 17A","     13105","MATUTINO",46]
[2020,1,"SERVIÇO SOCIAL - 19A","     13107","MATUTINO",40]
[2020,1,"FISIOTERAPIA - 20A","     13118","INTEGRAL",25]
[2020,1,"ABI - EDUCAÇÃO FÍSICA - 21ABI","   5000610","INTEGRAL",50]
[2020,1,"ENFERMAGEM - 23A","     38994","INTEGRAL",52]
[2020,1,"ENGENHARIA CIVIL - 24A","     13094","INTEGRAL",60]
[2020,1,"ADMINISTRAÇÃO - 26A","     22451","INTEGRAL",48]
[2020,1,"GEOGRAFIA - 27L","     13099","NOTURNO",63]
[2020,1,"ABI - LETRAS - 29ABI","   5000617","NOTURNO",5]
[2020,1,"PSICOLOGIA - 32A","     13113","INTEGRAL",58]
[2020,1,"ARQUITETURA E URBANISMO - 33A","     13114","INTEGRAL",45]
[2020,1,"DIREITO - 34A","     21860","NOTURNO",57]
[2020,1,"CIÊNCIA DA COMPUTAÇÃO - 35A","     18518","NOTURNO",4]
[2020,1,"ADMINISTRAÇÃO - 46A","     22451","NOTURNO",45]
[2020,1,"ENGENHARIA DE PRODUÇÃO - 49A","     38594","NOTURNO",36]
[2020,1,"CIÊNCIAS ECONÔMICAS - 51A","     13090","NOTURNO",71]
[2020,1,"MÚSICA - CANTO - 63A","    116490","INTEGRAL",3]
[2020,1,"MÚSICA - MODALIDADE FLAUTA TRANSVERSAL - 63B","    116490","INTEGRAL",3]
[2020,1,"MÚSICA - MODALIDADE FLAUTA TRANSVERSAL - 63B","    116491","INTEGRAL",3]
[2020,1,"MÚSICA - MODALIDADE PIANO - 63C","    116490","INTEGRAL",1]
[2020,1,"MÚSICA - MODALIDADE PIANO - 63C","    116492","INTEGRAL",1]
[2020,1,"MÚSICA - MODALIDADE VIOLÃO - 63D","    116490","INTEGRAL",1]
[2020,1,"MÚSICA - MODALIDADE VIOLÃO - 63D","    116493","INTEGRAL",1]
[2020,1,"MÚSICA - MODALIDADE VIOLONCELO - 63F","    116490","INTEGRAL",1]
[2020,1,"MÚSICA - MODALIDADE VIOLONCELO - 63F","    116495","INTEGRAL",1]
[2020,1,"MÚSICA - MODALIDADE COMPOSIÇÃO - 63G","    116490","INTEGRAL",9]
[2020,1,"MÚSICA - MODALIDADE COMPOSIÇÃO - 63G","   1271995","INTEGRAL",9]
[2020,1,"NUTRIÇÃO - 64A","    116498","INTEGRAL",66]
[2020,1,"CIÊNCIAS EXATAS - 65A","    116502","INTEGRAL",272]
[2020,1,"ENGENHARIA COMPUTACIONAL - 65B","   1120244","INTEGRAL",26]
[2020,1,"CIÊNCIA DA COMPUTAÇÃO - 65C","     65361","INTEGRAL",24]
[2020,1,"ESTATÍSTICA - 65D","    113531","INTEGRAL",27]
[2020,1,"FÍSICA - 65E","   5000613","INTEGRAL",34]
[2020,1,"FÍSICA - 65E","    313098","INTEGRAL",2]
[2020,1,"MATEMÁTICA - 65F","   5000618","INTEGRAL",32]
[2020,1,"QUÍMICA - 65GB","   5000619","INTEGRAL",41]
[2020,1,"QUÍMICA - 65GB","    313106","INTEGRAL",20]
[2020,1,"QUÍMICA - 65GL","     13106","INTEGRAL",5]
[2020,1,"ENGENHARIA ELÉTRICA - HABILITAÇÃO EM ENERGIA - 65H","   1109475","NOTURNO",1]
[2020,1,"ENGENHARIA ELÉTRICA - HABILITAÇÃO EM SISTEMAS DE POTÊNCIA - 65J","   1109486","INTEGRAL",1]
[2020,1,"BACHARELADO EM MODA - 66E","   1153950","INTEGRAL",2]
[2020,1,"LICENCIATURA EM ARTES VISUAIS - 66F","   1153951","NOTURNO",1]
[2020,1,"ENGENHARIA AMBIENTAL E SANITÁRIA - 67A","    116496","INTEGRAL",63]
[2020,1,"ENGENHARIA ELÉTRICA - HABILITAÇÃO EM SISTEMAS ELETRÔNICOS - 69A","   1109487","INTEGRAL",26]
[2020,1,"ENGENHARIA ELÉTRICA - HAB. EM ROBÓTICA E AUTOMAÇÃO INDUSTRIAL - 69B","   1109485","INTEGRAL",24]
[2020,1,"ENGENHARIA ELÉTRICA - HABILITAÇÃO EM SISTEMAS DE POTÊNCIA - 69C","   1109486","INTEGRAL",24]
[2020,1,"ENGENHARIA ELÉTRICA - HABILITAÇÃO EM TELECOMUNICAÇÕES - 69D","   1109488","INTEGRAL",25]
[2020,1,"ENGENHARIA ELÉTRICA - HABILITAÇÃO EM ENERGIA - 70A","   1109475","NOTURNO",51]
[2020,1,"ENGENHARIA MECÂNICA - 71A","   1109489","INTEGRAL",31]
[2020,1,"BACHARELADO INTERDISCIPLINAR EM CIÊNCIAS HUMANAS - 72A","   1120242","INTEGRAL",166]
[2020,1,"CIÊNCIA DA RELIGIÃO - 73B","   1165350","NOTURNO",14]
[2020,1,"CIÊNCIA DA RELIGIÃO - 73BL","   1165686","NOTURNO",13]
[2020,1,"CIÊNCIAS CONTÁBEIS - 77A","   1132074","INTEGRAL",58]
[2020,1,"CIÊNCIAS CONTÁBEIS - 78A","   1132074","NOTURNO",65]
[2020,1,"FÍSICA - 81A","   1166037","NOTURNO",4]
[2020,1,"MATEMÁTICA - 82A","   1166038","NOTURNO",1]
[2020,1,"JORNALISMO - 85A","     36356","NOTURNO",39]
[2020,1,"MEDICINA VETERINÁRIA - 87A","   1268972","INTEGRAL",56]
[2020,1,"LICENCIATURA EM LETRAS - LIBRAS - 88A","   1268983","NOTURNO",10]
[2020,1,"LICENCIATURA EM MÚSICA - 89A","   1278855","INTEGRAL",1]
[2020,1,"LICENCIATURA EM MÚSICA - 89A","   1278855","INTEGRAL",2]
[2020,1,"LICENCIATURA EM MÚSICA - 89A","   1278855","INTEGRAL",2]
[2020,1,"LICENCIATURA EM MÚSICA - 89A","   1278855","INTEGRAL",11]
[2020,1,"RÁDIO, TV E INTERNET - 91A","   1374873","INTEGRAL",36]
[2020,1,"TURISMO - 92A","     21589","INTEGRAL",48]
[2020,1,"TURISMO - 93A","     21589","NOTURNO",7]
[2020,1,"BACHARELADO EM ARTES VISUAIS - 66C","   1153948","INTEGRAL",57]
[2020,1,"BACHARELADO EM MODA - 66E","   1153950","INTEGRAL",55]
[2020,1,"LICENCIATURA EM ARTES VISUAIS - 66F","   1153951","INTEGRAL",58]
[2020,1,"BACHARELADO EM CINEMA E AUDIOVISUAL - 66B","   1153947","INTEGRAL",57]
[2020,1,"BACHARELADO EM DESIGN - 66D","   1153949","INTEGRAL",57]
[2020,2,"ABI - CIÊNCIAS BIOLÓGICAS - 01ABI","   5000608","INTEGRAL",32]
[2020,2,"CIÊNCIAS BIOLÓGICAS - 01B","    313086","INTEGRAL",9]
[2020,2,"ADMINISTRAÇÃO - 01GV","   1178684","INTEGRAL",34]
[2020,2,"CIÊNCIAS BIOLÓGICAS - 01L","     13086","INTEGRAL",9]
[2020,2,"CIÊNCIAS ECONÔMICAS - 03GV","   1178683","INTEGRAL",41]
[2020,2,"DIREITO - 04A","     13089","INTEGRAL",54]
[2020,2,"DIREITO - 04GV","   1178675","INTEGRAL",53]
[2020,2,"FARMÁCIA - 05GV","   1185503","INTEGRAL",43]
[2020,2,"FISIOTERAPIA - 06GV","   1178689","INTEGRAL",15]
[2020,2,"FARMÁCIA - 07A","     38509","INTEGRAL",53]
[2020,2,"MEDICINA - 07GV","   5001167","INTEGRAL",52]
[2020,2,"NUTRIÇÃO - 08GV","   1178688","INTEGRAL",41]
[2020,2,"ODONTOLOGIA - 09GV","   5001168","INTEGRAL",44]
[2020,2,"EDUCAÇÃO FÍSICA - 10GV","   1270439","INTEGRAL",38]
[2020,2,"MEDICINA - 15A","     13103","INTEGRAL",99]
[2020,2,"ODONTOLOGIA - 16A","     13104","INTEGRAL",51]
[2020,2,"FISIOTERAPIA - 20A","     13118","INTEGRAL",22]
[2020,2,"ABI - EDUCAÇÃO FÍSICA - 21ABI","   5000610","INTEGRAL",48]
[2020,2,"ENFERMAGEM - 23A","     38994","INTEGRAL",43]
[2020,2,"ENGENHARIA CIVIL - 24A","     13094","INTEGRAL",52]
[2020,2,"ABI - HISTÓRIA - 28ABI","   5000616","NOTURNO",45]
[2020,2,"HISTÓRIA - 28B","    313100","NOTURNO",3]
[2020,2,"HISTÓRIA - 28L","     13100","NOTURNO",16]
[2020,2,"LETRAS - 29L","     13101","NOTURNO",45]
[2020,2,"PEDAGOGIA - 30A","     13105","NOTURNO",43]
[2020,2,"ARQUITETURA E URBANISMO - 33A","     13114","INTEGRAL",45]
[2020,2,"DIREITO - 34A","     21860","NOTURNO",54]
[2020,2,"CIÊNCIA DA COMPUTAÇÃO - 35A","     18518","NOTURNO",40]
[2020,2,"ENGENHARIA DE PRODUÇÃO - 49A","     38594","NOTURNO",32]
[2020,2,"NUTRIÇÃO - 64A","    116498","INTEGRAL",52]
[2020,2,"ENGENHARIA AMBIENTAL E SANITÁRIA - 67A","    116496","INTEGRAL",1]
[2020,2,"SERVIÇO SOCIAL - 68A","     13107","NOTURNO",35]
[2020,2,"ENGENHARIA ELÉTRICA - HABILITAÇÃO EM SISTEMAS ELETRÔNICOS - 69A","   1109487","INTEGRAL",20]
[2020,2,"ENGENHARIA ELÉTRICA - HAB. EM ROBÓTICA E AUTOMAÇÃO INDUSTRIAL - 69B","   1109485","INTEGRAL",18]
[2020,2,"ENGENHARIA ELÉTRICA - HABILITAÇÃO EM SISTEMAS DE POTÊNCIA - 69C","   1109486","INTEGRAL",21]
[2020,2,"ENGENHARIA ELÉTRICA - HABILITAÇÃO EM TELECOMUNICAÇÕES - 69D","   1109488","INTEGRAL",22]
[2020,2,"ENGENHARIA MECÂNICA - 71A","   1109489","INTEGRAL",27]
[2020,2,"BACHARELADO INTERDISCIPLINAR EM CIÊNCIAS HUMANAS - 73A","   1120242","NOTURNO",165]
[2020,2,"SISTEMAS DE INFORMAÇÃO - 76A","   1128364","NOTURNO",41]
[2020,2,"FÍSICA - 81A","   1166037","NOTURNO",20]
[2020,2,"MATEMÁTICA - 82A","   1166038","NOTURNO",31]
[2020,2,"QUÍMICA - 83A","   1166039","NOTURNO",30]
[2020,2,"JORNALISMO - 84A","     27657","INTEGRAL",35]
[2020,2,"MEDICINA VETERINÁRIA - 87A","   1268972","INTEGRAL",51]
[2020,2,"LICENCIATURA EM LETRAS - LIBRAS - 88A","   1268983","NOTURNO",37]
[2020,2,"TURISMO - 93A","     21589","NOTURNO",48]
[2020,2,"BACHARELADO EM MODA - 66E","   1153950","INTEGRAL",1]
[2020,3,"ENGENHARIA MECÂNICA - 65M","   1109489","INTEGRAL",1]
[2021,1,"ABI - CIÊNCIAS BIOLÓGICAS - 01ABI","   5000608","INTEGRAL",31]
[2021,1,"CIÊNCIAS BIOLÓGICAS - 01B","    313086","INTEGRAL",1]
[2021,1,"ADMINISTRAÇÃO - 01GV","   1178684","INTEGRAL",45]
[2021,1,"CIÊNCIAS CONTÁBEIS - 02GV","   1183351","INTEGRAL",44]
[2021,1,"CIÊNCIAS ECONÔMICAS - 03GV","   1178683","INTEGRAL",48]
[2021,1,"DIREITO - 04A","     13089","INTEGRAL",51]
[2021,1,"DIREITO - 04GV","   1178675","INTEGRAL",51]
[2021,1,"CIÊNCIAS ECONÔMICAS - 05A","     13090","INTEGRAL",56]
[2021,1,"FARMÁCIA - 05GV","   1185503","INTEGRAL",40]
[2021,1,"FISIOTERAPIA - 06GV","   1178689","INTEGRAL",16]
[2021,1,"FARMÁCIA - 07A","     38509","INTEGRAL",53]
[2021,1,"MEDICINA - 07GV","   5001167","INTEGRAL",52]
[2021,1,"ABI - FILOSOFIA - 08ABI","   5000611","INTEGRAL",30]
[2021,1,"FILOSOFIA - 08B","    313097","INTEGRAL",3]
[2021,1,"NUTRIÇÃO - 08GV","   1178688","INTEGRAL",37]
[2021,1,"FILOSOFIA - 08L","     13097","INTEGRAL",7]
[2021,1,"ODONTOLOGIA - 09GV","   5001168","INTEGRAL",42]
[2021,1,"ABI - GEOGRAFIA - 10ABI","   5000615","INTEGRAL",43]
[2021,1,"GEOGRAFIA - 10B","    313099","INTEGRAL",1]
[2021,1,"EDUCAÇÃO FÍSICA - 10GV","   1270439","INTEGRAL",36]
[2021,1,"ABI - HISTÓRIA - 11ABI","   5000616","INTEGRAL",48]
[2021,1,"ABI - LETRAS - 13ABI","   5000617","INTEGRAL",44]
[2021,1,"LETRAS - 13B","    313101","INTEGRAL",1]
[2021,1,"LETRAS - 13B","    313101","INTEGRAL",1]
[2021,1,"LETRAS - 13B","    313101","INTEGRAL",7]
[2021,1,"LETRAS - 13L","     13101","INTEGRAL",6]
[2021,1,"LETRAS - 13L","     13101","INTEGRAL",1]
[2021,1,"LETRAS - 13L","     13101","INTEGRAL",2]
[2021,1,"LETRAS - 13L","     13101","INTEGRAL",3]
[2021,1,"MEDICINA - 15A","     13103","INTEGRAL",94]
[2021,1,"ODONTOLOGIA - 16A","     13104","INTEGRAL",53]
[2021,1,"PEDAGOGIA - 17A","     13105","MATUTINO",41]
[2021,1,"SERVIÇO SOCIAL - 19A","     13107","MATUTINO",37]
[2021,1,"FISIOTERAPIA - 20A","     13118","INTEGRAL",26]
[2021,1,"ABI - EDUCAÇÃO FÍSICA - 21ABI","   5000610","INTEGRAL",50]
[2021,1,"ENFERMAGEM - 23A","     38994","INTEGRAL",42]
[2021,1,"ENGENHARIA CIVIL - 24A","     13094","INTEGRAL",52]
[2021,1,"ADMINISTRAÇÃO - 26A","     22451","INTEGRAL",43]
[2021,1,"GEOGRAFIA - 27L","     13099","NOTURNO",44]
[2021,1,"ABI - LETRAS - 29ABI","   5000617","NOTURNO",1]
[2021,1,"PSICOLOGIA - 32A","     13113","INTEGRAL",52]
[2021,1,"ARQUITETURA E URBANISMO - 33A","     13114","INTEGRAL",40]
[2021,1,"DIREITO - 34A","     21860","NOTURNO",52]
[2021,1,"ADMINISTRAÇÃO - 46A","     22451","NOTURNO",41]
[2021,1,"ENGENHARIA DE PRODUÇÃO - 49A","     38594","NOTURNO",31]
[2021,1,"CIÊNCIAS ECONÔMICAS - 51A","     13090","NOTURNO",53]
[2021,1,"MÚSICA - MODALIDADE FLAUTA TRANSVERSAL - 63B","    116490","INTEGRAL",2]
[2021,1,"MÚSICA - MODALIDADE FLAUTA TRANSVERSAL - 63B","    116491","INTEGRAL",2]
[2021,1,"MÚSICA - MODALIDADE PIANO - 63C","    116490","INTEGRAL",1]
[2021,1,"MÚSICA - MODALIDADE PIANO - 63C","    116492","INTEGRAL",1]
[2021,1,"MÚSICA - MODALIDADE VIOLÃO - 63D","    116490","INTEGRAL",2]
[2021,1,"MÚSICA - MODALIDADE VIOLÃO - 63D","    116493","INTEGRAL",2]
[2021,1,"MÚSICA - MODALIDADE COMPOSIÇÃO - 63G","    116490","INTEGRAL",7]
[2021,1,"MÚSICA - MODALIDADE COMPOSIÇÃO - 63G","   1271995","INTEGRAL",7]
[2021,1,"NUTRIÇÃO - 64A","    116498","INTEGRAL",54]
[2021,1,"CIÊNCIAS EXATAS - 65A","    116502","INTEGRAL",253]
[2021,1,"ENGENHARIA COMPUTACIONAL - 65B","   1120244","INTEGRAL",19]
[2021,1,"CIÊNCIA DA COMPUTAÇÃO - 65C","     65361","INTEGRAL",22]
[2021,1,"ESTATÍSTICA - 65D","    113531","INTEGRAL",16]
[2021,1,"FÍSICA - 65E","   5000613","INTEGRAL",19]
[2021,1,"MATEMÁTICA - 65F","   5000618","INTEGRAL",23]
[2021,1,"MATEMÁTICA - 65FL","     13102","INTEGRAL",2]
[2021,1,"QUÍMICA - 65GB","   5000619","INTEGRAL",40]
[2021,1,"ENGENHARIA MECÂNICA - 65M","   1109489","INTEGRAL",1]
[2021,1,"ENGENHARIA AMBIENTAL E SANITÁRIA - 67A","    116496","INTEGRAL",52]
[2021,1,"ENGENHARIA ELÉTRICA - HABILITAÇÃO EM SISTEMAS ELETRÔNICOS - 69A","   1109487","INTEGRAL",21]
[2021,1,"ENGENHARIA ELÉTRICA - HAB. EM ROBÓTICA E AUTOMAÇÃO INDUSTRIAL - 69B","   1109485","INTEGRAL",20]
[2021,1,"ENGENHARIA ELÉTRICA - HABILITAÇÃO EM SISTEMAS DE POTÊNCIA - 69C","   1109486","INTEGRAL",23]
[2021,1,"ENGENHARIA ELÉTRICA - HABILITAÇÃO EM TELECOMUNICAÇÕES - 69D","   1109488","INTEGRAL",24]
[2021,1,"ENGENHARIA ELÉTRICA - HABILITAÇÃO EM ENERGIA - 70A","   1109475","NOTURNO",45]
[2021,1,"ENGENHARIA MECÂNICA - 71A","   1109489","INTEGRAL",21]
[2021,1,"BACHARELADO INTERDISCIPLINAR EM CIÊNCIAS HUMANAS - 72A","   1120242","INTEGRAL",157]
[2021,1,"FILOSOFIA - 72EB","   5000611","INTEGRAL",1]
[2021,1,"CIÊNCIAS CONTÁBEIS - 77A","   1132074","INTEGRAL",44]
[2021,1,"CIÊNCIAS CONTÁBEIS - 78A","   1132074","NOTURNO",43]
[2021,1,"JORNALISMO - 85A","     36356","NOTURNO",36]
[2021,1,"MEDICINA VETERINÁRIA - 87A","   1268972","INTEGRAL",57]
[2021,1,"LICENCIATURA EM MÚSICA - 89A","   1278855","INTEGRAL",10]
[2021,1,"RÁDIO, TV E INTERNET - 91A","   1374873","INTEGRAL",31]
[2021,1,"TURISMO - 92A","     21589","INTEGRAL",49]
[2021,1,"BACHARELADO EM ARTES VISUAIS - 66C","   1153948","INTEGRAL",52]
[2021,1,"BACHARELADO EM MODA - 66E","   1153950","INTEGRAL",48]
[2021,1,"LICENCIATURA EM ARTES VISUAIS - 66F","   1153951","INTEGRAL",52]
[2021,1,"BACHARELADO EM CINEMA E AUDIOVISUAL - 66B","   1153947","INTEGRAL",52]
[2021,1,"BACHARELADO EM DESIGN - 66D","   1153949","INTEGRAL",49]
[2021,2,"ABI - CIÊNCIAS BIOLÓGICAS - 01ABI","   5000608","INTEGRAL",29]
[2021,2,"ADMINISTRAÇÃO - 01GV","   1178684","INTEGRAL",28]
[2021,2,"CIÊNCIAS ECONÔMICAS - 03GV","   1178683","INTEGRAL",18]
[2021,2,"DIREITO - 04A","     13089","INTEGRAL",57]
[2021,2,"DIREITO - 04GV","   1178675","INTEGRAL",57]
[2021,2,"FARMÁCIA - 05GV","   1185503","INTEGRAL",40]
[2021,2,"FISIOTERAPIA - 06GV","   1178689","INTEGRAL",17]
[2021,2,"FARMÁCIA - 07A","     38509","INTEGRAL",55]
[2021,2,"MEDICINA - 07GV","   5001167","INTEGRAL",53]
[2021,2,"NUTRIÇÃO - 08GV","   1178688","INTEGRAL",39]
[2021,2,"ODONTOLOGIA - 09GV","   5001168","INTEGRAL",46]
[2021,2,"EDUCAÇÃO FÍSICA - 10GV","   1270439","INTEGRAL",30]
[2021,2,"LETRAS - 13B","    313101","INTEGRAL",1]
[2021,2,"MEDICINA - 15A","     13103","INTEGRAL",98]
[2021,2,"ODONTOLOGIA - 16A","     13104","INTEGRAL",54]
[2021,2,"FISIOTERAPIA - 20A","     13118","INTEGRAL",24]
[2021,2,"ABI - EDUCAÇÃO FÍSICA - 21ABI","   5000610","INTEGRAL",49]
[2021,2,"EDUCAÇÃO FÍSICA - 21L","     13092","INTEGRAL",4]
[2021,2,"ENFERMAGEM - 23A","     38994","INTEGRAL",46]
[2021,2,"ENGENHARIA CIVIL - 24A","     13094","INTEGRAL",48]
[2021,2,"ABI - HISTÓRIA - 28ABI","   5000616","NOTURNO",48]
[2021,2,"LETRAS - 29L","     13101","NOTURNO",51]
[2021,2,"PEDAGOGIA - 30A","     13105","NOTURNO",43]
[2021,2,"ARQUITETURA E URBANISMO - 33A","     13114","INTEGRAL",44]
[2021,2,"DIREITO - 34A","     21860","NOTURNO",55]
[2021,2,"CIÊNCIA DA COMPUTAÇÃO - 35A","     18518","NOTURNO",41]
[2021,2,"ENGENHARIA DE PRODUÇÃO - 49A","     38594","NOTURNO",28]
[2021,2,"NUTRIÇÃO - 64A","    116498","INTEGRAL",52]
[2021,2,"ENGENHARIA MECÂNICA - 65M","   1109489","INTEGRAL",1]
[2021,2,"SERVIÇO SOCIAL - 68A","     13107","NOTURNO",44]
[2021,2,"ENGENHARIA ELÉTRICA - HABILITAÇÃO EM SISTEMAS ELETRÔNICOS - 69A","   1109487","INTEGRAL",17]
[2021,2,"ENGENHARIA ELÉTRICA - HAB. EM ROBÓTICA E AUTOMAÇÃO INDUSTRIAL - 69B","   1109485","INTEGRAL",20]
[2021,2,"ENGENHARIA ELÉTRICA - HABILITAÇÃO EM SISTEMAS DE POTÊNCIA - 69C","   1109486","INTEGRAL",23]
[2021,2,"ENGENHARIA ELÉTRICA - HABILITAÇÃO EM TELECOMUNICAÇÕES - 69D","   1109488","INTEGRAL",25]
[2021,2,"ENGENHARIA MECÂNICA - 71A","   1109489","INTEGRAL",25]
[2021,2,"BACHARELADO INTERDISCIPLINAR EM CIÊNCIAS HUMANAS - 73A","   1120242","NOTURNO",151]
[2021,2,"CIÊNCIA DA RELIGIÃO - 73B","   1165350","NOTURNO",1]
[2021,2,"SISTEMAS DE INFORMAÇÃO - 76A","   1128364","NOTURNO",44]
[2021,2,"FÍSICA - 81A","   1166037","NOTURNO",18]
[2021,2,"MATEMÁTICA - 82A","   1166038","NOTURNO",18]
[2021,2,"QUÍMICA - 83A","   1166039","NOTURNO",14]
[2021,2,"JORNALISMO - 84A","     27657","INTEGRAL",42]
[2021,2,"MEDICINA VETERINÁRIA - 87A","   1268972","INTEGRAL",56]
[2021,2,"LICENCIATURA EM LETRAS - LIBRAS - 88A","   1268983","NOTURNO",23]
[2021,2,"TURISMO - 93A","     21589","NOTURNO",41]

{"sheet":"Concluintes","index":2,"n_rows":229,"n_cols":8,"rows_kept":229,"cut":false,"hidden":true,"merged":[]}
["SEM","CURSO"," CURSOINEP","OPCAO","TURNO","CONCLUINTES",null,"os cursos medicina JF e enfermagem JF (em vermelho) não tinham ainda os concluintes totais de 2021/1, utilizamos os 2020/1"]
[1,"CIÊNCIAS BIOLÓGICAS - 01B","    313086","1-Bacharelado","INTEGRAL",4]
[1,"ADMINISTRAÇÃO - 01GV","   1178684","1-Bacharelado em Administração","INTEGRAL",7]
[1,"CIÊNCIAS BIOLÓGICAS - 01L","     13086","1-Licenciado","INTEGRAL",9]
[1,"CIÊNCIAS CONTÁBEIS - 02GV","   1183351","1-Bacharelado em Ciências Contábeis","INTEGRAL",1]
[1,"CIÊNCIAS ECONÔMICAS - 03GV","   1178683","1-Bacharelado","INTEGRAL",5]
[1,"DIREITO - 04A","     13089","1-Bacharelado","INTEGRAL",41]
[1,"DIREITO - 04GV","   1178675","1-Bacharelado","INTEGRAL",40]
[1,"CIÊNCIAS ECONÔMICAS - 05A","     13090","1-Bacharelado","INTEGRAL",8]
[1,"FARMÁCIA - 05GV","   1185503","1-Farmácia","INTEGRAL",2]
[1,"FARMÁCIA - 07A","     38509","1-Farmácia","INTEGRAL",14]
[1,"MEDICINA - 07GV","   5001167","1-Bacharelado","INTEGRAL",29]
[1,"FILOSOFIA - 08B","    313097","1-BACHAREL","INTEGRAL",3]
[1,"FILOSOFIA - 08L","     13097","1-LICENCIADO","INTEGRAL",1]
[1,"ODONTOLOGIA - 09GV","   5001168","1-Cirurgião-Dentista","INTEGRAL",23]
[1,"GEOGRAFIA - 10B","    313099","0-Bacharelado","INTEGRAL",4]
[1,"EDUCAÇÃO FÍSICA - 10GV","   1270439","1-Bacharelado em Educação Física","INTEGRAL",4]
[1,"GEOGRAFIA - 10L","     13099","0-Licenciado","INTEGRAL",8]
[1,"HISTÓRIA - 11B","    313100","1-Bacharelado","INTEGRAL",1]
[1,"HISTÓRIA - 11B","    313100","2-Bacharel em História e Ênfase em Patrimônio Histórico","INTEGRAL",1]
[1,"HISTÓRIA - 11L","     13100","1-Licenciado em História","INTEGRAL",9]
[1,"HISTÓRIA - 11L","     13100","2-Licenciado em História e Ênfase em Patrimônio Histórico","INTEGRAL",1]
[1,"LETRAS - 13B","    313101","1-Bacharelado","INTEGRAL",1]
[1,"LETRAS - 13L","     13101","1-Licenciado","INTEGRAL",1]
[1,"LETRAS - 13L","     13101","1-Licenciatura","INTEGRAL",1]
[1,"LETRAS - 13L","     13101","1-Licenciado","INTEGRAL",4]
[1,"LETRAS - 13L","     13101","1-Licenciatura","INTEGRAL",14]
[1,"MEDICINA - 15A","     13103","1-Médico","INTEGRAL",86]
[1,"ODONTOLOGIA - 16A","     13104","1-Cirurgião-Dentista","INTEGRAL",21]
[1,"PEDAGOGIA - 17A","     13105","1-Licenciatura","MATUTINO",14]
[1,"SERVIÇO SOCIAL - 19A","     13107","1-Bacharel em Serviço Social","MATUTINO",1]
[1,"FISIOTERAPIA - 20A","     13118","1-Fisioterapeuta","INTEGRAL",10]
[1,"EDUCAÇÃO FÍSICA - 21B","    313092","1-Bacharelado","INTEGRAL",12]
[1,"EDUCAÇÃO FÍSICA - 21L","     13092","1-Licenciatura","INTEGRAL",19]
[1,"ENGENHARIA CIVIL - 24A","     13094","1-Engenheiro Civil","INTEGRAL",18]
[1,"ENGENHARIA CIVIL - 24A","     13094","16-Transportes e Geotecnia","INTEGRAL",1]
[1,"ENGENHARIA CIVIL - 24A","     13094","18-Construção Civil E Transportes e Geotecnia","INTEGRAL",2]
[1,"ENGENHARIA CIVIL - 24A","     13094","5-Construção Civil","INTEGRAL",4]
[1,"ADMINISTRAÇÃO - 26A","     22451","1-Adm. Empresas","INTEGRAL",8]
[1,"GEOGRAFIA - 27L","     13099","0-Licenciado","NOTURNO",7]
[1,"HISTÓRIA - 28B","    313100","1-Bacharelado","NOTURNO",1]
[1,"HISTÓRIA - 28B","    313100","2-Bacharel em História e Ênfase em Patrimônio Histórico","NOTURNO",1]
[1,"HISTÓRIA - 28L","     13100","1-Licenciatura","NOTURNO",11]
[1,"LETRAS - 29L","     13101","1-Licenciado em Letras - Habilitação em Inglês","NOTURNO",2]
[1,"LETRAS - 29L","     13101","1-Licenciatura","NOTURNO",11]
[1,"PEDAGOGIA - 30A","     13105","1-Licenciatura","NOTURNO",9]
[1,"PSICOLOGIA - 32A","     13113","1-Psicologo","INTEGRAL",3]
[1,"ARQUITETURA E URBANISMO - 33A","     13114","1-Arquiteto e Urbanista","INTEGRAL",24]
[1,"DIREITO - 34A","     21860","1-Bacharelado","NOTURNO",41]
[1,"CIÊNCIA DA COMPUTAÇÃO - 35A","     18518","5-Bacharel","NOTURNO",4]
[1,"ADMINISTRAÇÃO - 46A","     22451","1-Adm. Empresas","NOTURNO",4]
[1,"ENGENHARIA DE PRODUÇÃO - 49A","     38594","1-Engenheiro de Produção","NOTURNO",21]
[1,"CIÊNCIAS ECONÔMICAS - 51A","     13090","1-Bacharelado","NOTURNO",12]
[1,"MÚSICA - CANTO - 63A","    116490","1-Bacharel - Modalidade Canto","INTEGRAL",2]
[1,"MÚSICA - MODALIDADE FLAUTA TRANSVERSAL - 63B","    116490","1-Bacharel - Modalidade Flauta Transversal","INTEGRAL",1]
[1,"MÚSICA - MODALIDADE FLAUTA TRANSVERSAL - 63B","    116491","1-Bacharel - Modalidade Flauta Transversal","INTEGRAL",1]
[1,"MÚSICA - MODALIDADE VIOLÃO - 63D","    116490","1-Bacharel - Modalidade Violao","INTEGRAL",1]
[1,"MÚSICA - MODALIDADE VIOLÃO - 63D","    116493","1-Bacharel - Modalidade Violao","INTEGRAL",1]
[1,"MÚSICA - MODALIDADE COMPOSIÇÃO - 63G","    116490","1-Bacharel","INTEGRAL",1]
[1,"MÚSICA - MODALIDADE COMPOSIÇÃO - 63G","   1271995","1-Bacharel","INTEGRAL",1]
[1,"NUTRIÇÃO - 64A","    116498","1-Bacharel em Nutrição","INTEGRAL",27]
[1,"CIÊNCIAS EXATAS - 65A","    116502","1-Bacharelado","INTEGRAL",44]
[1,"ENGENHARIA COMPUTACIONAL - 65B","   1120244","1-Engenheiro Computacional","INTEGRAL",2]
[1,"CIÊNCIA DA COMPUTAÇÃO - 65C","     65361","1-Bacharelado","INTEGRAL",6]
[1,"ESTATÍSTICA - 65D","    113531","1-Bacharelado","INTEGRAL",7]
[1,"FÍSICA - 65E","   5000613","2-Bacharelado","INTEGRAL",2]
[1,"FÍSICA - 65E","    313098","1-Bacharel em Física","INTEGRAL",1]
[1,"QUÍMICA - 65GB","   5000619","1-Bacharelado","INTEGRAL",1]
[1,"ENGENHARIA ELÉTRICA - HABILITAÇÃO EM ENERGIA - 65H","   1109475","1-Engenheiro Eletricista - Habilitação em Energia","NOTURNO",1]
[1,"ENGENHARIA ELÉTRICA - HAB. EM ROBÓTICA E AUTOMAÇÃO INDUSTRIAL - 65I","   1109485","1-Engenheiro Eletricista-Hab. robótica e automação industrial","INTEGRAL",1]
[1,"ENGENHARIA ELÉTRICA - HABILITAÇÃO EM SISTEMAS DE POTÊNCIA - 65J","   1109486","1-Engenheiro Eletricista - Habilitação em sistemas de potência","INTEGRAL",1]
[1,"ENGENHARIA ELÉTRICA - HABILITAÇÃO EM SISTEMAS ELETRÔNICOS - 65K","   1109487","1-Engenheiro Eletricista - Habilitação em sistemas eletrônicos","INTEGRAL",2]
[1,"ENGENHARIA MECÂNICA - 65M","   1109489","1-Engenheiro Mecânico","INTEGRAL",2]
[1,"BACHARELADO INTERDISCIPLINAR EM ARTES E DESIGN - 66A","    116500","1-Bacharel","INTEGRAL",20]
[1,"BACHARELADO EM CINEMA E AUDIOVISUAL - 66B","   1153947","1-Bacharel","INTEGRAL",10]
[1,"BACHARELADO EM ARTES VISUAIS - 66C","   1153948","1-Bacharel","INTEGRAL",3]
[1,"BACHARELADO EM DESIGN - 66D","   1153949","1-Bacharel","INTEGRAL",3]
[1,"BACHARELADO EM MODA - 66E","   1153950","1-Bacharel","INTEGRAL",7]
[1,"LICENCIATURA EM ARTES VISUAIS - 66F","   1153951","1-Licenciado","NOTURNO",11]
[1,"ENGENHARIA AMBIENTAL E SANITÁRIA - 67A","    116496","1-Engenheiro Ambiental e Sanitarista","INTEGRAL",8]
[1,"ENGENHARIA ELÉTRICA - HABILITAÇÃO EM SISTEMAS ELETRÔNICOS - 69A","   1109487","1-Engenheiro Eletricista - Habilitação em sistemas eletrônicos","INTEGRAL",10]
[1,"ENGENHARIA ELÉTRICA - HAB. EM ROBÓTICA E AUTOMAÇÃO INDUSTRIAL - 69B","   1109485","1-Engenheiro Eletricista-Hab. robótica e automação industrial","INTEGRAL",7]
[1,"ENGENHARIA ELÉTRICA - HABILITAÇÃO EM SISTEMAS DE POTÊNCIA - 69C","   1109486","1-Engenheiro Eletricista - Habilitação em sistemas de potência","INTEGRAL",11]
[1,"ENGENHARIA ELÉTRICA - HABILITAÇÃO EM TELECOMUNICAÇÕES - 69D","   1109488","1-Engenheiro Eletricista - Habilitação em Telecomunicações","INTEGRAL",5]
[1,"ENGENHARIA ELÉTRICA - HABILITAÇÃO EM ENERGIA - 70A","   1109475","1-Engenheiro Eletricista - Habilitação em Energia","NOTURNO",13]
[1,"ENGENHARIA MECÂNICA - 71A","   1109489","1-Engenheiro Mecânico","INTEGRAL",12]
[1,"BACHARELADO INTERDISCIPLINAR EM CIÊNCIAS HUMANAS - 72A","   1120242","1-Bacharelado","INTEGRAL",17]
[1,"CIÊNCIAS SOCIAIS - 72CB","    313087","1-Bacharelado","INTEGRAL",1]
[1,"CIÊNCIAS SOCIAIS - 72CL","     13087","1-Licenciatura","INTEGRAL",1]
[1,"TURISMO - 72D","     21589","1-Bacharelado","INTEGRAL",4]
[1,"FILOSOFIA - 72EB","    313097","1-BACHARELADO","DIURNO",1]
[1,"FILOSOFIA - 72EL","     13097","1-Licenciado","INTEGRAL",1]
[1,"BACHARELADO INTERDISCIPLINAR EM CIÊNCIAS HUMANAS - 73A","   1120242","1-Bacharelado","NOTURNO",18]
[1,"CIÊNCIA DA RELIGIÃO - 73B","   1165350","1-Bacharelado","NOTURNO",4]
[1,"CIÊNCIAS SOCIAIS - 73CB","    313087","1-Bacharelado","NOTURNO",5]
[1,"CIÊNCIAS SOCIAIS - 73CL","     13087","1-Licenciado em Ciências Sociais","NOTURNO",6]
[1,"TURISMO - 73D","     21589","1-Bacharelado","NOTURNO",4]
[1,"SISTEMAS DE INFORMAÇÃO - 76A","   1128364","1-Bacharelado em sistemas de informação","NOTURNO",6]
[1,"CIÊNCIAS CONTÁBEIS - 77A","   1132074","1-bacharel em Ciências Contábeis","INTEGRAL",12]
[1,"CIÊNCIAS CONTÁBEIS - 78A","   1132074","1-Bacharel em Ciências Contábeis","NOTURNO",10]
[1,"FÍSICA - 81A","   1166037","0-Licenciado","NOTURNO",1]
[1,"JORNALISMO - 84A","     27657","1-Bacharel em Jornalismo","INTEGRAL",8]
[1,"JORNALISMO - 85A","     36356","1-Jornalismo","NOTURNO",9]
[1,"MEDICINA VETERINÁRIA - 87A","   1268972","1-Médico Veterinário","INTEGRAL",4]
[1,"LICENCIATURA EM LETRAS - LIBRAS - 88A","   1268983","1-Licenciatura","NOTURNO",4]
[1,"LICENCIATURA EM MÚSICA - 89A","   1278855","1-Licenciatura em Música","INTEGRAL",2]
[1,"RÁDIO, TV E INTERNET - 91A","   1374873","1-Bacharelado","INTEGRAL",2]
[1,"TURISMO - 92A","     21589","1-Bacharel em Turismo","INTEGRAL",2]
[1,"TURISMO - 93A","     21589","1-Bacharel em Turismo","NOTURNO",1]
[2,"CIÊNCIAS BIOLÓGICAS - 01B","    313086","1-Bacharelado","INTEGRAL",9]
[2,"ADMINISTRAÇÃO - 01GV","   1178684","1-Bacharelado em Administração","INTEGRAL",7]
[2,"CIÊNCIAS BIOLÓGICAS - 01L","     13086","1-Licenciado","INTEGRAL",25]
[2,"CIÊNCIAS CONTÁBEIS - 02GV","   1183351","1-Bacharelado em Ciências Contábeis","INTEGRAL",9]
[2,"CIÊNCIAS ECONÔMICAS - 03GV","   1178683","1-Bacharelado","INTEGRAL",9]
[2,"DIREITO - 04A","     13089","1-Bacharelado","INTEGRAL",55]
[2,"DIREITO - 04GV","   1178675","1-Bacharelado","INTEGRAL",48]
[2,"CIÊNCIAS ECONÔMICAS - 05A","     13090","1-Bacharelado","INTEGRAL",11]
[2,"FARMÁCIA - 05GV","   1185503","1-Farmácia","INTEGRAL",1]
[2,"FISIOTERAPIA - 06GV","   1178689","1-Fisioterapeuta","INTEGRAL",15]
[2,"FARMÁCIA - 07A","     38509","1-Farmácia","INTEGRAL",14]
[2,"MEDICINA - 07GV","   5001167","1-Bacharelado","INTEGRAL",42]
[2,"FILOSOFIA - 08B","    313097","1-BACHAREL","INTEGRAL",8]
[2,"NUTRIÇÃO - 08GV","   1178688","1-Nutricionista","INTEGRAL",17]
[2,"FILOSOFIA - 08L","     13097","1-LICENCIADO","INTEGRAL",6]
[2,"ODONTOLOGIA - 09GV","   5001168","1-Cirurgião-Dentista","INTEGRAL",30]
[2,"GEOGRAFIA - 10B","    313099","0-Bacharelado","INTEGRAL",9]
[2,"EDUCAÇÃO FÍSICA - 10GV","   1270439","1-Bacharelado em Educação Física","INTEGRAL",7]
[2,"GEOGRAFIA - 10L","     13099","0-Licenciado","INTEGRAL",11]
[2,"HISTÓRIA - 11B","    313100","1-Bacharelado","INTEGRAL",3]
[2,"HISTÓRIA - 11L","     13100","1-Licenciado em História","INTEGRAL",19]
[2,"HISTÓRIA - 11L","     13100","2-Licenciado em História e Ênfase em Patrimônio Histórico","INTEGRAL",3]
[2,"LETRAS - 13B","    313101","1-Bacharelado","INTEGRAL",3]
[2,"LETRAS - 13B","    313101","1-Bacharel em Letras","INTEGRAL",2]
[2,"LETRAS - 13B","    313101","1-Bacharelado","INTEGRAL",1]
[2,"LETRAS - 13L","     13101","1-Licenciado","INTEGRAL",4]
[2,"LETRAS - 13L","     13101","1-Licenciatura","INTEGRAL",11]
[2,"LETRAS - 13L","     13101","1-Licenciatura em Letras","INTEGRAL",1]
[2,"MEDICINA - 15A","     13103","1-Médico","INTEGRAL",63]
[2,"ODONTOLOGIA - 16A","     13104","1-Cirurgião-Dentista","INTEGRAL",48]
[2,"PEDAGOGIA - 17A","     13105","1-Licenciatura","MATUTINO",14]
[2,"SERVIÇO SOCIAL - 19A","     13107","1-Bacharel em Serviço Social","MATUTINO",5]
[2,"FISIOTERAPIA - 20A","     13118","1-Fisioterapeuta","INTEGRAL",17]
[2,"EDUCAÇÃO FÍSICA - 21B","   5000610","2-Bacharelado","INTEGRAL",1]
[2,"EDUCAÇÃO FÍSICA - 21B","    313092","1-Bacharelado","INTEGRAL",13]
[2,"EDUCAÇÃO FÍSICA - 21L","     13092","1-Licenciatura","INTEGRAL",3]
[2,"ENFERMAGEM - 23A","     38994","1-Enfermeiro","INTEGRAL",18]
[2,"ENGENHARIA CIVIL - 24A","     13094","1-Engenheiro Civil","INTEGRAL",35]
[2,"ENGENHARIA CIVIL - 24A","     13094","16-Transportes e Geotecnia","INTEGRAL",3]
[2,"ENGENHARIA CIVIL - 24A","     13094","2-Estruturas","INTEGRAL",1]
[2,"ENGENHARIA CIVIL - 24A","     13094","5-Construção Civil","INTEGRAL",1]
[2,"ADMINISTRAÇÃO - 26A","     22451","1-Adm. Empresas","INTEGRAL",12]
[2,"GEOGRAFIA - 27L","     13099","0-Licenciado","NOTURNO",12]
[2,"HISTÓRIA - 28B","    313100","2-Bacharel em História e Ênfase em Patrimônio Histórico","NOTURNO",2]
[2,"HISTÓRIA - 28L","     13100","1-Licenciatura","NOTURNO",9]
[2,"HISTÓRIA - 28L","     13100","2-Licenciatura com ênfase em patrimônio histórico","NOTURNO",2]
[2,"LETRAS - 29L","     13101","1-Licenciado em Letras - Habilitação em Inglês","NOTURNO",4]
[2,"LETRAS - 29L","     13101","1-Licenciatura","NOTURNO",3]
[2,"PEDAGOGIA - 30A","     13105","1-Licenciatura","NOTURNO",10]
[2,"PSICOLOGIA - 32A","     13113","1-Psicologo","INTEGRAL",33]
[2,"ARQUITETURA E URBANISMO - 33A","     13114","1-Arquiteto e Urbanista","INTEGRAL",28]
[2,"DIREITO - 34A","     21860","1-Bacharelado","NOTURNO",41]
[2,"CIÊNCIA DA COMPUTAÇÃO - 35A","     18518","5-Bacharel","NOTURNO",1]
[2,"ADMINISTRAÇÃO - 46A","     22451","1-Adm. Empresas","NOTURNO",13]
[2,"ENGENHARIA DE PRODUÇÃO - 49A","     38594","1-Engenheiro de Produção","NOTURNO",25]
[2,"CIÊNCIAS ECONÔMICAS - 51A","     13090","1-Bacharelado","NOTURNO",15]
[2,"MÚSICA - MODALIDADE VIOLINO - 63E","    116490","1-Bacharel - Modalidade Violino","INTEGRAL",1]
[2,"MÚSICA - MODALIDADE VIOLINO - 63E","    116494","1-Bacharel - Modalidade Violino","INTEGRAL",1]
[2,"MÚSICA - MODALIDADE COMPOSIÇÃO - 63G","    116490","1-Bacharel","INTEGRAL",1]
[2,"MÚSICA - MODALIDADE COMPOSIÇÃO - 63G","   1271995","1-Bacharel","INTEGRAL",1]
[2,"NUTRIÇÃO - 64A","    116498","1-Bacharel em Nutrição","INTEGRAL",51]
[2,"CIÊNCIAS EXATAS - 65A","    116502","1-Bacharelado","INTEGRAL",37]
[2,"ENGENHARIA COMPUTACIONAL - 65B","   1120244","1-Engenheiro Computacional","INTEGRAL",6]
[2,"CIÊNCIA DA COMPUTAÇÃO - 65C","     65361","1-Bacharelado","INTEGRAL",6]
[2,"ESTATÍSTICA - 65D","    113531","1-Bacharelado","INTEGRAL",2]
[2,"FÍSICA - 65E","    313098","1-Bacharel em Física","INTEGRAL",4]
[2,"FÍSICA - 65EL","     13098","1-Licenciatura em Física","INTEGRAL",1]
[2,"MATEMÁTICA - 65F","    313102","1-Bacharelado em Matemática","INTEGRAL",2]
[2,"MATEMÁTICA - 65FL","     13102","1-Licenciado em Matemática","INTEGRAL",3]
[2,"QUÍMICA - 65GB","    313106","1-Bacharel em Química","INTEGRAL",7]
[2,"QUÍMICA - 65GL","     13106","1-Licenciatura","INTEGRAL",15]
[2,"ENGENHARIA ELÉTRICA - HABILITAÇÃO EM ENERGIA - 65H","   1109475","1-Engenheiro Eletricista - Habilitação em Energia","NOTURNO",1]
[2,"ENGENHARIA ELÉTRICA - HABILITAÇÃO EM SISTEMAS DE POTÊNCIA - 65J","   1109486","1-Engenheiro Eletricista - Habilitação em sistemas de potência","INTEGRAL",3]
[2,"ENGENHARIA ELÉTRICA - HABILITAÇÃO EM TELECOMUNICAÇÕES - 65L","   1109488","1-Engenheiro Eletricista - Habilitação em Telecomunicações","INTEGRAL",1]
[2,"ENGENHARIA MECÂNICA - 65M","   1109489","1-Engenheiro Mecânico","INTEGRAL",7]
[2,"BACHARELADO INTERDISCIPLINAR EM ARTES E DESIGN - 66A","    116500","1-Bacharel","INTEGRAL",94]
[2,"BACHARELADO EM CINEMA E AUDIOVISUAL - 66B","   1153947","1-Bacharel","INTEGRAL",8]
[2,"BACHARELADO EM ARTES VISUAIS - 66C","   1153948","1-Bacharel","INTEGRAL",2]
[2,"BACHARELADO EM DESIGN - 66D","   1153949","1-Bacharel","INTEGRAL",12]
[2,"BACHARELADO EM MODA - 66E","   1153950","1-Bacharel","INTEGRAL",5]
[2,"LICENCIATURA EM ARTES VISUAIS - 66F","   1153951","1-Licenciado","NOTURNO",5]
[2,"ENGENHARIA AMBIENTAL E SANITÁRIA - 67A","    116496","1-Engenheiro Ambiental e Sanitarista","INTEGRAL",8]
[2,"SERVIÇO SOCIAL - 68A","     13107","1-Bacharel em Serviço Social","NOTURNO",9]
[2,"ENGENHARIA ELÉTRICA - HABILITAÇÃO EM SISTEMAS ELETRÔNICOS - 69A","   1109487","1-Engenheiro Eletricista - Habilitação em sistemas eletrônicos","INTEGRAL",7]
[2,"ENGENHARIA ELÉTRICA - HAB. EM ROBÓTICA E AUTOMAÇÃO INDUSTRIAL - 69B","   1109485","1-Engenheiro Eletricista-Hab. robótica e automação industrial","INTEGRAL",10]
[2,"ENGENHARIA ELÉTRICA - HABILITAÇÃO EM SISTEMAS DE POTÊNCIA - 69C","   1109486","1-Engenheiro Eletricista - Habilitação em sistemas de potência","INTEGRAL",15]
[2,"ENGENHARIA ELÉTRICA - HABILITAÇÃO EM TELECOMUNICAÇÕES - 69D","   1109488","1-Engenheiro Eletricista - Habilitação em Telecomunicações","INTEGRAL",7]
[2,"ENGENHARIA ELÉTRICA - HABILITAÇÃO EM ENERGIA - 70A","   1109475","1-Engenheiro Eletricista - Habilitação em Energia","NOTURNO",7]
[2,"ENGENHARIA MECÂNICA - 71A","   1109489","1-Engenheiro Mecânico","INTEGRAL",8]
[2,"BACHARELADO INTERDISCIPLINAR EM CIÊNCIAS HUMANAS - 72A","   1120242","1-Bacharelado","INTEGRAL",22]
[2,"CIÊNCIA DA RELIGIÃO - 72B","   1165350","1-Bacharelado","NOTURNO",1]
[2,"CIÊNCIA DA RELIGIÃO - 72BL","   1165686","1-Licenciatura","NOTURNO",1]
[2,"TURISMO - 72D","     21589","2-Bacharelado - Gestão de Empreendimentos Turísticos","INTEGRAL",2]
[2,"FILOSOFIA - 72EL","     13097","1-Licenciado","INTEGRAL",1]
[2,"BACHARELADO INTERDISCIPLINAR EM CIÊNCIAS HUMANAS - 73A","   1120242","1-Bacharelado","NOTURNO",19]
[2,"CIÊNCIA DA RELIGIÃO - 73B","   1165350","1-Bacharelado","NOTURNO",1]
[2,"CIÊNCIA DA RELIGIÃO - 73BL","   1165686","1-Licenciatura","NOTURNO",1]
[2,"CIÊNCIAS SOCIAIS - 73CB","    313087","1-Bacharelado","NOTURNO",8]
[2,"CIÊNCIAS SOCIAIS - 73CL","     13087","1-Licenciado em Ciências Sociais","NOTURNO",3]
[2,"TURISMO - 73D","     21589","1-Bacharelado","NOTURNO",1]
[2,"TURISMO - 73D","     21589","2-Bacharelado - Gestão de Empreendimentos Turísticos","NOTURNO",1]
[2,"TURISMO - 73D","     21589","3-Bacharelado - Patrimônio e Gestão de Destino Turísticos","NOTURNO",1]
[2,"SISTEMAS DE INFORMAÇÃO - 76A","   1128364","1-Bacharelado em sistemas de informação","NOTURNO",6]
[2,"CIÊNCIAS CONTÁBEIS - 77A","   1132074","1-bacharel em Ciências Contábeis","INTEGRAL",10]
[2,"CIÊNCIAS CONTÁBEIS - 78A","   1132074","1-Bacharel em Ciências Contábeis","NOTURNO",8]
[2,"FÍSICA - 81A","   1166037","0-Licenciado","NOTURNO",3]
[2,"MATEMÁTICA - 82A","   1166038","1-Licenciatura","NOTURNO",6]
[2,"QUÍMICA - 83A","   1166039","0-Licenciado","NOTURNO",4]
[2,"JORNALISMO - 84A","     27657","1-Bacharel em Jornalismo","INTEGRAL",3]
[2,"JORNALISMO - 85A","     36356","1-Jornalismo","NOTURNO",3]
[2,"MEDICINA VETERINÁRIA - 87A","   1268972","1-Médico Veterinário","INTEGRAL",29]
[2,"LICENCIATURA EM LETRAS - LIBRAS - 88A","   1268983","1-Licenciatura","NOTURNO",7]
[2,"LICENCIATURA EM MÚSICA - 89A","   1278855","1-Licenciatura","INTEGRAL",1]
[2,"LICENCIATURA EM MÚSICA - 89A","   1278855","1-Licenciatura","INTEGRAL",2]
[2,"LICENCIATURA EM MÚSICA - 89A","   1278855","1-Licenciatura","INTEGRAL",1]
[2,"LICENCIATURA EM MÚSICA - 89A","   1278855","1-Licenciatura em Música","INTEGRAL",3]
[2,"RÁDIO, TV E INTERNET - 91A","   1374873","1-Bacharelado","INTEGRAL",4]
[2,"TURISMO - 92A","     21589","1-Bacharel em Turismo","INTEGRAL",2]
[1,"ENFERMAGEM - 23A","     38994","1-Enfermeiro","INTEGRAL",19]
[1,"ENFERMAGEM - 23L","    338994","1-Licenciado em Enfermagem","INTEGRAL",7]

{"sheet":"Matriculados","index":3,"n_rows":358,"n_cols":5,"rows_kept":358,"cut":false,"hidden":true,"merged":[]}
["SEM","CURSO"," CURSOINEP","TURNO","MATRICULADOS"]
[1,"ABI - CIÊNCIAS BIOLÓGICAS - 01ABI","   5000608","INTEGRAL",60]
[1,"CIÊNCIAS BIOLÓGICAS - 01B","    313086","INTEGRAL",177]
[1,"ADMINISTRAÇÃO - 01GV","   1178684","INTEGRAL",280]
[1,"CIÊNCIAS BIOLÓGICAS - 01L","     13086","INTEGRAL",125]
[1,"CIÊNCIAS CONTÁBEIS - 02GV","   1183351","INTEGRAL",156]
[1,"CIÊNCIAS ECONÔMICAS - 03GV","   1178683","INTEGRAL",265]
[1,"DIREITO - 04A","     13089","INTEGRAL",499]
[1,"DIREITO - 04GV","   1178675","INTEGRAL",488]
[1,"CIÊNCIAS ECONÔMICAS - 05A","     13090","INTEGRAL",242]
[1,"FARMÁCIA - 05GV","   1185503","INTEGRAL",293]
[1,"FISIOTERAPIA - 06GV","   1178689","INTEGRAL",236]
[1,"FARMÁCIA - 07A","     38509","INTEGRAL",508]
[1,"MEDICINA - 07GV","   5001167","INTEGRAL",475]
[1,"ABI - FILOSOFIA - 08ABI","   5000611","INTEGRAL",58]
[1,"FILOSOFIA - 08B","    313097","INTEGRAL",47]
[1,"NUTRIÇÃO - 08GV","   1178688","INTEGRAL",285]
[1,"FILOSOFIA - 08L","     13097","INTEGRAL",78]
[1,"FÍSICA - 09A","   5000613","INTEGRAL",1]
[1,"ODONTOLOGIA - 09GV","   5001168","INTEGRAL",369]
[1,"ABI - GEOGRAFIA - 10ABI","   5000615","INTEGRAL",48]
[1,"GEOGRAFIA - 10B","    313099","INTEGRAL",125]
[1,"EDUCAÇÃO FÍSICA - 10GV","   1270439","INTEGRAL",204]
[1,"GEOGRAFIA - 10L","     13099","INTEGRAL",111]
[1,"HISTÓRIA - 11A","   5000616","INTEGRAL",1]
[1,"ABI - HISTÓRIA - 11ABI","   5000616","INTEGRAL",95]
[1,"HISTÓRIA - 11B","    313100","INTEGRAL",70]
[1,"HISTÓRIA - 11L","     13100","INTEGRAL",150]
[1,"LETRAS - 13A","   5000617","INTEGRAL",5]
[1,"ABI - LETRAS - 13ABI","   5000617","INTEGRAL",71]
[1,"LETRAS - 13B","    313101","INTEGRAL",40]
[1,"LETRAS - 13B","    313101","INTEGRAL",6]
[1,"LETRAS - 13B","    313101","INTEGRAL",5]
[1,"LETRAS - 13B","    313101","INTEGRAL",49]
[1,"LETRAS - 13B","    313101","INTEGRAL",2]
[1,"LETRAS - 13L","     13101","INTEGRAL",17]
[1,"LETRAS - 13L","     13101","INTEGRAL",11]
[1,"LETRAS - 13L","     13101","INTEGRAL",67]
[1,"LETRAS - 13L","     13101","INTEGRAL",7]
[1,"LETRAS - 13L","     13101","INTEGRAL",4]
[1,"LETRAS - 13L","     13101","INTEGRAL",89]
[1,"LETRAS - 13L","     13101","INTEGRAL",9]
[1,"LETRAS - 13L","     13101","INTEGRAL",24]
[1,"LETRAS - 13L","     13101","INTEGRAL",12]
[1,"LETRAS - 13L","     13101","INTEGRAL",14]
[1,"MEDICINA - 15A","     13103","INTEGRAL",929]
[1,"ODONTOLOGIA - 16A","     13104","INTEGRAL",407]
[1,"PEDAGOGIA - 17A","     13105","MATUTINO",183]
[1,"SERVIÇO SOCIAL - 19A","     13107","MATUTINO",159]
[1,"FISIOTERAPIA - 20A","     13118","INTEGRAL",215]
[1,"EDUCAÇÃO FÍSICA - 21B","   5000610","INTEGRAL",107]
[1,"ABI - EDUCAÇÃO FÍSICA - 21ABI","   5000610","INTEGRAL",311]
[1,"EDUCAÇÃO FÍSICA - 21B","    313092","INTEGRAL",75]
[1,"EDUCAÇÃO FÍSICA - 21L","     13092","INTEGRAL",86]
[1,"ENFERMAGEM - 23A","     38994","INTEGRAL",334]
[1,"ENGENHARIA CIVIL - 24A","     13094","INTEGRAL",506]
[1,"ENGENHARIA ELÉTRICA - 25A","     13095","INTEGRAL",3]
[1,"ADMINISTRAÇÃO - 26A","     22451","INTEGRAL",209]
[1,"GEOGRAFIA - 27A","   5000615","NOTURNO",1]
[1,"GEOGRAFIA - 27L","    313099","NOTURNO",2]
[1,"GEOGRAFIA - 27L","     13099","NOTURNO",164]
[1,"ABI - HISTÓRIA - 28ABI","   5000616","NOTURNO",50]
[1,"HISTÓRIA - 28B","    313100","NOTURNO",54]
[1,"HISTÓRIA - 28L","     13100","NOTURNO",140]
[1,"LETRAS - 29A","   5000617","NOTURNO",10]
[1,"ABI - LETRAS - 29ABI","   5000617","NOTURNO",73]
[1,"LETRAS - 29L","     13101","NOTURNO",75]
[1,"LETRAS - 29L","     13101","NOTURNO",24]
[1,"LETRAS - 29L","     13101","NOTURNO",47]
[1,"PEDAGOGIA - 30A","     13105","NOTURNO",182]
[1,"PSICOLOGIA - 32A","     13113","INTEGRAL",288]
[1,"ARQUITETURA E URBANISMO - 33A","     13114","INTEGRAL",401]
[1,"DIREITO - 34A","     21860","NOTURNO",491]
[1,"CIÊNCIA DA COMPUTAÇÃO - 35A","     18518","NOTURNO",178]
[1,"ADMINISTRAÇÃO - 46A","     22451","NOTURNO",201]
[1,"ENGENHARIA DE PRODUÇÃO - 49A","     38594","NOTURNO",314]
[1,"ENGENHARIA ELÉTRICA - 50A","     49788","NOTURNO",3]
[1,"CIÊNCIAS ECONÔMICAS - 51A","     13090","NOTURNO",273]
[1,"QUÍMICA - 65GB","   5000619","INTEGRAL",1]
[1,"MÚSICA - CANTO - 63A","    116490","INTEGRAL",8]
[1,"MÚSICA - MODALIDADE FLAUTA TRANSVERSAL - 63B","    116490","INTEGRAL",6]
[1,"MÚSICA - MODALIDADE FLAUTA TRANSVERSAL - 63B","    116491","INTEGRAL",6]
[1,"MÚSICA - MODALIDADE PIANO - 63C","    116490","INTEGRAL",5]
[1,"MÚSICA - MODALIDADE PIANO - 63C","    116492","INTEGRAL",5]
[1,"MÚSICA - MODALIDADE VIOLÃO - 63D","    116490","INTEGRAL",7]
[1,"MÚSICA - MODALIDADE VIOLÃO - 63D","    116493","INTEGRAL",7]
[1,"MÚSICA - MODALIDADE VIOLINO - 63E","    116490","INTEGRAL",3]
[1,"MÚSICA - MODALIDADE VIOLINO - 63E","    116494","INTEGRAL",3]
[1,"MÚSICA - MODALIDADE VIOLONCELO - 63F","    116490","INTEGRAL",3]
[1,"MÚSICA - MODALIDADE VIOLONCELO - 63F","    116495","INTEGRAL",3]
[1,"MÚSICA - MODALIDADE COMPOSIÇÃO - 63G","    116490","INTEGRAL",29]
[1,"MÚSICA - MODALIDADE COMPOSIÇÃO - 63G","   1271995","INTEGRAL",29]
[1,"NUTRIÇÃO - 64A","    116498","INTEGRAL",523]
[1,"CIÊNCIAS EXATAS - 65A","    116502","INTEGRAL",936]
[1,"ENGENHARIA COMPUTACIONAL - 65B","   1120244","INTEGRAL",121]
[1,"CIÊNCIA DA COMPUTAÇÃO - 65C","     65361","INTEGRAL",119]
[1,"ESTATÍSTICA - 65D","    113531","INTEGRAL",74]
[1,"FÍSICA - 65E","   5000613","INTEGRAL",93]
[1,"FÍSICA - 65E","    313098","INTEGRAL",9]
[1,"FÍSICA - 65EL","     13098","INTEGRAL",3]
[1,"MATEMÁTICA - 65F","   5000618","INTEGRAL",80]
[1,"MATEMÁTICA - 65F","    313102","INTEGRAL",12]
[1,"MATEMÁTICA - 65FL","     13102","INTEGRAL",14]
[1,"QUÍMICA - 65GB","   5000619","INTEGRAL",47]
[1,"QUÍMICA - 65GB","   5000619","INTEGRAL",63]
[1,"QUÍMICA - 65GB","    313106","INTEGRAL",82]
[1,"QUÍMICA - 65GL","     13106","INTEGRAL",55]
[1,"ENGENHARIA ELÉTRICA - HABILITAÇÃO EM ENERGIA - 65H","   1109475","NOTURNO",20]
[1,"ENGENHARIA ELÉTRICA - HAB. EM ROBÓTICA E AUTOMAÇÃO INDUSTRIAL - 65I","   1109485","INTEGRAL",18]
[1,"ENGENHARIA ELÉTRICA - HABILITAÇÃO EM SISTEMAS DE POTÊNCIA - 65J","   1109486","INTEGRAL",23]
[1,"ENGENHARIA ELÉTRICA - HABILITAÇÃO EM SISTEMAS ELETRÔNICOS - 65K","   1109487","INTEGRAL",8]
[1,"ENGENHARIA ELÉTRICA - HABILITAÇÃO EM TELECOMUNICAÇÕES - 65L","   1109488","INTEGRAL",7]
[1,"ENGENHARIA MECÂNICA - 65M","   1109489","INTEGRAL",36]
[1,"BACHARELADO INTERDISCIPLINAR EM ARTES E DESIGN - 66A","    116500","INTEGRAL",842]
[1,"BACHARELADO EM CINEMA E AUDIOVISUAL - 66B","   1153947","INTEGRAL",125]
[1,"BACHARELADO EM ARTES VISUAIS - 66C","   1153948","INTEGRAL",64]
[1,"BACHARELADO EM DESIGN - 66D","   1153949","INTEGRAL",108]
[1,"BACHARELADO EM MODA - 66E","   1153950","INTEGRAL",70]
[1,"LICENCIATURA EM ARTES VISUAIS - 66F","   1153951","NOTURNO",56]
[1,"ENGENHARIA AMBIENTAL E SANITÁRIA - 67A","    116496","INTEGRAL",252]
[1,"SERVIÇO SOCIAL - 68A","     13107","NOTURNO",159]
[1,"ENGENHARIA ELÉTRICA - HABILITAÇÃO EM SISTEMAS ELETRÔNICOS - 69A","   1109487","INTEGRAL",211]
[1,"ENGENHARIA ELÉTRICA - HAB. EM ROBÓTICA E AUTOMAÇÃO INDUSTRIAL - 69B","   1109485","INTEGRAL",232]
[1,"ENGENHARIA ELÉTRICA - HABILITAÇÃO EM SISTEMAS DE POTÊNCIA - 69C","   1109486","INTEGRAL",225]
[1,"ENGENHARIA ELÉTRICA - HABILITAÇÃO EM TELECOMUNICAÇÕES - 69D","   1109488","INTEGRAL",190]
[1,"ENGENHARIA ELÉTRICA - HABILITAÇÃO EM ENERGIA - 70A","   1109475","NOTURNO",231]
[1,"ENGENHARIA MECÂNICA - 71A","   1109489","INTEGRAL",254]
[1,"BACHARELADO INTERDISCIPLINAR EM CIÊNCIAS HUMANAS - 72A","   1120242","INTEGRAL",541]
[1,"CIÊNCIA DA RELIGIÃO - 72B","   1165350","NOTURNO",2]
[1,"CIÊNCIA DA RELIGIÃO - 72BL","   1165686","NOTURNO",1]
[1,"CIÊNCIAS SOCIAIS - 72CB","    313087","INTEGRAL",6]
[1,"CIÊNCIAS SOCIAIS - 72CL","     13087","INTEGRAL",3]
[1,"TURISMO - 72D","     21589","INTEGRAL",19]
[1,"FILOSOFIA - 72EB","   5000611","INTEGRAL",20]
[1,"FILOSOFIA - 72EB","    313097","DIURNO",10]
[1,"FILOSOFIA - 72EL","     13097","INTEGRAL",16]
[1,"BACHARELADO INTERDISCIPLINAR EM CIÊNCIAS HUMANAS - 73A","   1120242","NOTURNO",435]
[1,"CIÊNCIA DA RELIGIÃO - 73B","   1165350","NOTURNO",42]
[1,"CIÊNCIA DA RELIGIÃO - 73BL","   1165686","NOTURNO",61]
[1,"CIÊNCIAS SOCIAIS - 73C","   5000609","NOTURNO",154]
[1,"CIÊNCIAS SOCIAIS - 73CB","    313087","NOTURNO",65]
[1,"CIÊNCIAS SOCIAIS - 73CL","     13087","NOTURNO",46]
[1,"TURISMO - 73D","     21589","NOTURNO",22]
[1,"SISTEMAS DE INFORMAÇÃO - 76A","   1128364","NOTURNO",155]
[1,"CIÊNCIAS CONTÁBEIS - 77A","   1132074","INTEGRAL",212]
[1,"CIÊNCIAS CONTÁBEIS - 78A","   1132074","NOTURNO",210]
[1,"FÍSICA - 81A","   1166037","NOTURNO",61]
[1,"MATEMÁTICA - 82A","   1166038","NOTURNO",66]
[1,"QUÍMICA - 83A","   1166039","NOTURNO",73]
[1,"JORNALISMO - 84A","     27657","INTEGRAL",134]
[1,"JORNALISMO - 85A","     36356","NOTURNO",181]
[1,"MEDICINA VETERINÁRIA - 87A","   1268972","INTEGRAL",504]
[1,"LICENCIATURA EM LETRAS - LIBRAS - 88A","   1268983","NOTURNO",99]
[1,"LICENCIATURA EM MÚSICA - 89A","   1278855","INTEGRAL",1]
[1,"LICENCIATURA EM MÚSICA - 89A","   1278855","INTEGRAL",5]
[1,"LICENCIATURA EM MÚSICA - 89A","   1278855","INTEGRAL",1]
[1,"LICENCIATURA EM MÚSICA - 89A","   1278855","INTEGRAL",7]
[1,"LICENCIATURA EM MÚSICA - 89A","   1278855","INTEGRAL",6]
[1,"LICENCIATURA EM MÚSICA - 89A","   1278855","INTEGRAL",7]
[1,"LICENCIATURA EM MÚSICA - 89A","   1278855","INTEGRAL",1]
[1,"LICENCIATURA EM MÚSICA - 89A","   1278855","INTEGRAL",39]
[1,"LICENCIATURA EM MÚSICA - 89A","   1278855","INTEGRAL",2]
[1,"RÁDIO, TV E INTERNET - 91A","   1374873","INTEGRAL",136]
[1,"TURISMO - 92A","     21589","INTEGRAL",140]
[1,"TURISMO - 93A","     21589","NOTURNO",100]
[1,"BACHARELADO EM ARTES VISUAIS - 66C","   1153948","INTEGRAL",91]
[1,"BACHARELADO EM MODA - 66E","   1153950","INTEGRAL",94]
[1,"LICENCIATURA EM ARTES VISUAIS - 66F","   1153951","INTEGRAL",94]
[1,"BACHARELADO EM CINEMA E AUDIOVISUAL - 66B","   1153947","INTEGRAL",96]
[1,"BACHARELADO EM DESIGN - 66D","   1153949","INTEGRAL",87]
[1,"DIREITO - 04GV","   1178675","INTEGRAL",1]
[1,"FARMÁCIA - 05GV","   1185503","INTEGRAL",245]
[1,"MEDICINA - 07GV","   5001167","INTEGRAL",351]
[1,"NUTRIÇÃO - 08GV","   1178688","INTEGRAL",172]
[1,"ODONTOLOGIA - 09GV","   5001168","INTEGRAL",294]
[1,"FISIOTERAPIA - 20A","     13118","INTEGRAL",164]
[1,"ENGENHARIA MECÂNICA - 71A","   1109489","INTEGRAL",1]
[1,"SISTEMAS DE INFORMAÇÃO - 76A","   1128364","NOTURNO",1]
[1,"JORNALISMO - 84A","     27657","INTEGRAL",10]
[1,"JORNALISMO - 85A","     36356","NOTURNO",10]
[1,"LICENCIATURA EM LETRAS - LIBRAS - 88A","   1268983","NOTURNO",31]
[1,"BACHARELADO EM ARTES VISUAIS - 66C","   1153948","INTEGRAL",1]
[2,"ABI - CIÊNCIAS BIOLÓGICAS - 01ABI","   5000608","INTEGRAL",78]
[2,"CIÊNCIAS BIOLÓGICAS - 01B","    313086","INTEGRAL",169]
[2,"ADMINISTRAÇÃO - 01GV","   1178684","INTEGRAL",260]
[2,"CIÊNCIAS BIOLÓGICAS - 01L","     13086","INTEGRAL",115]
[2,"CIÊNCIAS CONTÁBEIS - 02GV","   1183351","INTEGRAL",136]
[2,"CIÊNCIAS ECONÔMICAS - 03GV","   1178683","INTEGRAL",235]
[2,"DIREITO - 04A","     13089","INTEGRAL",496]
[2,"DIREITO - 04GV","   1178675","INTEGRAL",474]
[2,"CIÊNCIAS ECONÔMICAS - 05A","     13090","INTEGRAL",216]
[2,"FARMÁCIA - 05GV","   1185503","INTEGRAL",244]
[2,"FISIOTERAPIA - 06GV","   1178689","INTEGRAL",261]
[2,"FARMÁCIA - 07A","     38509","INTEGRAL",513]
[2,"MEDICINA - 07GV","   5001167","INTEGRAL",348]
[2,"ABI - FILOSOFIA - 08ABI","   5000611","INTEGRAL",39]
[2,"FILOSOFIA - 08B","    313097","INTEGRAL",45]
[2,"NUTRIÇÃO - 08GV","   1178688","INTEGRAL",234]
[2,"FILOSOFIA - 08L","     13097","INTEGRAL",79]
[2,"FÍSICA - 09A","   5000613","INTEGRAL",2]
[2,"ODONTOLOGIA - 09GV","   5001168","INTEGRAL",10]
[2,"ABI - GEOGRAFIA - 10ABI","   5000615","INTEGRAL",34]
[2,"GEOGRAFIA - 10B","    313099","INTEGRAL",123]
[2,"EDUCAÇÃO FÍSICA - 10GV","   1270439","INTEGRAL",194]
[2,"GEOGRAFIA - 10L","     13099","INTEGRAL",105]
[2,"HISTÓRIA - 11A","   5000616","INTEGRAL",2]
[2,"ABI - HISTÓRIA - 11ABI","   5000616","INTEGRAL",85]
[2,"HISTÓRIA - 11B","    313100","INTEGRAL",65]
[2,"HISTÓRIA - 11L","     13100","INTEGRAL",140]
[2,"LETRAS - 13A","   5000617","INTEGRAL",3]
[2,"ABI - LETRAS - 13ABI","   5000617","INTEGRAL",59]
[2,"LETRAS - 13B","    313101","INTEGRAL",40]
[2,"LETRAS - 13B","    313101","INTEGRAL",5]
[2,"LETRAS - 13B","    313101","INTEGRAL",5]
[2,"LETRAS - 13B","    313101","INTEGRAL",49]
[2,"LETRAS - 13B","    313101","INTEGRAL",2]
[2,"LETRAS - 13L","     13101","INTEGRAL",9]
[2,"LETRAS - 13L","     13101","INTEGRAL",7]
[2,"LETRAS - 13L","     13101","INTEGRAL",56]
[2,"LETRAS - 13L","     13101","INTEGRAL",5]
[2,"LETRAS - 13L","     13101","INTEGRAL",4]
[2,"LETRAS - 13L","     13101","INTEGRAL",78]
[2,"LETRAS - 13L","     13101","INTEGRAL",9]
[2,"LETRAS - 13L","     13101","INTEGRAL",24]
[2,"LETRAS - 13L","     13101","INTEGRAL",12]
[2,"LETRAS - 13L","     13101","INTEGRAL",14]
[2,"MEDICINA - 15A","     13103","INTEGRAL",260]
[2,"ODONTOLOGIA - 16A","     13104","INTEGRAL",77]
[2,"PEDAGOGIA - 17A","     13105","MATUTINO",149]
[2,"SERVIÇO SOCIAL - 19A","     13107","MATUTINO",153]
[2,"FISIOTERAPIA - 20A","     13118","INTEGRAL",181]
[2,"EDUCAÇÃO FÍSICA - 21B","   5000610","INTEGRAL",83]
[2,"ABI - EDUCAÇÃO FÍSICA - 21ABI","   5000610","INTEGRAL",342]
[2,"EDUCAÇÃO FÍSICA - 21B","    313092","INTEGRAL",55]
[2,"EDUCAÇÃO FÍSICA - 21L","     13092","INTEGRAL",56]
[2,"ENGENHARIA CIVIL - 24A","     13094","INTEGRAL",513]
[2,"ENGENHARIA ELÉTRICA - 25A","     13095","INTEGRAL",3]
[2,"ADMINISTRAÇÃO - 26A","     22451","INTEGRAL",186]
[2,"GEOGRAFIA - 27A","   5000615","NOTURNO",1]
[2,"GEOGRAFIA - 27L","    313099","NOTURNO",2]
[2,"GEOGRAFIA - 27L","     13099","NOTURNO",139]
[2,"HISTÓRIA - 28A","   5000616","NOTURNO",2]
[2,"ABI - HISTÓRIA - 28ABI","   5000616","NOTURNO",86]
[2,"HISTÓRIA - 28B","    313100","NOTURNO",49]
[2,"HISTÓRIA - 28L","     13100","NOTURNO",128]
[2,"LETRAS - 29A","   5000617","NOTURNO",7]
[2,"ABI - LETRAS - 29ABI","   5000617","NOTURNO",73]
[2,"LETRAS - 29L","     13101","NOTURNO",109]
[2,"LETRAS - 29L","     13101","NOTURNO",20]
[2,"LETRAS - 29L","     13101","NOTURNO",36]
[2,"PEDAGOGIA - 30A","     13105","NOTURNO",203]
[2,"PSICOLOGIA - 32A","     13113","INTEGRAL",271]
[2,"ARQUITETURA E URBANISMO - 33A","     13114","INTEGRAL",412]
[2,"DIREITO - 34A","     21860","NOTURNO",478]
[2,"CIÊNCIA DA COMPUTAÇÃO - 35A","     18518","NOTURNO",201]
[2,"ADMINISTRAÇÃO - 46A","     22451","NOTURNO",177]
[2,"ENGENHARIA DE PRODUÇÃO - 49A","     38594","NOTURNO",301]
[2,"ENGENHARIA ELÉTRICA - 50A","     49788","NOTURNO",3]
[2,"CIÊNCIAS ECONÔMICAS - 51A","     13090","NOTURNO",243]
[2,"QUÍMICA - 65GB","   5000619","INTEGRAL",1]
[2,"MÚSICA - CANTO - 63A","    116490","INTEGRAL",5]
[2,"MÚSICA - MODALIDADE FLAUTA TRANSVERSAL - 63B","    116490","INTEGRAL",4]
[2,"MÚSICA - MODALIDADE FLAUTA TRANSVERSAL - 63B","    116491","INTEGRAL",4]
[2,"MÚSICA - MODALIDADE PIANO - 63C","    116490","INTEGRAL",5]
[2,"MÚSICA - MODALIDADE PIANO - 63C","    116492","INTEGRAL",5]
[2,"MÚSICA - MODALIDADE VIOLÃO - 63D","    116490","INTEGRAL",5]
[2,"MÚSICA - MODALIDADE VIOLÃO - 63D","    116493","INTEGRAL",5]
[2,"MÚSICA - MODALIDADE VIOLINO - 63E","    116490","INTEGRAL",3]
[2,"MÚSICA - MODALIDADE VIOLINO - 63E","    116494","INTEGRAL",3]
[2,"MÚSICA - MODALIDADE VIOLONCELO - 63F","    116490","INTEGRAL",3]
[2,"MÚSICA - MODALIDADE VIOLONCELO - 63F","    116495","INTEGRAL",3]
[2,"MÚSICA - MODALIDADE COMPOSIÇÃO - 63G","    116490","INTEGRAL",26]
[2,"MÚSICA - MODALIDADE COMPOSIÇÃO - 63G","   1271995","INTEGRAL",26]
[2,"NUTRIÇÃO - 64A","    116498","INTEGRAL",501]
[2,"CIÊNCIAS EXATAS - 65A","    116502","INTEGRAL",802]
[2,"ENGENHARIA COMPUTACIONAL - 65B","   1120244","INTEGRAL",104]
[2,"CIÊNCIA DA COMPUTAÇÃO - 65C","     65361","INTEGRAL",107]
[2,"ESTATÍSTICA - 65D","    113531","INTEGRAL",60]
[2,"FÍSICA - 65E","   5000613","INTEGRAL",82]
[2,"FÍSICA - 65E","    313098","INTEGRAL",9]
[2,"FÍSICA - 65EL","     13098","INTEGRAL",5]
[2,"MATEMÁTICA - 65F","   5000618","INTEGRAL",69]
[2,"MATEMÁTICA - 65F","    313102","INTEGRAL",9]
[2,"MATEMÁTICA - 65FL","     13102","INTEGRAL",14]
[2,"QUÍMICA - 65GB","   5000619","INTEGRAL",42]
[2,"QUÍMICA - 65GB","   5000619","INTEGRAL",46]
[2,"QUÍMICA - 65GB","    313106","INTEGRAL",80]
[2,"QUÍMICA - 65GL","     13106","INTEGRAL",53]
[2,"ENGENHARIA ELÉTRICA - HABILITAÇÃO EM ENERGIA - 65H","   1109475","NOTURNO",19]
[2,"ENGENHARIA ELÉTRICA - HAB. EM ROBÓTICA E AUTOMAÇÃO INDUSTRIAL - 65I","   1109485","INTEGRAL",17]
[2,"ENGENHARIA ELÉTRICA - HABILITAÇÃO EM SISTEMAS DE POTÊNCIA - 65J","   1109486","INTEGRAL",20]
[2,"ENGENHARIA ELÉTRICA - HABILITAÇÃO EM SISTEMAS ELETRÔNICOS - 65K","   1109487","INTEGRAL",5]
[2,"ENGENHARIA ELÉTRICA - HABILITAÇÃO EM TELECOMUNICAÇÕES - 65L","   1109488","INTEGRAL",7]
[2,"ENGENHARIA MECÂNICA - 65M","   1109489","INTEGRAL",32]
[2,"BACHARELADO INTERDISCIPLINAR EM ARTES E DESIGN - 66A","    116500","INTEGRAL",696]
[2,"BACHARELADO EM CINEMA E AUDIOVISUAL - 66B","   1153947","INTEGRAL",105]
[2,"BACHARELADO EM ARTES VISUAIS - 66C","   1153948","INTEGRAL",53]
[2,"BACHARELADO EM DESIGN - 66D","   1153949","INTEGRAL",86]
[2,"BACHARELADO EM MODA - 66E","   1153950","INTEGRAL",59]
[2,"LICENCIATURA EM ARTES VISUAIS - 66F","   1153951","NOTURNO",44]
[2,"ENGENHARIA AMBIENTAL E SANITÁRIA - 67A","    116496","INTEGRAL",215]
[2,"SERVIÇO SOCIAL - 68A","     13107","NOTURNO",180]
[2,"ENGENHARIA ELÉTRICA - HABILITAÇÃO EM SISTEMAS ELETRÔNICOS - 69A","   1109487","INTEGRAL",209]
[2,"ENGENHARIA ELÉTRICA - HAB. EM ROBÓTICA E AUTOMAÇÃO INDUSTRIAL - 69B","   1109485","INTEGRAL",229]
[2,"ENGENHARIA ELÉTRICA - HABILITAÇÃO EM SISTEMAS DE POTÊNCIA - 69C","   1109486","INTEGRAL",219]
[2,"ENGENHARIA ELÉTRICA - HABILITAÇÃO EM TELECOMUNICAÇÕES - 69D","   1109488","INTEGRAL",196]
[2,"ENGENHARIA ELÉTRICA - HABILITAÇÃO EM ENERGIA - 70A","   1109475","NOTURNO",200]
[2,"ENGENHARIA MECÂNICA - 71A","   1109489","INTEGRAL",251]
[2,"BACHARELADO INTERDISCIPLINAR EM CIÊNCIAS HUMANAS - 72A","   1120242","INTEGRAL",437]
[2,"CIÊNCIA DA RELIGIÃO - 72B","   1165350","NOTURNO",3]
[2,"CIÊNCIAS SOCIAIS - 72CB","    313087","INTEGRAL",5]
[2,"CIÊNCIAS SOCIAIS - 72CL","     13087","INTEGRAL",2]
[2,"TURISMO - 72D","     21589","INTEGRAL",13]
[2,"FILOSOFIA - 72EB","   5000611","INTEGRAL",21]
[2,"FILOSOFIA - 72EB","    313097","DIURNO",8]
[2,"FILOSOFIA - 72EL","     13097","INTEGRAL",14]
[2,"BACHARELADO INTERDISCIPLINAR EM CIÊNCIAS HUMANAS - 73A","   1120242","NOTURNO",508]
[2,"CIÊNCIA DA RELIGIÃO - 73B","   1165350","NOTURNO",34]
[2,"CIÊNCIA DA RELIGIÃO - 73BL","   1165686","NOTURNO",56]
[2,"CIÊNCIAS SOCIAIS - 73C","   5000609","NOTURNO",147]
[2,"CIÊNCIAS SOCIAIS - 73CB","    313087","NOTURNO",54]
[2,"CIÊNCIAS SOCIAIS - 73CL","     13087","NOTURNO",37]
[2,"TURISMO - 73D","     21589","NOTURNO",15]
[2,"SISTEMAS DE INFORMAÇÃO - 76A","   1128364","NOTURNO",181]
[2,"CIÊNCIAS CONTÁBEIS - 77A","   1132074","INTEGRAL",184]
[2,"CIÊNCIAS CONTÁBEIS - 78A","   1132074","NOTURNO",184]
[2,"FÍSICA - 81A","   1166037","NOTURNO",70]
[2,"MATEMÁTICA - 82A","   1166038","NOTURNO",72]
[2,"QUÍMICA - 83A","   1166039","NOTURNO",81]
[2,"JORNALISMO - 84A","     27657","INTEGRAL",157]
[2,"JORNALISMO - 85A","     36356","NOTURNO",156]
[2,"MEDICINA VETERINÁRIA - 87A","   1268972","INTEGRAL",535]
[2,"LICENCIATURA EM LETRAS - LIBRAS - 88A","   1268983","NOTURNO",105]
[2,"LICENCIATURA EM MÚSICA - 89A","   1278855","INTEGRAL",1]
[2,"LICENCIATURA EM MÚSICA - 89A","   1278855","INTEGRAL",5]
[2,"LICENCIATURA EM MÚSICA - 89A","   1278855","INTEGRAL",1]
[2,"LICENCIATURA EM MÚSICA - 89A","   1278855","INTEGRAL",7]
[2,"LICENCIATURA EM MÚSICA - 89A","   1278855","INTEGRAL",6]
[2,"LICENCIATURA EM MÚSICA - 89A","   1278855","INTEGRAL",7]
[2,"LICENCIATURA EM MÚSICA - 89A","   1278855","INTEGRAL",1]
[2,"LICENCIATURA EM MÚSICA - 89A","   1278855","INTEGRAL",35]
[2,"LICENCIATURA EM MÚSICA - 89A","   1278855","INTEGRAL",2]
[2,"RÁDIO, TV E INTERNET - 91A","   1374873","INTEGRAL",121]
[2,"TURISMO - 92A","     21589","INTEGRAL",108]
[2,"TURISMO - 93A","     21589","NOTURNO",122]
[2,"BACHARELADO EM ARTES VISUAIS - 66C","   1153948","INTEGRAL",75]
[2,"BACHARELADO EM MODA - 66E","   1153950","INTEGRAL",78]
[2,"LICENCIATURA EM ARTES VISUAIS - 66F","   1153951","INTEGRAL",77]
[2,"BACHARELADO EM CINEMA E AUDIOVISUAL - 66B","   1153947","INTEGRAL",86]
[2,"BACHARELADO EM DESIGN - 66D","   1153949","INTEGRAL",79]
[2,"CIÊNCIAS CONTÁBEIS - 02GV","   1183351","INTEGRAL",21]
[2,"SERVIÇO SOCIAL - 19A","     13107","MATUTINO",2]
[2,"ARQUITETURA E URBANISMO - 33A","     13114","INTEGRAL",15]
[2,"ENGENHARIA MECÂNICA - 65M","   1109489","INTEGRAL",3]
[2,"SERVIÇO SOCIAL - 68A","     13107","NOTURNO",2]
[2,"ENGENHARIA MECÂNICA - 71A","   1109489","INTEGRAL",29]
[2,"MEDICINA VETERINÁRIA - 87A","   1268972","INTEGRAL",221]
[2,"LICENCIATURA EM LETRAS - LIBRAS - 88A","   1268983","NOTURNO",33]

{"sheet":"Cursos","index":4,"n_rows":1929,"n_cols":3,"rows_kept":1929,"cut":false,"hidden":true,"merged":[]}
["CURSOS","CODIGO_INEP","Rótulos de Linha"]
["ABI - CIÊNCIAS BIOLÓGICAS - 01ABI","   5000608","ABI - CIÊNCIAS BIOLÓGICAS - 01ABI"]
["CIÊNCIAS BIOLÓGICAS - 01B","    313086","ABI - EDUCAÇÃO FÍSICA - 21ABI"]
["ADMINISTRAÇÃO - 01GV","   1178684","ABI - FILOSOFIA - 08ABI"]
["CIÊNCIAS BIOLÓGICAS - 01L","     13086","ABI - GEOGRAFIA - 10ABI"]
["CIÊNCIAS CONTÁBEIS - 02GV","   1183351","ABI - GEOGRAFIA - 27ABI"]
["CIÊNCIAS ECONÔMICAS - 03GV","   1178683","ABI - HISTÓRIA - 11ABI"]
["DIREITO - 04A","     13089","ABI - HISTÓRIA - 28ABI"]
["DIREITO - 04GV","   1178675","ABI - LETRAS - 13ABI"]
["CIÊNCIAS ECONÔMICAS - 05A","     13090","ABI - LETRAS - 29ABI"]
["FARMÁCIA - 05GV","   1185503","ADMINISTRAÇÃO - 01GV"]
["FISIOTERAPIA - 06GV","   1178689","ADMINISTRAÇÃO - 26A"]
["FARMÁCIA - 07A","     38509","ADMINISTRAÇÃO - 46A"]
["MEDICINA - 07GV","   5001167","ARQUITETURA E URBANISMO - 33A"]
["ABI - FILOSOFIA - 08ABI","   5000611","BACHARELADO EM ARTES VISUAIS - 66C"]
["FILOSOFIA - 08B","    313097","BACHARELADO EM CINEMA E AUDIOVISUAL - 66B"]
["NUTRIÇÃO - 08GV","   1178688","BACHARELADO EM DESIGN - 66D"]
["FILOSOFIA - 08L","     13097","BACHARELADO EM MODA - 66E"]
["FÍSICA - 09A","   5000613","BACHARELADO INTERDISCIPLINAR EM ARTES E DESIGN - 66A"]
["ODONTOLOGIA - 09GV","   5001168","BACHARELADO INTERDISCIPLINAR EM CIÊNCIAS HUMANAS - 72A"]
["ABI - GEOGRAFIA - 10ABI","   5000615","BACHARELADO INTERDISCIPLINAR EM CIÊNCIAS HUMANAS - 73A"]
["GEOGRAFIA - 10B","    313099","CIÊNCIA DA COMPUTAÇÃO - 35A"]
["EDUCAÇÃO FÍSICA - 10GV","   1270439","CIÊNCIA DA COMPUTAÇÃO - 65C"]
["GEOGRAFIA - 10L","     13099","CIÊNCIA DA RELIGIÃO - 72B"]
["ABI - HISTÓRIA - 11ABI","   5000616","CIÊNCIA DA RELIGIÃO - 72BL"]
["HISTÓRIA - 11B","    313100","CIÊNCIA DA RELIGIÃO - 73B"]
["HISTÓRIA - 11L","     13100","CIÊNCIA DA RELIGIÃO - 73BL"]
["LETRAS - 13A","   5000617","CIÊNCIAS BIOLÓGICAS - 01A"]
["ABI - LETRAS - 13ABI","   5000617","CIÊNCIAS BIOLÓGICAS - 01B"]
["LETRAS - 13B","    313101","CIÊNCIAS BIOLÓGICAS - 01L"]
["LETRAS - 13B","    313101","CIÊNCIAS CONTÁBEIS - 02GV"]
["LETRAS - 13L","     13101","CIÊNCIAS CONTÁBEIS - 77A"]
["LETRAS - 13L","     13101","CIÊNCIAS CONTÁBEIS - 78A"]
["LETRAS - 13L","     13101","CIÊNCIAS ECONÔMICAS - 03GV"]
["LETRAS - 13L","     13101","CIÊNCIAS ECONÔMICAS - 05A"]
["LETRAS - 13L","     13101","CIÊNCIAS ECONÔMICAS - 51A"]
["LETRAS - 13L","     13101","CIÊNCIAS EXATAS - 65A"]
["LETRAS - 13L","     13101","CIÊNCIAS SOCIAIS - 31B"]
["LETRAS - 13L","     13101","CIÊNCIAS SOCIAIS - 31L"]
["MEDICINA - 15A","     13103","CIÊNCIAS SOCIAIS - 72C"]
["ODONTOLOGIA - 16A","     13104","CIÊNCIAS SOCIAIS - 72CB"]
["PEDAGOGIA - 17A","     13105","CIÊNCIAS SOCIAIS - 72CL"]
["SERVIÇO SOCIAL - 19A","     13107","CIÊNCIAS SOCIAIS - 73C"]
["FISIOTERAPIA - 20A","     13118","CIÊNCIAS SOCIAIS - 73CB"]
["EDUCAÇÃO FÍSICA - 21B","   5000610","CIÊNCIAS SOCIAIS - 73CL"]
["EDUCAÇÃO FÍSICA - 21B","    313092","DIREITO - 04A"]
["EDUCAÇÃO FÍSICA - 21L","     13092","DIREITO - 04GV"]
["ENFERMAGEM - 23A","     38994","DIREITO - 34A"]
["ENFERMAGEM - 23L","    338994","EDUCAÇÃO ARTÍSTICA - 03A"]
["ENGENHARIA CIVIL - 24A","     13094","EDUCAÇÃO FÍSICA - 10GV"]
["ADMINISTRAÇÃO - 26A","     22451","EDUCAÇÃO FÍSICA - 21B"]
["ABI - GEOGRAFIA - 27ABI","   5000615","EDUCAÇÃO FÍSICA - 21L"]
["GEOGRAFIA - 27L","    313099","ENFERMAGEM - 23A"]
["GEOGRAFIA - 27L","     13099","ENFERMAGEM - 23L"]
["ABI - HISTÓRIA - 28ABI","   5000616","ENGENHARIA AMBIENTAL E SANITÁRIA - 67A"]
["HISTÓRIA - 28B","    313100","ENGENHARIA CIVIL - 24A"]
["HISTÓRIA - 28L","     13100","ENGENHARIA COMPUTACIONAL - 65B"]
["LETRAS - 29A","   5000617","ENGENHARIA DE PRODUÇÃO - 49A"]
["ABI - LETRAS - 29ABI","   5000617","ENGENHARIA ELÉTRICA - 25A"]
["LETRAS - 29B","    313101","ENGENHARIA ELÉTRICA - 50A"]
["LETRAS - 29L","     13101","ENGENHARIA ELÉTRICA - HAB. EM ROBÓTICA E AUTOMAÇÃO INDUSTRIAL - 65I"]
["PEDAGOGIA - 30A","     13105","ENGENHARIA ELÉTRICA - HAB. EM ROBÓTICA E AUTOMAÇÃO INDUSTRIAL - 69B"]
["CIÊNCIAS SOCIAIS - 31B","    313087","ENGENHARIA ELÉTRICA - HABILITAÇÃO EM ENERGIA - 65H"]
["PSICOLOGIA - 32A","     13113","ENGENHARIA ELÉTRICA - HABILITAÇÃO EM ENERGIA - 70A"]
["ARQUITETURA E URBANISMO - 33A","     13114","ENGENHARIA ELÉTRICA - HABILITAÇÃO EM SISTEMAS DE POTÊNCIA - 65J"]
["DIREITO - 34A","     21860","ENGENHARIA ELÉTRICA - HABILITAÇÃO EM SISTEMAS DE POTÊNCIA - 69C"]
["ADMINISTRAÇÃO - 46A","     22451","ENGENHARIA ELÉTRICA - HABILITAÇÃO EM SISTEMAS ELETRÔNICOS - 65K"]
["ENGENHARIA DE PRODUÇÃO - 49A","     38594","ENGENHARIA ELÉTRICA - HABILITAÇÃO EM SISTEMAS ELETRÔNICOS - 69A"]
["CIÊNCIAS ECONÔMICAS - 51A","     13090","ENGENHARIA ELÉTRICA - HABILITAÇÃO EM TELECOMUNICAÇÕES - 65L"]
["MÚSICA - CANTO - 63A","    116490","ENGENHARIA ELÉTRICA - HABILITAÇÃO EM TELECOMUNICAÇÕES - 69D"]
["MÚSICA - MODALIDADE PIANO - 63C","    116490","ENGENHARIA MECÂNICA - 65M"]
["MÚSICA - MODALIDADE PIANO - 63C","    116492","ENGENHARIA MECÂNICA - 71A"]
["MÚSICA - MODALIDADE VIOLÃO - 63D","    116490","ESTATÍSTICA - 65D"]
["MÚSICA - MODALIDADE VIOLÃO - 63D","    116493","FARMÁCIA - 05GV"]
["MÚSICA - MODALIDADE VIOLINO - 63E","    116490","FARMÁCIA - 07A"]
["MÚSICA - MODALIDADE VIOLINO - 63E","    116494","FILOSOFIA - 08A"]
["MÚSICA - MODALIDADE VIOLONCELO - 63F","    116490","FILOSOFIA - 08B"]
["MÚSICA - MODALIDADE VIOLONCELO - 63F","    116495","FILOSOFIA - 08L"]
["MÚSICA - MODALIDADE COMPOSIÇÃO - 63G","    116490","FILOSOFIA - 72EB"]
["MÚSICA - MODALIDADE COMPOSIÇÃO - 63G","   1271995","FILOSOFIA - 72EL"]
["NUTRIÇÃO - 64A","    116498","FILOSOFIA - 73E"]
["CIÊNCIAS EXATAS - 65A","    116502","FÍSICA - 09A"]
["ENGENHARIA COMPUTACIONAL - 65B","   1120244","FÍSICA - 65E"]
["CIÊNCIA DA COMPUTAÇÃO - 65C","     65361","FÍSICA - 65EL"]
["ESTATÍSTICA - 65D","    113531","FÍSICA - 81A"]
["FÍSICA - 65E","   5000613","FISIOTERAPIA - 06GV"]
["FÍSICA - 65E","    313098","FISIOTERAPIA - 20A"]
["MATEMÁTICA - 65F","   5000618","GEOGRAFIA - 10B"]
["MATEMÁTICA - 65F","    313102","GEOGRAFIA - 10L"]
["MATEMÁTICA - 65FL","     13102","GEOGRAFIA - 27A"]
["QUÍMICA - 65GB","   5000619","GEOGRAFIA - 27L"]
["QUÍMICA - 65GB","   5000619","HISTÓRIA - 11A"]
["QUÍMICA - 65GB","    313106","HISTÓRIA - 11B"]
["QUÍMICA - 65GL","     13106","HISTÓRIA - 11L"]
["ENGENHARIA ELÉTRICA - HABILITAÇÃO EM ENERGIA - 65H","   1109475","HISTÓRIA - 28A"]
["ENGENHARIA ELÉTRICA - HAB. EM ROBÓTICA E AUTOMAÇÃO INDUSTRIAL - 65I","   1109485","HISTÓRIA - 28B"]
["ENGENHARIA ELÉTRICA - HABILITAÇÃO EM SISTEMAS DE POTÊNCIA - 65J","   1109486","HISTÓRIA - 28L"]
["ENGENHARIA ELÉTRICA - HABILITAÇÃO EM SISTEMAS ELETRÔNICOS - 65K","   1109487","JORNALISMO - 84A"]
["ENGENHARIA MECÂNICA - 65M","   1109489","JORNALISMO - 85A"]
["BACHARELADO INTERDISCIPLINAR EM ARTES E DESIGN - 66A","    116500","LETRAS - 13A"]
["BACHARELADO EM CINEMA E AUDIOVISUAL - 66B","   1153947","LETRAS - 13B"]
["BACHARELADO EM ARTES VISUAIS - 66C","   1153948","LETRAS - 13L"]
["BACHARELADO EM DESIGN - 66D","   1153949","LETRAS - 29A"]
["BACHARELADO EM MODA - 66E","   1153950","LETRAS - 29B"]
["LICENCIATURA EM ARTES VISUAIS - 66F","   1153951","LETRAS - 29L"]
["ENGENHARIA AMBIENTAL E SANITÁRIA - 67A","    116496","LICENCIATURA EM ARTES VISUAIS - 66F"]
["SERVIÇO SOCIAL - 68A","     13107","LICENCIATURA EM LETRAS - LIBRAS - 88A"]
["ENGENHARIA ELÉTRICA - HABILITAÇÃO EM SISTEMAS ELETRÔNICOS - 69A","   1109487","LICENCIATURA EM MÚSICA - 89A"]
["ENGENHARIA ELÉTRICA - HAB. EM ROBÓTICA E AUTOMAÇÃO INDUSTRIAL - 69B","   1109485","MATEMÁTICA - 65F"]
["ENGENHARIA ELÉTRICA - HABILITAÇÃO EM SISTEMAS DE POTÊNCIA - 69C","   1109486","MATEMÁTICA - 65FL"]
["ENGENHARIA ELÉTRICA - HABILITAÇÃO EM TELECOMUNICAÇÕES - 69D","   1109488","MATEMÁTICA - 82A"]
["ENGENHARIA ELÉTRICA - HABILITAÇÃO EM ENERGIA - 70A","   1109475","MEDICINA - 07GV"]
["ENGENHARIA MECÂNICA - 71A","   1109489","MEDICINA - 15A"]
["BACHARELADO INTERDISCIPLINAR EM CIÊNCIAS HUMANAS - 72A","   1120242","MEDICINA VETERINÁRIA - 87A"]
["CIÊNCIA DA RELIGIÃO - 72B","   1165350","MÚSICA - CANTO - 63A"]
["CIÊNCIAS SOCIAIS - 72C","   5000609","MÚSICA - MODALIDADE COMPOSIÇÃO - 63G"]
["CIÊNCIAS SOCIAIS - 72CB","    313087","MÚSICA - MODALIDADE FLAUTA TRANSVERSAL - 63B"]
["CIÊNCIAS SOCIAIS - 72CL","     13087","MÚSICA - MODALIDADE PIANO - 63C"]
["TURISMO - 72D","     21589","MÚSICA - MODALIDADE VIOLÃO - 63D"]
["FILOSOFIA - 72EB","   5000611","MÚSICA - MODALIDADE VIOLINO - 63E"]
["FILOSOFIA - 72EB","    313097","MÚSICA - MODALIDADE VIOLONCELO - 63F"]
["FILOSOFIA - 72EL","     13097","NUTRIÇÃO - 08GV"]
["BACHARELADO INTERDISCIPLINAR EM CIÊNCIAS HUMANAS - 73A","   1120242","NUTRIÇÃO - 64A"]
["CIÊNCIA DA RELIGIÃO - 73B","   1165350","ODONTOLOGIA - 09GV"]
["CIÊNCIA DA RELIGIÃO - 73BL","   1165686","ODONTOLOGIA - 16A"]
["CIÊNCIAS SOCIAIS - 73C","   5000609","PEDAGOGIA - 17A"]
["CIÊNCIAS SOCIAIS - 73CB","    313087","PEDAGOGIA - 30A"]
["CIÊNCIAS SOCIAIS - 73CL","     13087","PSICOLOGIA - 32A"]
["TURISMO - 73D","     21589","QUÍMICA - 65GB"]
["CIÊNCIAS CONTÁBEIS - 77A","   1132074","QUÍMICA - 65GL"]
["CIÊNCIAS CONTÁBEIS - 78A","   1132074","QUÍMICA - 83A"]
["JORNALISMO - 84A","     27657","RÁDIO, TV E INTERNET - 91A"]
["JORNALISMO - 85A","     36356","SERVIÇO SOCIAL - 19A"]
["MEDICINA VETERINÁRIA - 87A","   1268972","SERVIÇO SOCIAL - 68A"]
["LICENCIATURA EM MÚSICA - 89A","   1278855","SISTEMAS DE INFORMAÇÃO - 76A"]
["LICENCIATURA EM MÚSICA - 89A","   1278855","TURISMO - 72D"]
["LICENCIATURA EM MÚSICA - 89A","   1278855","TURISMO - 73D"]
["CIÊNCIAS BIOLÓGICAS - 01A","   5000608","TURISMO - 92A"]
["ABI - CIÊNCIAS BIOLÓGICAS - 01ABI","   5000608","TURISMO - 93A"]
["CIÊNCIAS BIOLÓGICAS - 01B","    313086","Total Geral"]
["ADMINISTRAÇÃO - 01GV","   1178684"]
["CIÊNCIAS BIOLÓGICAS - 01L","     13086"]
["CIÊNCIAS ECONÔMICAS - 03GV","   1178683"]
["DIREITO - 04A","     13089"]
["DIREITO - 04GV","   1178675"]
["FARMÁCIA - 05GV","   1185503"]
["FISIOTERAPIA - 06GV","   1178689"]
["FARMÁCIA - 07A","     38509"]
["MEDICINA - 07GV","   5001167"]
["FILOSOFIA - 08B","    313097"]
["NUTRIÇÃO - 08GV","   1178688"]
["FILOSOFIA - 08L","     13097"]
["FÍSICA - 09A","   5000613"]
["ODONTOLOGIA - 09GV","   5001168"]
["GEOGRAFIA - 10B","    313099"]
["EDUCAÇÃO FÍSICA - 10GV","   1270439"]
["GEOGRAFIA - 10L","     13099"]
["HISTÓRIA - 11B","    313100"]
["LETRAS - 13A","   5000617"]
["LETRAS - 13B","    313101"]
["LETRAS - 13B","    313101"]
["LETRAS - 13L","     13101"]
["LETRAS - 13L","     13101"]
["LETRAS - 13L","     13101"]
["MEDICINA - 15A","     13103"]
["ODONTOLOGIA - 16A","     13104"]
["PEDAGOGIA - 17A","     13105"]
["SERVIÇO SOCIAL - 19A","     13107"]
["FISIOTERAPIA - 20A","     13118"]
["EDUCAÇÃO FÍSICA - 21B","   5000610"]
["EDUCAÇÃO FÍSICA - 21B","    313092"]
["EDUCAÇÃO FÍSICA - 21L","     13092"]
["ENFERMAGEM - 23A","     38994"]
["ENFERMAGEM - 23L","    338994"]
["ENGENHARIA CIVIL - 24A","     13094"]
["GEOGRAFIA - 27L","    313099"]
["GEOGRAFIA - 27L","     13099"]
["ABI - HISTÓRIA - 28ABI","   5000616"]
["HISTÓRIA - 28B","    313100"]
["HISTÓRIA - 28L","     13100"]
["LETRAS - 29A","   5000617"]
["ABI - LETRAS - 29ABI","   5000617"]
["LETRAS - 29L","     13101"]
["LETRAS - 29L","     13101"]
["LETRAS - 29L","     13101"]
["PEDAGOGIA - 30A","     13105"]
["PSICOLOGIA - 32A","     13113"]
["ARQUITETURA E URBANISMO - 33A","     13114"]
["DIREITO - 34A","     21860"]
["CIÊNCIA DA COMPUTAÇÃO - 35A","     18518"]
["ADMINISTRAÇÃO - 46A","     22451"]
["ENGENHARIA DE PRODUÇÃO - 49A","     38594"]
["CIÊNCIAS ECONÔMICAS - 51A","     13090"]
["NUTRIÇÃO - 64A","    116498"]
["ENGENHARIA COMPUTACIONAL - 65B","   1120244"]
["ESTATÍSTICA - 65D","    113531"]
["FÍSICA - 65E","    313098"]
["MATEMÁTICA - 65F","   5000618"]
["MATEMÁTICA - 65F","    313102"]
["MATEMÁTICA - 65FL","     13102"]
["QUÍMICA - 65GB","    313106"]
["BACHARELADO INTERDISCIPLINAR EM ARTES E DESIGN - 66A","    116500"]
["BACHARELADO EM CINEMA E AUDIOVISUAL - 66B","   1153947"]
["BACHARELADO EM ARTES VISUAIS - 66C","   1153948"]
["BACHARELADO EM DESIGN - 66D","   1153949"]
["BACHARELADO EM MODA - 66E","   1153950"]
["LICENCIATURA EM ARTES VISUAIS - 66F","   1153951"]
["ENGENHARIA AMBIENTAL E SANITÁRIA - 67A","    116496"]
["SERVIÇO SOCIAL - 68A","     13107"]
["ENGENHARIA ELÉTRICA - HABILITAÇÃO EM SISTEMAS ELETRÔNICOS - 69A","   1109487"]
["ENGENHARIA ELÉTRICA - HAB. EM ROBÓTICA E AUTOMAÇÃO INDUSTRIAL - 69B","   1109485"]
["ENGENHARIA ELÉTRICA - HABILITAÇÃO EM SISTEMAS DE POTÊNCIA - 69C","   1109486"]
["ENGENHARIA ELÉTRICA - HABILITAÇÃO EM TELECOMUNICAÇÕES - 69D","   1109488"]
["ENGENHARIA MECÂNICA - 71A","   1109489"]
["CIÊNCIAS SOCIAIS - 72C","   5000609"]
["CIÊNCIAS SOCIAIS - 72CB","    313087"]
["TURISMO - 72D","     21589"]
["FILOSOFIA - 72EB","   5000611"]
["FILOSOFIA - 72EB","    313097"]
["FILOSOFIA - 72EL","     13097"]
["BACHARELADO INTERDISCIPLINAR EM CIÊNCIAS HUMANAS - 73A","   1120242"]
["CIÊNCIA DA RELIGIÃO - 73B","   1165350"]
["CIÊNCIA DA RELIGIÃO - 73BL","   1165686"]
["CIÊNCIAS SOCIAIS - 73C","   5000609"]
["CIÊNCIAS SOCIAIS - 73CB","    313087"]
["CIÊNCIAS SOCIAIS - 73CL","     13087"]
["TURISMO - 73D","     21589"]
["SISTEMAS DE INFORMAÇÃO - 76A","   1128364"]
["CIÊNCIAS CONTÁBEIS - 78A","   1132074"]
["FÍSICA - 81A","   1166037"]
["MATEMÁTICA - 82A","   1166038"]
["QUÍMICA - 83A","   1166039"]
["JORNALISMO - 84A","     27657"]
["JORNALISMO - 85A","     36356"]
["MEDICINA VETERINÁRIA - 87A","   1268972"]
["LICENCIATURA EM LETRAS - LIBRAS - 88A","   1268983"]
["MEDICINA - 15A","     13103"]
["ABI - CIÊNCIAS BIOLÓGICAS - 01ABI","   5000608"]
["CIÊNCIAS BIOLÓGICAS - 01B","    313086"]
["ADMINISTRAÇÃO - 01GV","   1178684"]
["CIÊNCIAS BIOLÓGICAS - 01L","     13086"]
["CIÊNCIAS CONTÁBEIS - 02GV","   1183351"]
["EDUCAÇÃO ARTÍSTICA - 03A","     38748"]
["EDUCAÇÃO ARTÍSTICA - 03A","    338748"]
["CIÊNCIAS ECONÔMICAS - 03GV","   1178683"]
["DIREITO - 04A","     13089"]
["DIREITO - 04GV","   1178675"]
["CIÊNCIAS ECONÔMICAS - 05A","     13090"]
["FARMÁCIA - 05GV","   1185503"]
["FISIOTERAPIA - 06GV","   1178689"]
["FARMÁCIA - 07A","     38509"]
["MEDICINA - 07GV","   5001167"]
["ABI - FILOSOFIA - 08ABI","   5000611"]
["FILOSOFIA - 08B","    313097"]
["NUTRIÇÃO - 08GV","   1178688"]
["FILOSOFIA - 08L","     13097"]
["FÍSICA - 09A","   5000613"]
["ODONTOLOGIA - 09GV","   5001168"]
["ABI - GEOGRAFIA - 10ABI","   5000615"]
["GEOGRAFIA - 10B","    313099"]
["EDUCAÇÃO FÍSICA - 10GV","   1270439"]
["GEOGRAFIA - 10L","     13099"]
["HISTÓRIA - 11A","   5000616"]
["ABI - HISTÓRIA - 11ABI","   5000616"]
["HISTÓRIA - 11B","    313100"]
["HISTÓRIA - 11L","     13100"]
["ABI - LETRAS - 13ABI","   5000617"]
["LETRAS - 13B","    313101"]
["LETRAS - 13B","    313101"]
["LETRAS - 13B","    313101"]
["LETRAS - 13B","    313101"]
["LETRAS - 13L","     13101"]
["LETRAS - 13L","     13101"]
["LETRAS - 13L","     13101"]
["LETRAS - 13L","     13101"]
["LETRAS - 13L","     13101"]
["LETRAS - 13L","     13101"]
["LETRAS - 13L","     13101"]
["LETRAS - 13L","     13101"]
["MEDICINA - 15A","     13103"]
["ODONTOLOGIA - 16A","     13104"]
["PEDAGOGIA - 17A","     13105"]
["SERVIÇO SOCIAL - 19A","     13107"]
["FISIOTERAPIA - 20A","     13118"]
["EDUCAÇÃO FÍSICA - 21B","   5000610"]
["EDUCAÇÃO FÍSICA - 21B","    313092"]
["EDUCAÇÃO FÍSICA - 21L","     13092"]
["ENFERMAGEM - 23A","     38994"]
["ENFERMAGEM - 23L","    338994"]
["ENGENHARIA CIVIL - 24A","     13094"]
["ADMINISTRAÇÃO - 26A","     22451"]
["ABI - GEOGRAFIA - 27ABI","   5000615"]
["GEOGRAFIA - 27L","    313099"]
["GEOGRAFIA - 27L","     13099"]
["ABI - HISTÓRIA - 28ABI","   5000616"]
["ABI - LETRAS - 29ABI","   5000617"]
["LETRAS - 29L","     13101"]
["LETRAS - 29L","     13101"]
["PEDAGOGIA - 30A","     13105"]
["CIÊNCIAS SOCIAIS - 31B","    313087"]
["CIÊNCIAS SOCIAIS - 31L","     13087"]
["PSICOLOGIA - 32A","     13113"]
["ARQUITETURA E URBANISMO - 33A","     13114"]
["DIREITO - 34A","     21860"]
["CIÊNCIA DA COMPUTAÇÃO - 35A","     18518"]
["ADMINISTRAÇÃO - 46A","     22451"]
["ENGENHARIA DE PRODUÇÃO - 49A","     38594"]
["CIÊNCIAS ECONÔMICAS - 51A","     13090"]
["MÚSICA - CANTO - 63A","    116490"]
["MÚSICA - MODALIDADE FLAUTA TRANSVERSAL - 63B","    116490"]
["MÚSICA - MODALIDADE FLAUTA TRANSVERSAL - 63B","    116491"]
["MÚSICA - MODALIDADE PIANO - 63C","    116490"]
["MÚSICA - MODALIDADE PIANO - 63C","    116492"]
["MÚSICA - MODALIDADE VIOLÃO - 63D","    116490"]
["MÚSICA - MODALIDADE VIOLÃO - 63D","    116493"]
["MÚSICA - MODALIDADE COMPOSIÇÃO - 63G","    116490"]
["MÚSICA - MODALIDADE COMPOSIÇÃO - 63G","   1271995"]
["NUTRIÇÃO - 64A","    116498"]
["CIÊNCIAS EXATAS - 65A","    116502"]
["ENGENHARIA COMPUTACIONAL - 65B","   1120244"]
["CIÊNCIA DA COMPUTAÇÃO - 65C","     65361"]
["ESTATÍSTICA - 65D","    113531"]
["FÍSICA - 65E","   5000613"]
["FÍSICA - 65E","    313098"]
["MATEMÁTICA - 65F","   5000618"]
["MATEMÁTICA - 65F","    313102"]
["MATEMÁTICA - 65FL","     13102"]
["QUÍMICA - 65GB","   5000619"]
["QUÍMICA - 65GB","   5000619"]
["QUÍMICA - 65GB","    313106"]
["QUÍMICA - 65GL","     13106"]
["ENGENHARIA ELÉTRICA - HABILITAÇÃO EM ENERGIA - 65H","   1109475"]
["ENGENHARIA ELÉTRICA - HAB. EM ROBÓTICA E AUTOMAÇÃO INDUSTRIAL - 65I","   1109485"]
["ENGENHARIA ELÉTRICA - HABILITAÇÃO EM SISTEMAS DE POTÊNCIA - 65J","   1109486"]
["ENGENHARIA ELÉTRICA - HABILITAÇÃO EM SISTEMAS ELETRÔNICOS - 65K","   1109487"]
["ENGENHARIA MECÂNICA - 65M","   1109489"]
["BACHARELADO INTERDISCIPLINAR EM ARTES E DESIGN - 66A","    116500"]
["BACHARELADO EM CINEMA E AUDIOVISUAL - 66B","   1153947"]
["BACHARELADO EM ARTES VISUAIS - 66C","   1153948"]
["BACHARELADO EM DESIGN - 66D","   1153949"]
["BACHARELADO EM MODA - 66E","   1153950"]
["LICENCIATURA EM ARTES VISUAIS - 66F","   1153951"]
["ENGENHARIA AMBIENTAL E SANITÁRIA - 67A","    116496"]
["ENGENHARIA ELÉTRICA - HABILITAÇÃO EM SISTEMAS ELETRÔNICOS - 69A","   1109487"]
["ENGENHARIA ELÉTRICA - HAB. EM ROBÓTICA E AUTOMAÇÃO INDUSTRIAL - 69B","   1109485"]
["ENGENHARIA ELÉTRICA - HABILITAÇÃO EM SISTEMAS DE POTÊNCIA - 69C","   1109486"]
["ENGENHARIA ELÉTRICA - HABILITAÇÃO EM TELECOMUNICAÇÕES - 69D","   1109488"]
["ENGENHARIA ELÉTRICA - HABILITAÇÃO EM ENERGIA - 70A","   1109475"]
["ENGENHARIA MECÂNICA - 71A","   1109489"]
["BACHARELADO INTERDISCIPLINAR EM CIÊNCIAS HUMANAS - 72A","   1120242"]
["CIÊNCIA DA RELIGIÃO - 72B","   1165350"]
["CIÊNCIAS SOCIAIS - 72C","   5000609"]
["CIÊNCIAS SOCIAIS - 72CB","    313087"]
["CIÊNCIAS SOCIAIS - 72CL","     13087"]
["TURISMO - 72D","     21589"]
["FILOSOFIA - 72EB","   5000611"]
["FILOSOFIA - 72EB","    313097"]
["FILOSOFIA - 72EL","     13097"]
["CIÊNCIA DA RELIGIÃO - 73B","   1165350"]
["CIÊNCIA DA RELIGIÃO - 73BL","   1165686"]
["CIÊNCIAS SOCIAIS - 73C","   5000609"]
["CIÊNCIAS SOCIAIS - 73CB","    313087"]
["CIÊNCIAS SOCIAIS - 73CL","     13087"]
["TURISMO - 73D","     21589"]
["FILOSOFIA - 73E","   5000611"]
["SISTEMAS DE INFORMAÇÃO - 76A","   1128364"]
["CIÊNCIAS CONTÁBEIS - 77A","   1132074"]
["CIÊNCIAS CONTÁBEIS - 78A","   1132074"]
["FÍSICA - 81A","   1166037"]
["MATEMÁTICA - 82A","   1166038"]
["QUÍMICA - 83A","   1166039"]
["JORNALISMO - 84A","     27657"]
["JORNALISMO - 85A","     36356"]
["MEDICINA VETERINÁRIA - 87A","   1268972"]
["LICENCIATURA EM MÚSICA - 89A","   1278855"]
["LICENCIATURA EM MÚSICA - 89A","   1278855"]
["LICENCIATURA EM MÚSICA - 89A","   1278855"]
["LICENCIATURA EM MÚSICA - 89A","   1278855"]
["LICENCIATURA EM MÚSICA - 89A","   1278855"]
["LICENCIATURA EM MÚSICA - 89A","   1278855"]
["LICENCIATURA EM MÚSICA - 89A","   1278855"]
["ABI - CIÊNCIAS BIOLÓGICAS - 01ABI","   5000608"]
["CIÊNCIAS BIOLÓGICAS - 01B","    313086"]
["ADMINISTRAÇÃO - 01GV","   1178684"]
["CIÊNCIAS BIOLÓGICAS - 01L","     13086"]
["CIÊNCIAS CONTÁBEIS - 02GV","   1183351"]
["CIÊNCIAS ECONÔMICAS - 03GV","   1178683"]
["DIREITO - 04A","     13089"]
["DIREITO - 04GV","   1178675"]
["FARMÁCIA - 05GV","   1185503"]
["FISIOTERAPIA - 06GV","   1178689"]
["FARMÁCIA - 07A","     38509"]
["MEDICINA - 07GV","   5001167"]
["FILOSOFIA - 08A","   5000611"]
["ABI - FILOSOFIA - 08ABI","   5000611"]
["FILOSOFIA - 08B","    313097"]
["NUTRIÇÃO - 08GV","   1178688"]
["FILOSOFIA - 08L","     13097"]
["ODONTOLOGIA - 09GV","   5001168"]
["EDUCAÇÃO FÍSICA - 10GV","   1270439"]
["ABI - HISTÓRIA - 11ABI","   5000616"]
["HISTÓRIA - 11B","    313100"]
["HISTÓRIA - 11L","     13100"]
["LETRAS - 13B","    313101"]
["LETRAS - 13B","    313101"]
["LETRAS - 13B","    313101"]
["LETRAS - 13L","     13101"]
["LETRAS - 13L","     13101"]
["MEDICINA - 15A","     13103"]
["ODONTOLOGIA - 16A","     13104"]
["PEDAGOGIA - 17A","     13105"]
["SERVIÇO SOCIAL - 19A","     13107"]
["FISIOTERAPIA - 20A","     13118"]
["EDUCAÇÃO FÍSICA - 21B","   5000610"]
["EDUCAÇÃO FÍSICA - 21B","    313092"]
["EDUCAÇÃO FÍSICA - 21L","     13092"]
["ENFERMAGEM - 23A","     38994"]
["ENGENHARIA CIVIL - 24A","     13094"]
["ABI - HISTÓRIA - 28ABI","   5000616"]
["HISTÓRIA - 28B","    313100"]
["HISTÓRIA - 28L","     13100"]
["ABI - LETRAS - 29ABI","   5000617"]
["LETRAS - 29L","     13101"]
["LETRAS - 29L","     13101"]
["PEDAGOGIA - 30A","     13105"]
["ARQUITETURA E URBANISMO - 33A","     13114"]
["DIREITO - 34A","     21860"]
["CIÊNCIA DA COMPUTAÇÃO - 35A","     18518"]
["ADMINISTRAÇÃO - 46A","     22451"]
["ENGENHARIA DE PRODUÇÃO - 49A","     38594"]
["CIÊNCIAS ECONÔMICAS - 51A","     13090"]
["MÚSICA - MODALIDADE PIANO - 63C","    116490"]
["MÚSICA - MODALIDADE PIANO - 63C","    116492"]
["NUTRIÇÃO - 64A","    116498"]
["ENGENHARIA COMPUTACIONAL - 65B","   1120244"]
["CIÊNCIA DA COMPUTAÇÃO - 65C","     65361"]
["ESTATÍSTICA - 65D","    113531"]
["FÍSICA - 65E","   5000613"]
["FÍSICA - 65E","    313098"]
["FÍSICA - 65EL","     13098"]
["MATEMÁTICA - 65F","   5000618"]
["MATEMÁTICA - 65F","    313102"]
["QUÍMICA - 65GB","   5000619"]
["QUÍMICA - 65GB","   5000619"]
["QUÍMICA - 65GL","     13106"]
["BACHARELADO INTERDISCIPLINAR EM ARTES E DESIGN - 66A","    116500"]
["BACHARELADO EM CINEMA E AUDIOVISUAL - 66B","   1153947"]
["BACHARELADO EM ARTES VISUAIS - 66C","   1153948"]
["BACHARELADO EM DESIGN - 66D","   1153949"]
["BACHARELADO EM MODA - 66E","   1153950"]
["LICENCIATURA EM ARTES VISUAIS - 66F","   1153951"]
["ENGENHARIA AMBIENTAL E SANITÁRIA - 67A","    116496"]
["SERVIÇO SOCIAL - 68A","     13107"]
["ENGENHARIA ELÉTRICA - HABILITAÇÃO EM SISTEMAS ELETRÔNICOS - 69A","   1109487"]
["ENGENHARIA ELÉTRICA - HAB. EM ROBÓTICA E AUTOMAÇÃO INDUSTRIAL - 69B","   1109485"]
["ENGENHARIA ELÉTRICA - HABILITAÇÃO EM SISTEMAS DE POTÊNCIA - 69C","   1109486"]
["ENGENHARIA ELÉTRICA - HABILITAÇÃO EM TELECOMUNICAÇÕES - 69D","   1109488"]
["ENGENHARIA ELÉTRICA - HABILITAÇÃO EM ENERGIA - 70A","   1109475"]
["ENGENHARIA MECÂNICA - 71A","   1109489"]
["BACHARELADO INTERDISCIPLINAR EM CIÊNCIAS HUMANAS - 72A","   1120242"]
["TURISMO - 72D","     21589"]
["FILOSOFIA - 72EB","   5000611"]
["FILOSOFIA - 72EL","     13097"]
["BACHARELADO INTERDISCIPLINAR EM CIÊNCIAS HUMANAS - 73A","   1120242"]
["CIÊNCIA DA RELIGIÃO - 73B","   1165350"]
["CIÊNCIA DA RELIGIÃO - 73BL","   1165686"]
["CIÊNCIAS SOCIAIS - 73C","   5000609"]
["CIÊNCIAS SOCIAIS - 73CB","    313087"]
["CIÊNCIAS SOCIAIS - 73CL","     13087"]
["TURISMO - 73D","     21589"]
["SISTEMAS DE INFORMAÇÃO - 76A","   1128364"]
["CIÊNCIAS CONTÁBEIS - 77A","   1132074"]
["CIÊNCIAS CONTÁBEIS - 78A","   1132074"]
["FÍSICA - 81A","   1166037"]
["MATEMÁTICA - 82A","   1166038"]
["QUÍMICA - 83A","   1166039"]
["JORNALISMO - 84A","     27657"]
["MEDICINA VETERINÁRIA - 87A","   1268972"]
["LICENCIATURA EM LETRAS - LIBRAS - 88A","   1268983"]
["LICENCIATURA EM MÚSICA - 89A","   1278855"]
["LICENCIATURA EM MÚSICA - 89A","   1278855"]
["ABI - CIÊNCIAS BIOLÓGICAS - 01ABI","   5000608"]
["CIÊNCIAS BIOLÓGICAS - 01B","    313086"]
["ADMINISTRAÇÃO - 01GV","   1178684"]
["CIÊNCIAS BIOLÓGICAS - 01L","     13086"]
["CIÊNCIAS CONTÁBEIS - 02GV","   1183351"]
["CIÊNCIAS ECONÔMICAS - 03GV","   1178683"]
["DIREITO - 04A","     13089"]
["DIREITO - 04GV","   1178675"]
["CIÊNCIAS ECONÔMICAS - 05A","     13090"]
["FARMÁCIA - 05GV","   1185503"]
["FISIOTERAPIA - 06GV","   1178689"]
["FARMÁCIA - 07A","     38509"]
["MEDICINA - 07GV","   5001167"]
["ABI - FILOSOFIA - 08ABI","   5000611"]
["FILOSOFIA - 08B","    313097"]
["NUTRIÇÃO - 08GV","   1178688"]
["FILOSOFIA - 08L","     13097"]
["ODONTOLOGIA - 09GV","   5001168"]
["ABI - GEOGRAFIA - 10ABI","   5000615"]
["GEOGRAFIA - 10B","    313099"]
["EDUCAÇÃO FÍSICA - 10GV","   1270439"]
["GEOGRAFIA - 10L","     13099"]
["ABI - HISTÓRIA - 11ABI","   5000616"]
["HISTÓRIA - 11B","    313100"]
["HISTÓRIA - 11L","     13100"]
["ABI - LETRAS - 13ABI","   5000617"]
["LETRAS - 13B","    313101"]
["LETRAS - 13B","    313101"]
["LETRAS - 13L","     13101"]
["LETRAS - 13L","     13101"]
["LETRAS - 13L","     13101"]
["LETRAS - 13L","     13101"]
["LETRAS - 13L","     13101"]
["LETRAS - 13L","     13101"]
["LETRAS - 13L","     13101"]
["MEDICINA - 15A","     13103"]
["ODONTOLOGIA - 16A","     13104"]
["PEDAGOGIA - 17A","     13105"]
["SERVIÇO SOCIAL - 19A","     13107"]
["FISIOTERAPIA - 20A","     13118"]
["ABI - EDUCAÇÃO FÍSICA - 21ABI","   5000610"]
["EDUCAÇÃO FÍSICA - 21B","    313092"]
["EDUCAÇÃO FÍSICA - 21L","     13092"]
["ENFERMAGEM - 23A","     38994"]
["ENGENHARIA CIVIL - 24A","     13094"]
["ADMINISTRAÇÃO - 26A","     22451"]
["GEOGRAFIA - 27A","   5000615"]
["ABI - GEOGRAFIA - 27ABI","   5000615"]
["GEOGRAFIA - 27L","     13099"]
["HISTÓRIA - 28B","    313100"]
["HISTÓRIA - 28L","     13100"]
["ABI - LETRAS - 29ABI","   5000617"]
["LETRAS - 29L","     13101"]
["PEDAGOGIA - 30A","     13105"]
["PSICOLOGIA - 32A","     13113"]
["ARQUITETURA E URBANISMO - 33A","     13114"]
["DIREITO - 34A","     21860"]
["CIÊNCIA DA COMPUTAÇÃO - 35A","     18518"]
["ADMINISTRAÇÃO - 46A","     22451"]
["ENGENHARIA DE PRODUÇÃO - 49A","     38594"]
["CIÊNCIAS ECONÔMICAS - 51A","     13090"]
["MÚSICA - CANTO - 63A","    116490"]
["MÚSICA - MODALIDADE FLAUTA TRANSVERSAL - 63B","    116490"]
["MÚSICA - MODALIDADE FLAUTA TRANSVERSAL - 63B","    116491"]
["MÚSICA - MODALIDADE PIANO - 63C","    116490"]
["MÚSICA - MODALIDADE PIANO - 63C","    116492"]
["MÚSICA - MODALIDADE VIOLÃO - 63D","    116490"]
["MÚSICA - MODALIDADE VIOLÃO - 63D","    116493"]
["MÚSICA - MODALIDADE VIOLONCELO - 63F","    116490"]
["MÚSICA - MODALIDADE VIOLONCELO - 63F","    116495"]
["MÚSICA - MODALIDADE COMPOSIÇÃO - 63G","    116490"]
["MÚSICA - MODALIDADE COMPOSIÇÃO - 63G","   1271995"]
["NUTRIÇÃO - 64A","    116498"]
["CIÊNCIAS EXATAS - 65A","    116502"]
["ENGENHARIA COMPUTACIONAL - 65B","   1120244"]
["CIÊNCIA DA COMPUTAÇÃO - 65C","     65361"]
["ESTATÍSTICA - 65D","    113531"]
["FÍSICA - 65E","   5000613"]
["FÍSICA - 65E","    313098"]
["FÍSICA - 65EL","     13098"]
["MATEMÁTICA - 65F","   5000618"]
["MATEMÁTICA - 65FL","     13102"]
["QUÍMICA - 65GB","   5000619"]
["QUÍMICA - 65GB","   5000619"]
["QUÍMICA - 65GB","    313106"]
["QUÍMICA - 65GL","     13106"]
["ENGENHARIA ELÉTRICA - HABILITAÇÃO EM ENERGIA - 65H","   1109475"]
["ENGENHARIA ELÉTRICA - HAB. EM ROBÓTICA E AUTOMAÇÃO INDUSTRIAL - 65I","   1109485"]
["ENGENHARIA ELÉTRICA - HABILITAÇÃO EM SISTEMAS DE POTÊNCIA - 65J","   1109486"]
["ENGENHARIA MECÂNICA - 65M","   1109489"]
["BACHARELADO INTERDISCIPLINAR EM ARTES E DESIGN - 66A","    116500"]
["BACHARELADO EM CINEMA E AUDIOVISUAL - 66B","   1153947"]
["BACHARELADO EM ARTES VISUAIS - 66C","   1153948"]
["BACHARELADO EM DESIGN - 66D","   1153949"]
["BACHARELADO EM MODA - 66E","   1153950"]
["LICENCIATURA EM ARTES VISUAIS - 66F","   1153951"]
["ENGENHARIA AMBIENTAL E SANITÁRIA - 67A","    116496"]
["SERVIÇO SOCIAL - 68A","     13107"]
["ENGENHARIA ELÉTRICA - HABILITAÇÃO EM SISTEMAS ELETRÔNICOS - 69A","   1109487"]
["ENGENHARIA ELÉTRICA - HAB. EM ROBÓTICA E AUTOMAÇÃO INDUSTRIAL - 69B","   1109485"]
["ENGENHARIA ELÉTRICA - HABILITAÇÃO EM SISTEMAS DE POTÊNCIA - 69C","   1109486"]
["ENGENHARIA ELÉTRICA - HABILITAÇÃO EM TELECOMUNICAÇÕES - 69D","   1109488"]
["ENGENHARIA ELÉTRICA - HABILITAÇÃO EM ENERGIA - 70A","   1109475"]
["ENGENHARIA MECÂNICA - 71A","   1109489"]
["BACHARELADO INTERDISCIPLINAR EM CIÊNCIAS HUMANAS - 72A","   1120242"]
["TURISMO - 72D","     21589"]
["FILOSOFIA - 72EB","   5000611"]
["FILOSOFIA - 72EB","    313097"]
["BACHARELADO INTERDISCIPLINAR EM CIÊNCIAS HUMANAS - 73A","   1120242"]
["CIÊNCIA DA RELIGIÃO - 73B","   1165350"]
["CIÊNCIA DA RELIGIÃO - 73BL","   1165686"]
["CIÊNCIAS SOCIAIS - 73C","   5000609"]
["CIÊNCIAS SOCIAIS - 73CB","    313087"]
["CIÊNCIAS SOCIAIS - 73CL","     13087"]
["CIÊNCIAS CONTÁBEIS - 77A","   1132074"]
["CIÊNCIAS CONTÁBEIS - 78A","   1132074"]
["FÍSICA - 81A","   1166037"]
["MATEMÁTICA - 82A","   1166038"]
["QUÍMICA - 83A","   1166039"]
["JORNALISMO - 85A","     36356"]
["MEDICINA VETERINÁRIA - 87A","   1268972"]
["LICENCIATURA EM MÚSICA - 89A","   1278855"]
["LICENCIATURA EM MÚSICA - 89A","   1278855"]
["LICENCIATURA EM MÚSICA - 89A","   1278855"]
["LICENCIATURA EM MÚSICA - 89A","   1278855"]
["LICENCIATURA EM MÚSICA - 89A","   1278855"]
["LICENCIATURA EM MÚSICA - 89A","   1278855"]
["LICENCIATURA EM MÚSICA - 89A","   1278855"]
["LICENCIATURA EM MÚSICA - 89A","   1278855"]
["RÁDIO, TV E INTERNET - 91A","   1374873"]
["TURISMO - 92A","     21589"]
["ABI - CIÊNCIAS BIOLÓGICAS - 01ABI","   5000608"]
["CIÊNCIAS BIOLÓGICAS - 01B","    313086"]
["ADMINISTRAÇÃO - 01GV","   1178684"]
["CIÊNCIAS BIOLÓGICAS - 01L","     13086"]
["CIÊNCIAS ECONÔMICAS - 03GV","   1178683"]
["DIREITO - 04A","     13089"]
["DIREITO - 04GV","   1178675"]
["CIÊNCIAS ECONÔMICAS - 05A","     13090"]
["FARMÁCIA - 05GV","   1185503"]
["FISIOTERAPIA - 06GV","   1178689"]
["FARMÁCIA - 07A","     38509"]
["MEDICINA - 07GV","   5001167"]
["ABI - FILOSOFIA - 08ABI","   5000611"]
["FILOSOFIA - 08B","    313097"]
["NUTRIÇÃO - 08GV","   1178688"]
["FILOSOFIA - 08L","     13097"]
["ODONTOLOGIA - 09GV","   5001168"]
["EDUCAÇÃO FÍSICA - 10GV","   1270439"]
["ABI - HISTÓRIA - 11ABI","   5000616"]
["HISTÓRIA - 11B","    313100"]
["LETRAS - 13B","    313101"]
["LETRAS - 13B","    313101"]
["LETRAS - 13L","     13101"]
["LETRAS - 13L","     13101"]
["LETRAS - 13L","     13101"]
["LETRAS - 13L","     13101"]
["LETRAS - 13L","     13101"]
["LETRAS - 13L","     13101"]
["MEDICINA - 15A","     13103"]
["ODONTOLOGIA - 16A","     13104"]
["PEDAGOGIA - 17A","     13105"]
["SERVIÇO SOCIAL - 19A","     13107"]
["FISIOTERAPIA - 20A","     13118"]
["ABI - EDUCAÇÃO FÍSICA - 21ABI","   5000610"]
["ENFERMAGEM - 23A","     38994"]
["ENGENHARIA CIVIL - 24A","     13094"]
["ADMINISTRAÇÃO - 26A","     22451"]
["ABI - HISTÓRIA - 28ABI","   5000616"]
["HISTÓRIA - 28B","    313100"]
["HISTÓRIA - 28L","     13100"]
["ABI - LETRAS - 29ABI","   5000617"]
["LETRAS - 29L","     13101"]
["LETRAS - 29L","     13101"]
["PEDAGOGIA - 30A","     13105"]
["PSICOLOGIA - 32A","     13113"]
["ARQUITETURA E URBANISMO - 33A","     13114"]
["DIREITO - 34A","     21860"]
["CIÊNCIA DA COMPUTAÇÃO - 35A","     18518"]
["ADMINISTRAÇÃO - 46A","     22451"]
["ENGENHARIA DE PRODUÇÃO - 49A","     38594"]
["CIÊNCIAS ECONÔMICAS - 51A","     13090"]
["NUTRIÇÃO - 64A","    116498"]
["CIÊNCIAS EXATAS - 65A","    116502"]
["ENGENHARIA COMPUTACIONAL - 65B","   1120244"]
["ESTATÍSTICA - 65D","    113531"]
["FÍSICA - 65E","   5000613"]
["FÍSICA - 65E","    313098"]
["MATEMÁTICA - 65F","   5000618"]
["MATEMÁTICA - 65FL","     13102"]
["QUÍMICA - 65GB","    313106"]
["QUÍMICA - 65GL","     13106"]
["BACHARELADO INTERDISCIPLINAR EM ARTES E DESIGN - 66A","    116500"]
["BACHARELADO EM CINEMA E AUDIOVISUAL - 66B","   1153947"]
["BACHARELADO EM ARTES VISUAIS - 66C","   1153948"]
["BACHARELADO EM DESIGN - 66D","   1153949"]
["BACHARELADO EM MODA - 66E","   1153950"]
["LICENCIATURA EM ARTES VISUAIS - 66F","   1153951"]
["SERVIÇO SOCIAL - 68A","     13107"]
["ENGENHARIA ELÉTRICA - HABILITAÇÃO EM SISTEMAS ELETRÔNICOS - 69A","   1109487"]
["ENGENHARIA ELÉTRICA - HAB. EM ROBÓTICA E AUTOMAÇÃO INDUSTRIAL - 69B","   1109485"]
["ENGENHARIA ELÉTRICA - HABILITAÇÃO EM SISTEMAS DE POTÊNCIA - 69C","   1109486"]
["ENGENHARIA ELÉTRICA - HABILITAÇÃO EM TELECOMUNICAÇÕES - 69D","   1109488"]
["ENGENHARIA ELÉTRICA - HABILITAÇÃO EM ENERGIA - 70A","   1109475"]
["ENGENHARIA MECÂNICA - 71A","   1109489"]
["FILOSOFIA - 72EB","   5000611"]
["FILOSOFIA - 72EB","    313097"]
["BACHARELADO INTERDISCIPLINAR EM CIÊNCIAS HUMANAS - 73A","   1120242"]
["CIÊNCIA DA RELIGIÃO - 73B","   1165350"]
["CIÊNCIA DA RELIGIÃO - 73BL","   1165686"]
["CIÊNCIAS SOCIAIS - 73C","   5000609"]
["TURISMO - 73D","     21589"]
["SISTEMAS DE INFORMAÇÃO - 76A","   1128364"]
["CIÊNCIAS CONTÁBEIS - 78A","   1132074"]
["FÍSICA - 81A","   1166037"]
["MATEMÁTICA - 82A","   1166038"]
["QUÍMICA - 83A","   1166039"]
["JORNALISMO - 84A","     27657"]
["JORNALISMO - 85A","     36356"]
["MEDICINA VETERINÁRIA - 87A","   1268972"]
["LICENCIATURA EM LETRAS - LIBRAS - 88A","   1268983"]
["TURISMO - 93A","     21589"]
["BACHARELADO EM CINEMA E AUDIOVISUAL - 66B","   1153947"]
["ABI - CIÊNCIAS BIOLÓGICAS - 01ABI","   5000608"]
["CIÊNCIAS BIOLÓGICAS - 01B","    313086"]
["ADMINISTRAÇÃO - 01GV","   1178684"]
["CIÊNCIAS BIOLÓGICAS - 01L","     13086"]
["CIÊNCIAS CONTÁBEIS - 02GV","   1183351"]
["CIÊNCIAS ECONÔMICAS - 03GV","   1178683"]
["DIREITO - 04A","     13089"]
["DIREITO - 04GV","   1178675"]
["CIÊNCIAS ECONÔMICAS - 05A","     13090"]
["FARMÁCIA - 05GV","   1185503"]
["FISIOTERAPIA - 06GV","   1178689"]
["FARMÁCIA - 07A","     38509"]
["MEDICINA - 07GV","   5001167"]
["ABI - FILOSOFIA - 08ABI","   5000611"]
["FILOSOFIA - 08B","    313097"]
["NUTRIÇÃO - 08GV","   1178688"]
["FILOSOFIA - 08L","     13097"]
["ODONTOLOGIA - 09GV","   5001168"]
["ABI - GEOGRAFIA - 10ABI","   5000615"]
["GEOGRAFIA - 10B","    313099"]
["EDUCAÇÃO FÍSICA - 10GV","   1270439"]
["GEOGRAFIA - 10L","     13099"]
["ABI - HISTÓRIA - 11ABI","   5000616"]
["HISTÓRIA - 11B","    313100"]
["HISTÓRIA - 11L","     13100"]
["ABI - LETRAS - 13ABI","   5000617"]
["LETRAS - 13B","    313101"]
["LETRAS - 13B","    313101"]
["LETRAS - 13B","    313101"]
["LETRAS - 13L","     13101"]
["LETRAS - 13L","     13101"]
["LETRAS - 13L","     13101"]
["LETRAS - 13L","     13101"]
["LETRAS - 13L","     13101"]
["MEDICINA - 15A","     13103"]
["ODONTOLOGIA - 16A","     13104"]
["PEDAGOGIA - 17A","     13105"]
["SERVIÇO SOCIAL - 19A","     13107"]
["FISIOTERAPIA - 20A","     13118"]
["ABI - EDUCAÇÃO FÍSICA - 21ABI","   5000610"]
["ENFERMAGEM - 23A","     38994"]
["ENGENHARIA CIVIL - 24A","     13094"]
["ADMINISTRAÇÃO - 26A","     22451"]
["ABI - GEOGRAFIA - 27ABI","   5000615"]
["GEOGRAFIA - 27L","     13099"]
["ABI - LETRAS - 29ABI","   5000617"]
["PEDAGOGIA - 30A","     13105"]
["PSICOLOGIA - 32A","     13113"]
["ARQUITETURA E URBANISMO - 33A","     13114"]
["DIREITO - 34A","     21860"]
["CIÊNCIA DA COMPUTAÇÃO - 35A","     18518"]
["ADMINISTRAÇÃO - 46A","     22451"]
["ENGENHARIA DE PRODUÇÃO - 49A","     38594"]
["CIÊNCIAS ECONÔMICAS - 51A","     13090"]
["MÚSICA - MODALIDADE VIOLINO - 63E","    116490"]
["MÚSICA - MODALIDADE VIOLINO - 63E","    116494"]
["MÚSICA - MODALIDADE COMPOSIÇÃO - 63G","    116490"]
["MÚSICA - MODALIDADE COMPOSIÇÃO - 63G","   1271995"]
["NUTRIÇÃO - 64A","    116498"]
["CIÊNCIAS EXATAS - 65A","    116502"]
["ENGENHARIA COMPUTACIONAL - 65B","   1120244"]
["CIÊNCIA DA COMPUTAÇÃO - 65C","     65361"]
["ESTATÍSTICA - 65D","    113531"]
["FÍSICA - 65E","   5000613"]
["MATEMÁTICA - 65F","   5000618"]
["MATEMÁTICA - 65F","    313102"]
["MATEMÁTICA - 65FL","     13102"]
["QUÍMICA - 65GB","   5000619"]
["QUÍMICA - 65GB","    313106"]
["QUÍMICA - 65GL","     13106"]
["ENGENHARIA ELÉTRICA - HAB. EM ROBÓTICA E AUTOMAÇÃO INDUSTRIAL - 65I","   1109485"]
["ENGENHARIA ELÉTRICA - HABILITAÇÃO EM SISTEMAS DE POTÊNCIA - 65J","   1109486"]
["ENGENHARIA ELÉTRICA - HABILITAÇÃO EM SISTEMAS ELETRÔNICOS - 65K","   1109487"]
["ENGENHARIA MECÂNICA - 65M","   1109489"]
["BACHARELADO INTERDISCIPLINAR EM ARTES E DESIGN - 66A","    116500"]
["BACHARELADO EM CINEMA E AUDIOVISUAL - 66B","   1153947"]
["BACHARELADO EM ARTES VISUAIS - 66C","   1153948"]
["BACHARELADO EM DESIGN - 66D","   1153949"]
["BACHARELADO EM MODA - 66E","   1153950"]
["LICENCIATURA EM ARTES VISUAIS - 66F","   1153951"]
["ENGENHARIA AMBIENTAL E SANITÁRIA - 67A","    116496"]
["ENGENHARIA ELÉTRICA - HABILITAÇÃO EM SISTEMAS ELETRÔNICOS - 69A","   1109487"]
["ENGENHARIA ELÉTRICA - HAB. EM ROBÓTICA E AUTOMAÇÃO INDUSTRIAL - 69B","   1109485"]
["ENGENHARIA ELÉTRICA - HABILITAÇÃO EM SISTEMAS DE POTÊNCIA - 69C","   1109486"]
["ENGENHARIA ELÉTRICA - HABILITAÇÃO EM TELECOMUNICAÇÕES - 69D","   1109488"]
["ENGENHARIA ELÉTRICA - HABILITAÇÃO EM ENERGIA - 70A","   1109475"]
["ENGENHARIA MECÂNICA - 71A","   1109489"]
["BACHARELADO INTERDISCIPLINAR EM CIÊNCIAS HUMANAS - 72A","   1120242"]
["TURISMO - 72D","     21589"]
["FILOSOFIA - 72EB","   5000611"]
["CIÊNCIAS SOCIAIS - 73C","   5000609"]
["CIÊNCIAS SOCIAIS - 73CB","    313087"]
["CIÊNCIAS SOCIAIS - 73CL","     13087"]
["SISTEMAS DE INFORMAÇÃO - 76A","   1128364"]
["CIÊNCIAS CONTÁBEIS - 77A","   1132074"]
["CIÊNCIAS CONTÁBEIS - 78A","   1132074"]
["FÍSICA - 81A","   1166037"]
["MATEMÁTICA - 82A","   1166038"]
["QUÍMICA - 83A","   1166039"]
["JORNALISMO - 85A","     36356"]
["MEDICINA VETERINÁRIA - 87A","   1268972"]
["LICENCIATURA EM LETRAS - LIBRAS - 88A","   1268983"]
["LICENCIATURA EM MÚSICA - 89A","   1278855"]
["LICENCIATURA EM MÚSICA - 89A","   1278855"]
["LICENCIATURA EM MÚSICA - 89A","   1278855"]
["LICENCIATURA EM MÚSICA - 89A","   1278855"]
["LICENCIATURA EM MÚSICA - 89A","   1278855"]
["LICENCIATURA EM MÚSICA - 89A","   1278855"]
["RÁDIO, TV E INTERNET - 91A","   1374873"]
["TURISMO - 92A","     21589"]
["ABI - CIÊNCIAS BIOLÓGICAS - 01ABI","   5000608"]
["CIÊNCIAS BIOLÓGICAS - 01B","    313086"]
["ADMINISTRAÇÃO - 01GV","   1178684"]
["CIÊNCIAS BIOLÓGICAS - 01L","     13086"]
["CIÊNCIAS CONTÁBEIS - 02GV","   1183351"]
["CIÊNCIAS ECONÔMICAS - 03GV","   1178683"]
["DIREITO - 04A","     13089"]
["DIREITO - 04GV","   1178675"]
["FARMÁCIA - 05GV","   1185503"]
["FISIOTERAPIA - 06GV","   1178689"]
["FARMÁCIA - 07A","     38509"]
["MEDICINA - 07GV","   5001167"]
["ABI - FILOSOFIA - 08ABI","   5000611"]
["NUTRIÇÃO - 08GV","   1178688"]
["FILOSOFIA - 08L","     13097"]
["ODONTOLOGIA - 09GV","   5001168"]
["EDUCAÇÃO FÍSICA - 10GV","   1270439"]
["ABI - HISTÓRIA - 11ABI","   5000616"]
["HISTÓRIA - 11B","    313100"]
["HISTÓRIA - 11L","     13100"]
["LETRAS - 13B","    313101"]
["MEDICINA - 15A","     13103"]
["ODONTOLOGIA - 16A","     13104"]
["PEDAGOGIA - 17A","     13105"]
["FISIOTERAPIA - 20A","     13118"]
["ABI - EDUCAÇÃO FÍSICA - 21ABI","   5000610"]
["ENFERMAGEM - 23A","     38994"]
["ENGENHARIA CIVIL - 24A","     13094"]
["GEOGRAFIA - 27L","     13099"]
["ABI - HISTÓRIA - 28ABI","   5000616"]
["HISTÓRIA - 28B","    313100"]
["HISTÓRIA - 28L","     13100"]
["ABI - LETRAS - 29ABI","   5000617"]
["LETRAS - 29L","     13101"]
["PEDAGOGIA - 30A","     13105"]
["PSICOLOGIA - 32A","     13113"]
["ARQUITETURA E URBANISMO - 33A","     13114"]
["DIREITO - 34A","     21860"]
["CIÊNCIA DA COMPUTAÇÃO - 35A","     18518"]
["ADMINISTRAÇÃO - 46A","     22451"]
["ENGENHARIA DE PRODUÇÃO - 49A","     38594"]
["NUTRIÇÃO - 64A","    116498"]
["CIÊNCIAS EXATAS - 65A","    116502"]
["ENGENHARIA COMPUTACIONAL - 65B","   1120244"]
["FÍSICA - 65E","   5000613"]
["BACHARELADO INTERDISCIPLINAR EM ARTES E DESIGN - 66A","    116500"]
["BACHARELADO EM CINEMA E AUDIOVISUAL - 66B","   1153947"]
["BACHARELADO EM ARTES VISUAIS - 66C","   1153948"]
["BACHARELADO EM DESIGN - 66D","   1153949"]
["BACHARELADO EM MODA - 66E","   1153950"]
["LICENCIATURA EM ARTES VISUAIS - 66F","   1153951"]
["SERVIÇO SOCIAL - 68A","     13107"]
["ENGENHARIA ELÉTRICA - HABILITAÇÃO EM SISTEMAS ELETRÔNICOS - 69A","   1109487"]
["ENGENHARIA ELÉTRICA - HAB. EM ROBÓTICA E AUTOMAÇÃO INDUSTRIAL - 69B","   1109485"]
["ENGENHARIA ELÉTRICA - HABILITAÇÃO EM SISTEMAS DE POTÊNCIA - 69C","   1109486"]
["ENGENHARIA ELÉTRICA - HABILITAÇÃO EM TELECOMUNICAÇÕES - 69D","   1109488"]
["ENGENHARIA MECÂNICA - 71A","   1109489"]
["FILOSOFIA - 72EB","   5000611"]
["BACHARELADO INTERDISCIPLINAR EM CIÊNCIAS HUMANAS - 73A","   1120242"]
["CIÊNCIA DA RELIGIÃO - 73BL","   1165686"]
["CIÊNCIAS SOCIAIS - 73C","   5000609"]
["CIÊNCIAS SOCIAIS - 73CL","     13087"]
["SISTEMAS DE INFORMAÇÃO - 76A","   1128364"]
["CIÊNCIAS CONTÁBEIS - 78A","   1132074"]
["FÍSICA - 81A","   1166037"]
["MATEMÁTICA - 82A","   1166038"]
["QUÍMICA - 83A","   1166039"]
["JORNALISMO - 84A","     27657"]
["JORNALISMO - 85A","     36356"]
["MEDICINA VETERINÁRIA - 87A","   1268972"]
["LICENCIATURA EM LETRAS - LIBRAS - 88A","   1268983"]
["RÁDIO, TV E INTERNET - 91A","   1374873"]
["TURISMO - 93A","     21589"]
["ABI - CIÊNCIAS BIOLÓGICAS - 01ABI","   5000608"]
["CIÊNCIAS BIOLÓGICAS - 01B","    313086"]
["ADMINISTRAÇÃO - 01GV","   1178684"]
["CIÊNCIAS BIOLÓGICAS - 01L","     13086"]
["CIÊNCIAS CONTÁBEIS - 02GV","   1183351"]
["CIÊNCIAS ECONÔMICAS - 03GV","   1178683"]
["DIREITO - 04A","     13089"]
["DIREITO - 04GV","   1178675"]
["CIÊNCIAS ECONÔMICAS - 05A","     13090"]
["FARMÁCIA - 05GV","   1185503"]
["FISIOTERAPIA - 06GV","   1178689"]
["FARMÁCIA - 07A","     38509"]
["MEDICINA - 07GV","   5001167"]
["ABI - FILOSOFIA - 08ABI","   5000611"]
["FILOSOFIA - 08B","    313097"]
["NUTRIÇÃO - 08GV","   1178688"]
["FILOSOFIA - 08L","     13097"]
["ODONTOLOGIA - 09GV","   5001168"]
["ABI - GEOGRAFIA - 10ABI","   5000615"]
["GEOGRAFIA - 10B","    313099"]
["EDUCAÇÃO FÍSICA - 10GV","   1270439"]
["GEOGRAFIA - 10L","     13099"]
["ABI - HISTÓRIA - 11ABI","   5000616"]
["HISTÓRIA - 11B","    313100"]
["HISTÓRIA - 11L","     13100"]
["ABI - LETRAS - 13ABI","   5000617"]
["LETRAS - 13B","    313101"]
["LETRAS - 13B","    313101"]
["LETRAS - 13L","     13101"]
["LETRAS - 13L","     13101"]
["LETRAS - 13L","     13101"]
["LETRAS - 13L","     13101"]
["LETRAS - 13L","     13101"]
["MEDICINA - 15A","     13103"]
["ODONTOLOGIA - 16A","     13104"]
["PEDAGOGIA - 17A","     13105"]
["SERVIÇO SOCIAL - 19A","     13107"]
["FISIOTERAPIA - 20A","     13118"]
["ABI - EDUCAÇÃO FÍSICA - 21ABI","   5000610"]
["ENFERMAGEM - 23A","     38994"]
["ENGENHARIA CIVIL - 24A","     13094"]
["ADMINISTRAÇÃO - 26A","     22451"]
["GEOGRAFIA - 27L","     13099"]
["ABI - LETRAS - 29ABI","   5000617"]
["PEDAGOGIA - 30A","     13105"]
["PSICOLOGIA - 32A","     13113"]
["ARQUITETURA E URBANISMO - 33A","     13114"]
["DIREITO - 34A","     21860"]
["CIÊNCIA DA COMPUTAÇÃO - 35A","     18518"]
["ADMINISTRAÇÃO - 46A","     22451"]
["ENGENHARIA DE PRODUÇÃO - 49A","     38594"]
["CIÊNCIAS ECONÔMICAS - 51A","     13090"]
["MÚSICA - CANTO - 63A","    116490"]
["MÚSICA - MODALIDADE PIANO - 63C","    116490"]
["MÚSICA - MODALIDADE PIANO - 63C","    116492"]
["MÚSICA - MODALIDADE VIOLÃO - 63D","    116490"]
["MÚSICA - MODALIDADE VIOLÃO - 63D","    116493"]
["MÚSICA - MODALIDADE VIOLINO - 63E","    116490"]
["MÚSICA - MODALIDADE VIOLINO - 63E","    116494"]
["MÚSICA - MODALIDADE COMPOSIÇÃO - 63G","    116490"]
["MÚSICA - MODALIDADE COMPOSIÇÃO - 63G","   1271995"]
["NUTRIÇÃO - 64A","    116498"]
["CIÊNCIAS EXATAS - 65A","    116502"]
["ENGENHARIA COMPUTACIONAL - 65B","   1120244"]
["CIÊNCIA DA COMPUTAÇÃO - 65C","     65361"]
["ESTATÍSTICA - 65D","    113531"]
["FÍSICA - 65E","   5000613"]
["FÍSICA - 65E","    313098"]
["FÍSICA - 65EL","     13098"]
["MATEMÁTICA - 65F","   5000618"]
["MATEMÁTICA - 65F","    313102"]
["MATEMÁTICA - 65FL","     13102"]
["QUÍMICA - 65GB","   5000619"]
["QUÍMICA - 65GB","    313106"]
["QUÍMICA - 65GL","     13106"]
["ENGENHARIA ELÉTRICA - HABILITAÇÃO EM ENERGIA - 65H","   1109475"]
["ENGENHARIA ELÉTRICA - HABILITAÇÃO EM SISTEMAS DE POTÊNCIA - 65J","   1109486"]
["ENGENHARIA ELÉTRICA - HABILITAÇÃO EM SISTEMAS ELETRÔNICOS - 65K","   1109487"]
["ENGENHARIA ELÉTRICA - HABILITAÇÃO EM TELECOMUNICAÇÕES - 65L","   1109488"]
["ENGENHARIA MECÂNICA - 65M","   1109489"]
["BACHARELADO INTERDISCIPLINAR EM ARTES E DESIGN - 66A","    116500"]
["BACHARELADO EM CINEMA E AUDIOVISUAL - 66B","   1153947"]
["BACHARELADO EM ARTES VISUAIS - 66C","   1153948"]
["BACHARELADO EM DESIGN - 66D","   1153949"]
["BACHARELADO EM MODA - 66E","   1153950"]
["LICENCIATURA EM ARTES VISUAIS - 66F","   1153951"]
["ENGENHARIA AMBIENTAL E SANITÁRIA - 67A","    116496"]
["SERVIÇO SOCIAL - 68A","     13107"]
["ENGENHARIA ELÉTRICA - HABILITAÇÃO EM SISTEMAS ELETRÔNICOS - 69A","   1109487"]
["ENGENHARIA ELÉTRICA - HAB. EM ROBÓTICA E AUTOMAÇÃO INDUSTRIAL - 69B","   1109485"]
["ENGENHARIA ELÉTRICA - HABILITAÇÃO EM SISTEMAS DE POTÊNCIA - 69C","   1109486"]
["ENGENHARIA ELÉTRICA - HABILITAÇÃO EM TELECOMUNICAÇÕES - 69D","   1109488"]
["ENGENHARIA ELÉTRICA - HABILITAÇÃO EM ENERGIA - 70A","   1109475"]
["ENGENHARIA MECÂNICA - 71A","   1109489"]
["BACHARELADO INTERDISCIPLINAR EM CIÊNCIAS HUMANAS - 72A","   1120242"]
["FILOSOFIA - 72EB","   5000611"]
["CIÊNCIA DA RELIGIÃO - 73B","   1165350"]
["CIÊNCIA DA RELIGIÃO - 73BL","   1165686"]
["CIÊNCIAS SOCIAIS - 73C","   5000609"]
["CIÊNCIAS CONTÁBEIS - 77A","   1132074"]
["CIÊNCIAS CONTÁBEIS - 78A","   1132074"]
["FÍSICA - 81A","   1166037"]
["MATEMÁTICA - 82A","   1166038"]
["QUÍMICA - 83A","   1166039"]
["JORNALISMO - 84A","     27657"]
["JORNALISMO - 85A","     36356"]
["MEDICINA VETERINÁRIA - 87A","   1268972"]
["LICENCIATURA EM LETRAS - LIBRAS - 88A","   1268983"]
["LICENCIATURA EM MÚSICA - 89A","   1278855"]
["LICENCIATURA EM MÚSICA - 89A","   1278855"]
["LICENCIATURA EM MÚSICA - 89A","   1278855"]
["LICENCIATURA EM MÚSICA - 89A","   1278855"]
["RÁDIO, TV E INTERNET - 91A","   1374873"]
["TURISMO - 92A","     21589"]
["BACHARELADO EM ARTES VISUAIS - 66C","   1153948"]
["BACHARELADO EM MODA - 66E","   1153950"]
["ABI - CIÊNCIAS BIOLÓGICAS - 01ABI","   5000608"]
["CIÊNCIAS BIOLÓGICAS - 01B","    313086"]
["ADMINISTRAÇÃO - 01GV","   1178684"]
["CIÊNCIAS BIOLÓGICAS - 01L","     13086"]
["CIÊNCIAS ECONÔMICAS - 03GV","   1178683"]
["DIREITO - 04A","     13089"]
["DIREITO - 04GV","   1178675"]
["FARMÁCIA - 05GV","   1185503"]
["FISIOTERAPIA - 06GV","   1178689"]
["FARMÁCIA - 07A","     38509"]
["MEDICINA - 07GV","   5001167"]
["NUTRIÇÃO - 08GV","   1178688"]
["ODONTOLOGIA - 09GV","   5001168"]
["EDUCAÇÃO FÍSICA - 10GV","   1270439"]
["MEDICINA - 15A","     13103"]
["ODONTOLOGIA - 16A","     13104"]
["PEDAGOGIA - 17A","     13105"]
["FISIOTERAPIA - 20A","     13118"]
["ABI - EDUCAÇÃO FÍSICA - 21ABI","   5000610"]
["ENFERMAGEM - 23A","     38994"]
["ENGENHARIA CIVIL - 24A","     13094"]
["ADMINISTRAÇÃO - 26A","     22451"]
["ABI - HISTÓRIA - 28ABI","   5000616"]
["HISTÓRIA - 28B","    313100"]
["HISTÓRIA - 28L","     13100"]
["LETRAS - 29L","     13101"]
["PEDAGOGIA - 30A","     13105"]
["ARQUITETURA E URBANISMO - 33A","     13114"]
["DIREITO - 34A","     21860"]
["CIÊNCIA DA COMPUTAÇÃO - 35A","     18518"]
["ENGENHARIA DE PRODUÇÃO - 49A","     38594"]
["NUTRIÇÃO - 64A","    116498"]
["CIÊNCIAS EXATAS - 65A","    116502"]
["QUÍMICA - 65GL","     13106"]
["BACHARELADO INTERDISCIPLINAR EM ARTES E DESIGN - 66A","    116500"]
["SERVIÇO SOCIAL - 68A","     13107"]
["ENGENHARIA ELÉTRICA - HABILITAÇÃO EM SISTEMAS ELETRÔNICOS - 69A","   1109487"]
["ENGENHARIA ELÉTRICA - HAB. EM ROBÓTICA E AUTOMAÇÃO INDUSTRIAL - 69B","   1109485"]
["ENGENHARIA ELÉTRICA - HABILITAÇÃO EM SISTEMAS DE POTÊNCIA - 69C","   1109486"]
["ENGENHARIA ELÉTRICA - HABILITAÇÃO EM TELECOMUNICAÇÕES - 69D","   1109488"]
["ENGENHARIA MECÂNICA - 71A","   1109489"]
["FILOSOFIA - 72EB","   5000611"]
["BACHARELADO INTERDISCIPLINAR EM CIÊNCIAS HUMANAS - 73A","   1120242"]
["CIÊNCIA DA RELIGIÃO - 73B","   1165350"]
["CIÊNCIA DA RELIGIÃO - 73BL","   1165686"]
["CIÊNCIAS SOCIAIS - 73C","   5000609"]
["SISTEMAS DE INFORMAÇÃO - 76A","   1128364"]
["FÍSICA - 81A","   1166037"]
["MATEMÁTICA - 82A","   1166038"]
["QUÍMICA - 83A","   1166039"]
["JORNALISMO - 84A","     27657"]
["JORNALISMO - 85A","     36356"]
["MEDICINA VETERINÁRIA - 87A","   1268972"]
["LICENCIATURA EM LETRAS - LIBRAS - 88A","   1268983"]
["TURISMO - 93A","     21589"]
["BACHARELADO EM ARTES VISUAIS - 66C","   1153948"]
["BACHARELADO EM CINEMA E AUDIOVISUAL - 66B","   1153947"]
["ABI - CIÊNCIAS BIOLÓGICAS - 01ABI","   5000608"]
["CIÊNCIAS BIOLÓGICAS - 01B","    313086"]
["ADMINISTRAÇÃO - 01GV","   1178684"]
["CIÊNCIAS BIOLÓGICAS - 01L","     13086"]
["CIÊNCIAS CONTÁBEIS - 02GV","   1183351"]
["CIÊNCIAS ECONÔMICAS - 03GV","   1178683"]
["DIREITO - 04A","     13089"]
["DIREITO - 04GV","   1178675"]
["CIÊNCIAS ECONÔMICAS - 05A","     13090"]
["FARMÁCIA - 05GV","   1185503"]
["FISIOTERAPIA - 06GV","   1178689"]
["FARMÁCIA - 07A","     38509"]
["MEDICINA - 07GV","   5001167"]
["ABI - FILOSOFIA - 08ABI","   5000611"]
["FILOSOFIA - 08B","    313097"]
["NUTRIÇÃO - 08GV","   1178688"]
["FILOSOFIA - 08L","     13097"]
["ODONTOLOGIA - 09GV","   5001168"]
["ABI - GEOGRAFIA - 10ABI","   5000615"]
["GEOGRAFIA - 10B","    313099"]
["EDUCAÇÃO FÍSICA - 10GV","   1270439"]
["GEOGRAFIA - 10L","     13099"]
["ABI - HISTÓRIA - 11ABI","   5000616"]
["HISTÓRIA - 11B","    313100"]
["HISTÓRIA - 11L","     13100"]
["ABI - LETRAS - 13ABI","   5000617"]
["LETRAS - 13B","    313101"]
["LETRAS - 13B","    313101"]
["LETRAS - 13B","    313101"]
["LETRAS - 13L","     13101"]
["LETRAS - 13L","     13101"]
["LETRAS - 13L","     13101"]
["LETRAS - 13L","     13101"]
["MEDICINA - 15A","     13103"]
["ODONTOLOGIA - 16A","     13104"]
["PEDAGOGIA - 17A","     13105"]
["SERVIÇO SOCIAL - 19A","     13107"]
["FISIOTERAPIA - 20A","     13118"]
["ABI - EDUCAÇÃO FÍSICA - 21ABI","   5000610"]
["ENFERMAGEM - 23A","     38994"]
["ENGENHARIA CIVIL - 24A","     13094"]
["ADMINISTRAÇÃO - 26A","     22451"]
["GEOGRAFIA - 27L","     13099"]
["ABI - LETRAS - 29ABI","   5000617"]
["PSICOLOGIA - 32A","     13113"]
["ARQUITETURA E URBANISMO - 33A","     13114"]
["DIREITO - 34A","     21860"]
["CIÊNCIA DA COMPUTAÇÃO - 35A","     18518"]
["ADMINISTRAÇÃO - 46A","     22451"]
["ENGENHARIA DE PRODUÇÃO - 49A","     38594"]
["CIÊNCIAS ECONÔMICAS - 51A","     13090"]
["MÚSICA - CANTO - 63A","    116490"]
["MÚSICA - MODALIDADE FLAUTA TRANSVERSAL - 63B","    116490"]
["MÚSICA - MODALIDADE FLAUTA TRANSVERSAL - 63B","    116491"]
["MÚSICA - MODALIDADE PIANO - 63C","    116490"]
["MÚSICA - MODALIDADE PIANO - 63C","    116492"]
["MÚSICA - MODALIDADE VIOLÃO - 63D","    116490"]
["MÚSICA - MODALIDADE VIOLÃO - 63D","    116493"]
["MÚSICA - MODALIDADE VIOLONCELO - 63F","    116490"]
["MÚSICA - MODALIDADE VIOLONCELO - 63F","    116495"]
["MÚSICA - MODALIDADE COMPOSIÇÃO - 63G","    116490"]
["MÚSICA - MODALIDADE COMPOSIÇÃO - 63G","   1271995"]
["NUTRIÇÃO - 64A","    116498"]
["CIÊNCIAS EXATAS - 65A","    116502"]
["ENGENHARIA COMPUTACIONAL - 65B","   1120244"]
["CIÊNCIA DA COMPUTAÇÃO - 65C","     65361"]
["ESTATÍSTICA - 65D","    113531"]
["FÍSICA - 65E","   5000613"]
["FÍSICA - 65E","    313098"]
["MATEMÁTICA - 65F","   5000618"]
["QUÍMICA - 65GB","   5000619"]
["QUÍMICA - 65GB","    313106"]
["QUÍMICA - 65GL","     13106"]
["ENGENHARIA ELÉTRICA - HABILITAÇÃO EM ENERGIA - 65H","   1109475"]
["ENGENHARIA ELÉTRICA - HABILITAÇÃO EM SISTEMAS DE POTÊNCIA - 65J","   1109486"]
["BACHARELADO EM MODA - 66E","   1153950"]
["LICENCIATURA EM ARTES VISUAIS - 66F","   1153951"]
["ENGENHARIA AMBIENTAL E SANITÁRIA - 67A","    116496"]
["ENGENHARIA ELÉTRICA - HABILITAÇÃO EM SISTEMAS ELETRÔNICOS - 69A","   1109487"]
["ENGENHARIA ELÉTRICA - HAB. EM ROBÓTICA E AUTOMAÇÃO INDUSTRIAL - 69B","   1109485"]
["ENGENHARIA ELÉTRICA - HABILITAÇÃO EM SISTEMAS DE POTÊNCIA - 69C","   1109486"]
["ENGENHARIA ELÉTRICA - HABILITAÇÃO EM TELECOMUNICAÇÕES - 69D","   1109488"]
["ENGENHARIA ELÉTRICA - HABILITAÇÃO EM ENERGIA - 70A","   1109475"]
["ENGENHARIA MECÂNICA - 71A","   1109489"]
["BACHARELADO INTERDISCIPLINAR EM CIÊNCIAS HUMANAS - 72A","   1120242"]
["CIÊNCIA DA RELIGIÃO - 73B","   1165350"]
["CIÊNCIA DA RELIGIÃO - 73BL","   1165686"]
["CIÊNCIAS CONTÁBEIS - 77A","   1132074"]
["CIÊNCIAS CONTÁBEIS - 78A","   1132074"]
["FÍSICA - 81A","   1166037"]
["MATEMÁTICA - 82A","   1166038"]
["JORNALISMO - 85A","     36356"]
["MEDICINA VETERINÁRIA - 87A","   1268972"]
["LICENCIATURA EM LETRAS - LIBRAS - 88A","   1268983"]
["LICENCIATURA EM MÚSICA - 89A","   1278855"]
["LICENCIATURA EM MÚSICA - 89A","   1278855"]
["LICENCIATURA EM MÚSICA - 89A","   1278855"]
["LICENCIATURA EM MÚSICA - 89A","   1278855"]
["RÁDIO, TV E INTERNET - 91A","   1374873"]
["TURISMO - 92A","     21589"]
["TURISMO - 93A","     21589"]
["BACHARELADO EM ARTES VISUAIS - 66C","   1153948"]
["BACHARELADO EM MODA - 66E","   1153950"]
["LICENCIATURA EM ARTES VISUAIS - 66F","   1153951"]
["BACHARELADO EM CINEMA E AUDIOVISUAL - 66B","   1153947"]
["BACHARELADO EM DESIGN - 66D","   1153949"]
["ABI - CIÊNCIAS BIOLÓGICAS - 01ABI","   5000608"]
["CIÊNCIAS BIOLÓGICAS - 01B","    313086"]
["ADMINISTRAÇÃO - 01GV","   1178684"]
["CIÊNCIAS BIOLÓGICAS - 01L","     13086"]
["CIÊNCIAS ECONÔMICAS - 03GV","   1178683"]
["DIREITO - 04A","     13089"]
["DIREITO - 04GV","   1178675"]
["FARMÁCIA - 05GV","   1185503"]
["FISIOTERAPIA - 06GV","   1178689"]
["FARMÁCIA - 07A","     38509"]
["MEDICINA - 07GV","   5001167"]
["NUTRIÇÃO - 08GV","   1178688"]
["ODONTOLOGIA - 09GV","   5001168"]
["EDUCAÇÃO FÍSICA - 10GV","   1270439"]
["MEDICINA - 15A","     13103"]
["ODONTOLOGIA - 16A","     13104"]
["FISIOTERAPIA - 20A","     13118"]
["ABI - EDUCAÇÃO FÍSICA - 21ABI","   5000610"]
["ENFERMAGEM - 23A","     38994"]
["ENGENHARIA CIVIL - 24A","     13094"]
["ABI - HISTÓRIA - 28ABI","   5000616"]
["HISTÓRIA - 28B","    313100"]
["HISTÓRIA - 28L","     13100"]
["LETRAS - 29L","     13101"]
["PEDAGOGIA - 30A","     13105"]
["ARQUITETURA E URBANISMO - 33A","     13114"]
["DIREITO - 34A","     21860"]
["CIÊNCIA DA COMPUTAÇÃO - 35A","     18518"]
["ENGENHARIA DE PRODUÇÃO - 49A","     38594"]
["NUTRIÇÃO - 64A","    116498"]
["ENGENHARIA AMBIENTAL E SANITÁRIA - 67A","    116496"]
["SERVIÇO SOCIAL - 68A","     13107"]
["ENGENHARIA ELÉTRICA - HABILITAÇÃO EM SISTEMAS ELETRÔNICOS - 69A","   1109487"]
["ENGENHARIA ELÉTRICA - HAB. EM ROBÓTICA E AUTOMAÇÃO INDUSTRIAL - 69B","   1109485"]
["ENGENHARIA ELÉTRICA - HABILITAÇÃO EM SISTEMAS DE POTÊNCIA - 69C","   1109486"]
["ENGENHARIA ELÉTRICA - HABILITAÇÃO EM TELECOMUNICAÇÕES - 69D","   1109488"]
["ENGENHARIA MECÂNICA - 71A","   1109489"]
["BACHARELADO INTERDISCIPLINAR EM CIÊNCIAS HUMANAS - 73A","   1120242"]
["SISTEMAS DE INFORMAÇÃO - 76A","   1128364"]
["FÍSICA - 81A","   1166037"]
["MATEMÁTICA - 82A","   1166038"]
["QUÍMICA - 83A","   1166039"]
["JORNALISMO - 84A","     27657"]
["MEDICINA VETERINÁRIA - 87A","   1268972"]
["LICENCIATURA EM LETRAS - LIBRAS - 88A","   1268983"]
["TURISMO - 93A","     21589"]
["BACHARELADO EM MODA - 66E","   1153950"]
["ENGENHARIA MECÂNICA - 65M","   1109489"]
["ABI - CIÊNCIAS BIOLÓGICAS - 01ABI","   5000608"]
["CIÊNCIAS BIOLÓGICAS - 01B","    313086"]
["ADMINISTRAÇÃO - 01GV","   1178684"]
["CIÊNCIAS CONTÁBEIS - 02GV","   1183351"]
["CIÊNCIAS ECONÔMICAS - 03GV","   1178683"]
["DIREITO - 04A","     13089"]
["DIREITO - 04GV","   1178675"]
["CIÊNCIAS ECONÔMICAS - 05A","     13090"]
["FARMÁCIA - 05GV","   1185503"]
["FISIOTERAPIA - 06GV","   1178689"]
["FARMÁCIA - 07A","     38509"]
["MEDICINA - 07GV","   5001167"]
["ABI - FILOSOFIA - 08ABI","   5000611"]
["FILOSOFIA - 08B","    313097"]
["NUTRIÇÃO - 08GV","   1178688"]
["FILOSOFIA - 08L","     13097"]
["ODONTOLOGIA - 09GV","   5001168"]
["ABI - GEOGRAFIA - 10ABI","   5000615"]
["GEOGRAFIA - 10B","    313099"]
["EDUCAÇÃO FÍSICA - 10GV","   1270439"]
["ABI - HISTÓRIA - 11ABI","   5000616"]
["ABI - LETRAS - 13ABI","   5000617"]
["LETRAS - 13B","    313101"]
["LETRAS - 13B","    313101"]
["LETRAS - 13B","    313101"]
["LETRAS - 13L","     13101"]
["LETRAS - 13L","     13101"]
["LETRAS - 13L","     13101"]
["LETRAS - 13L","     13101"]
["MEDICINA - 15A","     13103"]
["ODONTOLOGIA - 16A","     13104"]
["PEDAGOGIA - 17A","     13105"]
["SERVIÇO SOCIAL - 19A","     13107"]
["FISIOTERAPIA - 20A","     13118"]
["ABI - EDUCAÇÃO FÍSICA - 21ABI","   5000610"]
["ENFERMAGEM - 23A","     38994"]
["ENGENHARIA CIVIL - 24A","     13094"]
["ADMINISTRAÇÃO - 26A","     22451"]
["GEOGRAFIA - 27L","     13099"]
["ABI - LETRAS - 29ABI","   5000617"]
["PSICOLOGIA - 32A","     13113"]
["ARQUITETURA E URBANISMO - 33A","     13114"]
["DIREITO - 34A","     21860"]
["ADMINISTRAÇÃO - 46A","     22451"]
["ENGENHARIA DE PRODUÇÃO - 49A","     38594"]
["CIÊNCIAS ECONÔMICAS - 51A","     13090"]
["MÚSICA - MODALIDADE FLAUTA TRANSVERSAL - 63B","    116490"]
["MÚSICA - MODALIDADE FLAUTA TRANSVERSAL - 63B","    116491"]
["MÚSICA - MODALIDADE PIANO - 63C","    116490"]
["MÚSICA - MODALIDADE PIANO - 63C","    116492"]
["MÚSICA - MODALIDADE VIOLÃO - 63D","    116490"]
["MÚSICA - MODALIDADE VIOLÃO - 63D","    116493"]
["MÚSICA - MODALIDADE COMPOSIÇÃO - 63G","    116490"]
["MÚSICA - MODALIDADE COMPOSIÇÃO - 63G","   1271995"]
["NUTRIÇÃO - 64A","    116498"]
["CIÊNCIAS EXATAS - 65A","    116502"]
["ENGENHARIA COMPUTACIONAL - 65B","   1120244"]
["CIÊNCIA DA COMPUTAÇÃO - 65C","     65361"]
["ESTATÍSTICA - 65D","    113531"]
["FÍSICA - 65E","   5000613"]
["MATEMÁTICA - 65F","   5000618"]
["MATEMÁTICA - 65FL","     13102"]
["QUÍMICA - 65GB","   5000619"]
["ENGENHARIA MECÂNICA - 65M","   1109489"]
["ENGENHARIA AMBIENTAL E SANITÁRIA - 67A","    116496"]
["ENGENHARIA ELÉTRICA - HABILITAÇÃO EM SISTEMAS ELETRÔNICOS - 69A","   1109487"]
["ENGENHARIA ELÉTRICA - HAB. EM ROBÓTICA E AUTOMAÇÃO INDUSTRIAL - 69B","   1109485"]
["ENGENHARIA ELÉTRICA - HABILITAÇÃO EM SISTEMAS DE POTÊNCIA - 69C","   1109486"]
["ENGENHARIA ELÉTRICA - HABILITAÇÃO EM TELECOMUNICAÇÕES - 69D","   1109488"]
["ENGENHARIA ELÉTRICA - HABILITAÇÃO EM ENERGIA - 70A","   1109475"]
["ENGENHARIA MECÂNICA - 71A","   1109489"]
["BACHARELADO INTERDISCIPLINAR EM CIÊNCIAS HUMANAS - 72A","   1120242"]
["FILOSOFIA - 72EB","   5000611"]
["CIÊNCIAS CONTÁBEIS - 77A","   1132074"]
["CIÊNCIAS CONTÁBEIS - 78A","   1132074"]
["JORNALISMO - 85A","     36356"]
["MEDICINA VETERINÁRIA - 87A","   1268972"]
["LICENCIATURA EM MÚSICA - 89A","   1278855"]
["RÁDIO, TV E INTERNET - 91A","   1374873"]
["TURISMO - 92A","     21589"]
["BACHARELADO EM ARTES VISUAIS - 66C","   1153948"]
["BACHARELADO EM MODA - 66E","   1153950"]
["LICENCIATURA EM ARTES VISUAIS - 66F","   1153951"]
["BACHARELADO EM CINEMA E AUDIOVISUAL - 66B","   1153947"]
["BACHARELADO EM DESIGN - 66D","   1153949"]
["ABI - CIÊNCIAS BIOLÓGICAS - 01ABI","   5000608"]
["ADMINISTRAÇÃO - 01GV","   1178684"]
["CIÊNCIAS ECONÔMICAS - 03GV","   1178683"]
["DIREITO - 04A","     13089"]
["DIREITO - 04GV","   1178675"]
["FARMÁCIA - 05GV","   1185503"]
["FISIOTERAPIA - 06GV","   1178689"]
["FARMÁCIA - 07A","     38509"]
["MEDICINA - 07GV","   5001167"]
["NUTRIÇÃO - 08GV","   1178688"]
["ODONTOLOGIA - 09GV","   5001168"]
["EDUCAÇÃO FÍSICA - 10GV","   1270439"]
["LETRAS - 13B","    313101"]
["MEDICINA - 15A","     13103"]
["ODONTOLOGIA - 16A","     13104"]
["FISIOTERAPIA - 20A","     13118"]
["ABI - EDUCAÇÃO FÍSICA - 21ABI","   5000610"]
["EDUCAÇÃO FÍSICA - 21L","     13092"]
["ENFERMAGEM - 23A","     38994"]
["ENGENHARIA CIVIL - 24A","     13094"]
["ABI - HISTÓRIA - 28ABI","   5000616"]
["LETRAS - 29L","     13101"]
["PEDAGOGIA - 30A","     13105"]
["ARQUITETURA E URBANISMO - 33A","     13114"]
["DIREITO - 34A","     21860"]
["CIÊNCIA DA COMPUTAÇÃO - 35A","     18518"]
["ENGENHARIA DE PRODUÇÃO - 49A","     38594"]
["NUTRIÇÃO - 64A","    116498"]
["ENGENHARIA MECÂNICA - 65M","   1109489"]
["SERVIÇO SOCIAL - 68A","     13107"]
["ENGENHARIA ELÉTRICA - HABILITAÇÃO EM SISTEMAS ELETRÔNICOS - 69A","   1109487"]
["ENGENHARIA ELÉTRICA - HAB. EM ROBÓTICA E AUTOMAÇÃO INDUSTRIAL - 69B","   1109485"]
["ENGENHARIA ELÉTRICA - HABILITAÇÃO EM SISTEMAS DE POTÊNCIA - 69C","   1109486"]
["ENGENHARIA ELÉTRICA - HABILITAÇÃO EM TELECOMUNICAÇÕES - 69D","   1109488"]
["ENGENHARIA MECÂNICA - 71A","   1109489"]
["BACHARELADO INTERDISCIPLINAR EM CIÊNCIAS HUMANAS - 73A","   1120242"]
["CIÊNCIA DA RELIGIÃO - 73B","   1165350"]
["SISTEMAS DE INFORMAÇÃO - 76A","   1128364"]
["FÍSICA - 81A","   1166037"]
["MATEMÁTICA - 82A","   1166038"]
["QUÍMICA - 83A","   1166039"]
["JORNALISMO - 84A","     27657"]
["MEDICINA VETERINÁRIA - 87A","   1268972"]
["LICENCIATURA EM LETRAS - LIBRAS - 88A","   1268983"]
["TURISMO - 93A","     21589"]
["ABI - CIÊNCIAS BIOLÓGICAS - 01ABI","   5000608"]
["CIÊNCIAS BIOLÓGICAS - 01B","    313086"]
["ADMINISTRAÇÃO - 01GV","   1178684"]
["CIÊNCIAS BIOLÓGICAS - 01L","     13086"]
["CIÊNCIAS CONTÁBEIS - 02GV","   1183351"]
["CIÊNCIAS ECONÔMICAS - 03GV","   1178683"]
["DIREITO - 04A","     13089"]
["DIREITO - 04GV","   1178675"]
["CIÊNCIAS ECONÔMICAS - 05A","     13090"]
["FARMÁCIA - 05GV","   1185503"]
["FISIOTERAPIA - 06GV","   1178689"]
["FARMÁCIA - 07A","     38509"]
["MEDICINA - 07GV","   5001167"]
["ABI - FILOSOFIA - 08ABI","   5000611"]
["FILOSOFIA - 08B","    313097"]
["NUTRIÇÃO - 08GV","   1178688"]
["FILOSOFIA - 08L","     13097"]
["FÍSICA - 09A","   5000613"]
["ODONTOLOGIA - 09GV","   5001168"]
["ABI - GEOGRAFIA - 10ABI","   5000615"]
["GEOGRAFIA - 10B","    313099"]
["EDUCAÇÃO FÍSICA - 10GV","   1270439"]
["GEOGRAFIA - 10L","     13099"]
["HISTÓRIA - 11A","   5000616"]
["ABI - HISTÓRIA - 11ABI","   5000616"]
["HISTÓRIA - 11B","    313100"]
["HISTÓRIA - 11L","     13100"]
["LETRAS - 13A","   5000617"]
["ABI - LETRAS - 13ABI","   5000617"]
["LETRAS - 13B","    313101"]
["LETRAS - 13B","    313101"]
["LETRAS - 13B","    313101"]
["LETRAS - 13B","    313101"]
["LETRAS - 13B","    313101"]
["LETRAS - 13L","     13101"]
["LETRAS - 13L","     13101"]
["LETRAS - 13L","     13101"]
["LETRAS - 13L","     13101"]
["LETRAS - 13L","     13101"]
["LETRAS - 13L","     13101"]
["LETRAS - 13L","     13101"]
["LETRAS - 13L","     13101"]
["LETRAS - 13L","     13101"]
["LETRAS - 13L","     13101"]
["MEDICINA - 15A","     13103"]
["ODONTOLOGIA - 16A","     13104"]
["PEDAGOGIA - 17A","     13105"]
["SERVIÇO SOCIAL - 19A","     13107"]
["FISIOTERAPIA - 20A","     13118"]
["EDUCAÇÃO FÍSICA - 21B","   5000610"]
["ABI - EDUCAÇÃO FÍSICA - 21ABI","   5000610"]
["EDUCAÇÃO FÍSICA - 21B","    313092"]
["EDUCAÇÃO FÍSICA - 21L","     13092"]
["ENFERMAGEM - 23A","     38994"]
["ENGENHARIA CIVIL - 24A","     13094"]
["ENGENHARIA ELÉTRICA - 25A","     13095"]
["ADMINISTRAÇÃO - 26A","     22451"]
["GEOGRAFIA - 27A","   5000615"]
["GEOGRAFIA - 27L","    313099"]
["GEOGRAFIA - 27L","     13099"]
["ABI - HISTÓRIA - 28ABI","   5000616"]
["HISTÓRIA - 28B","    313100"]
["HISTÓRIA - 28L","     13100"]
["LETRAS - 29A","   5000617"]
["ABI - LETRAS - 29ABI","   5000617"]
["LETRAS - 29L","     13101"]
["LETRAS - 29L","     13101"]
["LETRAS - 29L","     13101"]
["PEDAGOGIA - 30A","     13105"]
["PSICOLOGIA - 32A","     13113"]
["ARQUITETURA E URBANISMO - 33A","     13114"]
["DIREITO - 34A","     21860"]
["CIÊNCIA DA COMPUTAÇÃO - 35A","     18518"]
["ADMINISTRAÇÃO - 46A","     22451"]
["ENGENHARIA DE PRODUÇÃO - 49A","     38594"]
["ENGENHARIA ELÉTRICA - 50A","     49788"]
["CIÊNCIAS ECONÔMICAS - 51A","     13090"]
["QUÍMICA - 65GB","   5000619"]
["MÚSICA - CANTO - 63A","    116490"]
["MÚSICA - MODALIDADE FLAUTA TRANSVERSAL - 63B","    116490"]
["MÚSICA - MODALIDADE FLAUTA TRANSVERSAL - 63B","    116491"]
["MÚSICA - MODALIDADE PIANO - 63C","    116490"]
["MÚSICA - MODALIDADE PIANO - 63C","    116492"]
["MÚSICA - MODALIDADE VIOLÃO - 63D","    116490"]
["MÚSICA - MODALIDADE VIOLÃO - 63D","    116493"]
["MÚSICA - MODALIDADE VIOLINO - 63E","    116490"]
["MÚSICA - MODALIDADE VIOLINO - 63E","    116494"]
["MÚSICA - MODALIDADE VIOLONCELO - 63F","    116490"]
["MÚSICA - MODALIDADE VIOLONCELO - 63F","    116495"]
["MÚSICA - MODALIDADE COMPOSIÇÃO - 63G","    116490"]
["MÚSICA - MODALIDADE COMPOSIÇÃO - 63G","   1271995"]
["NUTRIÇÃO - 64A","    116498"]
["CIÊNCIAS EXATAS - 65A","    116502"]
["ENGENHARIA COMPUTACIONAL - 65B","   1120244"]
["CIÊNCIA DA COMPUTAÇÃO - 65C","     65361"]
["ESTATÍSTICA - 65D","    113531"]
["FÍSICA - 65E","   5000613"]
["FÍSICA - 65E","    313098"]
["FÍSICA - 65EL","     13098"]
["MATEMÁTICA - 65F","   5000618"]
["MATEMÁTICA - 65F","    313102"]
["MATEMÁTICA - 65FL","     13102"]
["QUÍMICA - 65GB","   5000619"]
["QUÍMICA - 65GB","   5000619"]
["QUÍMICA - 65GB","    313106"]
["QUÍMICA - 65GL","     13106"]
["ENGENHARIA ELÉTRICA - HABILITAÇÃO EM ENERGIA - 65H","   1109475"]
["ENGENHARIA ELÉTRICA - HAB. EM ROBÓTICA E AUTOMAÇÃO INDUSTRIAL - 65I","   1109485"]
["ENGENHARIA ELÉTRICA - HABILITAÇÃO EM SISTEMAS DE POTÊNCIA - 65J","   1109486"]
["ENGENHARIA ELÉTRICA - HABILITAÇÃO EM SISTEMAS ELETRÔNICOS - 65K","   1109487"]
["ENGENHARIA ELÉTRICA - HABILITAÇÃO EM TELECOMUNICAÇÕES - 65L","   1109488"]
["ENGENHARIA MECÂNICA - 65M","   1109489"]
["BACHARELADO INTERDISCIPLINAR EM ARTES E DESIGN - 66A","    116500"]
["BACHARELADO EM CINEMA E AUDIOVISUAL - 66B","   1153947"]
["BACHARELADO EM ARTES VISUAIS - 66C","   1153948"]
["BACHARELADO EM DESIGN - 66D","   1153949"]
["BACHARELADO EM MODA - 66E","   1153950"]
["LICENCIATURA EM ARTES VISUAIS - 66F","   1153951"]
["ENGENHARIA AMBIENTAL E SANITÁRIA - 67A","    116496"]
["SERVIÇO SOCIAL - 68A","     13107"]
["ENGENHARIA ELÉTRICA - HABILITAÇÃO EM SISTEMAS ELETRÔNICOS - 69A","   1109487"]
["ENGENHARIA ELÉTRICA - HAB. EM ROBÓTICA E AUTOMAÇÃO INDUSTRIAL - 69B","   1109485"]
["ENGENHARIA ELÉTRICA - HABILITAÇÃO EM SISTEMAS DE POTÊNCIA - 69C","   1109486"]
["ENGENHARIA ELÉTRICA - HABILITAÇÃO EM TELECOMUNICAÇÕES - 69D","   1109488"]
["ENGENHARIA ELÉTRICA - HABILITAÇÃO EM ENERGIA - 70A","   1109475"]
["ENGENHARIA MECÂNICA - 71A","   1109489"]
["BACHARELADO INTERDISCIPLINAR EM CIÊNCIAS HUMANAS - 72A","   1120242"]
["CIÊNCIA DA RELIGIÃO - 72B","   1165350"]
["CIÊNCIA DA RELIGIÃO - 72BL","   1165686"]
["CIÊNCIAS SOCIAIS - 72CB","    313087"]
["CIÊNCIAS SOCIAIS - 72CL","     13087"]
["TURISMO - 72D","     21589"]
["FILOSOFIA - 72EB","   5000611"]
["FILOSOFIA - 72EB","    313097"]
["FILOSOFIA - 72EL","     13097"]
["BACHARELADO INTERDISCIPLINAR EM CIÊNCIAS HUMANAS - 73A","   1120242"]
["CIÊNCIA DA RELIGIÃO - 73B","   1165350"]
["CIÊNCIA DA RELIGIÃO - 73BL","   1165686"]
["CIÊNCIAS SOCIAIS - 73C","   5000609"]
["CIÊNCIAS SOCIAIS - 73CB","    313087"]
["CIÊNCIAS SOCIAIS - 73CL","     13087"]
["TURISMO - 73D","     21589"]
["SISTEMAS DE INFORMAÇÃO - 76A","   1128364"]
["CIÊNCIAS CONTÁBEIS - 77A","   1132074"]
["CIÊNCIAS CONTÁBEIS - 78A","   1132074"]
["FÍSICA - 81A","   1166037"]
["MATEMÁTICA - 82A","   1166038"]
["QUÍMICA - 83A","   1166039"]
["JORNALISMO - 84A","     27657"]
["JORNALISMO - 85A","     36356"]
["MEDICINA VETERINÁRIA - 87A","   1268972"]
["LICENCIATURA EM LETRAS - LIBRAS - 88A","   1268983"]
["LICENCIATURA EM MÚSICA - 89A","   1278855"]
["LICENCIATURA EM MÚSICA - 89A","   1278855"]
["LICENCIATURA EM MÚSICA - 89A","   1278855"]
["LICENCIATURA EM MÚSICA - 89A","   1278855"]
["LICENCIATURA EM MÚSICA - 89A","   1278855"]
["LICENCIATURA EM MÚSICA - 89A","   1278855"]
["LICENCIATURA EM MÚSICA - 89A","   1278855"]
["LICENCIATURA EM MÚSICA - 89A","   1278855"]
["LICENCIATURA EM MÚSICA - 89A","   1278855"]
["RÁDIO, TV E INTERNET - 91A","   1374873"]
["TURISMO - 92A","     21589"]
["TURISMO - 93A","     21589"]
["BACHARELADO EM ARTES VISUAIS - 66C","   1153948"]
["BACHARELADO EM MODA - 66E","   1153950"]
["LICENCIATURA EM ARTES VISUAIS - 66F","   1153951"]
["BACHARELADO EM CINEMA E AUDIOVISUAL - 66B","   1153947"]
["BACHARELADO EM DESIGN - 66D","   1153949"]
["DIREITO - 04GV","   1178675"]
["FARMÁCIA - 05GV","   1185503"]
["MEDICINA - 07GV","   5001167"]
["NUTRIÇÃO - 08GV","   1178688"]
["ODONTOLOGIA - 09GV","   5001168"]
["FISIOTERAPIA - 20A","     13118"]
["ENGENHARIA MECÂNICA - 71A","   1109489"]
["SISTEMAS DE INFORMAÇÃO - 76A","   1128364"]
["JORNALISMO - 84A","     27657"]
["JORNALISMO - 85A","     36356"]
["LICENCIATURA EM LETRAS - LIBRAS - 88A","   1268983"]
["BACHARELADO EM ARTES VISUAIS - 66C","   1153948"]
["ABI - CIÊNCIAS BIOLÓGICAS - 01ABI","   5000608"]
["CIÊNCIAS BIOLÓGICAS - 01B","    313086"]
["ADMINISTRAÇÃO - 01GV","   1178684"]
["CIÊNCIAS BIOLÓGICAS - 01L","     13086"]
["CIÊNCIAS CONTÁBEIS - 02GV","   1183351"]
["CIÊNCIAS ECONÔMICAS - 03GV","   1178683"]
["DIREITO - 04A","     13089"]
["DIREITO - 04GV","   1178675"]
["CIÊNCIAS ECONÔMICAS - 05A","     13090"]
["FARMÁCIA - 05GV","   1185503"]
["FISIOTERAPIA - 06GV","   1178689"]
["FARMÁCIA - 07A","     38509"]
["MEDICINA - 07GV","   5001167"]
["ABI - FILOSOFIA - 08ABI","   5000611"]
["FILOSOFIA - 08B","    313097"]
["NUTRIÇÃO - 08GV","   1178688"]
["FILOSOFIA - 08L","     13097"]
["FÍSICA - 09A","   5000613"]
["ODONTOLOGIA - 09GV","   5001168"]
["ABI - GEOGRAFIA - 10ABI","   5000615"]
["GEOGRAFIA - 10B","    313099"]
["EDUCAÇÃO FÍSICA - 10GV","   1270439"]
["GEOGRAFIA - 10L","     13099"]
["HISTÓRIA - 11A","   5000616"]
["ABI - HISTÓRIA - 11ABI","   5000616"]
["HISTÓRIA - 11B","    313100"]
["HISTÓRIA - 11L","     13100"]
["LETRAS - 13A","   5000617"]
["ABI - LETRAS - 13ABI","   5000617"]
["LETRAS - 13B","    313101"]
["LETRAS - 13B","    313101"]
["LETRAS - 13B","    313101"]
["LETRAS - 13B","    313101"]
["LETRAS - 13B","    313101"]
["LETRAS - 13L","     13101"]
["LETRAS - 13L","     13101"]
["LETRAS - 13L","     13101"]
["LETRAS - 13L","     13101"]
["LETRAS - 13L","     13101"]
["LETRAS - 13L","     13101"]
["LETRAS - 13L","     13101"]
["LETRAS - 13L","     13101"]
["LETRAS - 13L","     13101"]
["LETRAS - 13L","     13101"]
["MEDICINA - 15A","     13103"]
["ODONTOLOGIA - 16A","     13104"]
["PEDAGOGIA - 17A","     13105"]
["SERVIÇO SOCIAL - 19A","     13107"]
["FISIOTERAPIA - 20A","     13118"]
["EDUCAÇÃO FÍSICA - 21B","   5000610"]
["ABI - EDUCAÇÃO FÍSICA - 21ABI","   5000610"]
["EDUCAÇÃO FÍSICA - 21B","    313092"]
["EDUCAÇÃO FÍSICA - 21L","     13092"]
["ENGENHARIA CIVIL - 24A","     13094"]
["ENGENHARIA ELÉTRICA - 25A","     13095"]
["ADMINISTRAÇÃO - 26A","     22451"]
["GEOGRAFIA - 27A","   5000615"]
["GEOGRAFIA - 27L","    313099"]
["GEOGRAFIA - 27L","     13099"]
["HISTÓRIA - 28A","   5000616"]
["ABI - HISTÓRIA - 28ABI","   5000616"]
["HISTÓRIA - 28B","    313100"]
["HISTÓRIA - 28L","     13100"]
["LETRAS - 29A","   5000617"]
["ABI - LETRAS - 29ABI","   5000617"]
["LETRAS - 29L","     13101"]
["LETRAS - 29L","     13101"]
["LETRAS - 29L","     13101"]
["PEDAGOGIA - 30A","     13105"]
["PSICOLOGIA - 32A","     13113"]
["ARQUITETURA E URBANISMO - 33A","     13114"]
["DIREITO - 34A","     21860"]
["CIÊNCIA DA COMPUTAÇÃO - 35A","     18518"]
["ADMINISTRAÇÃO - 46A","     22451"]
["ENGENHARIA DE PRODUÇÃO - 49A","     38594"]
["ENGENHARIA ELÉTRICA - 50A","     49788"]
["CIÊNCIAS ECONÔMICAS - 51A","     13090"]
["QUÍMICA - 65GB","   5000619"]
["MÚSICA - CANTO - 63A","    116490"]
["MÚSICA - MODALIDADE FLAUTA TRANSVERSAL - 63B","    116490"]
["MÚSICA - MODALIDADE FLAUTA TRANSVERSAL - 63B","    116491"]
["MÚSICA - MODALIDADE PIANO - 63C","    116490"]
["MÚSICA - MODALIDADE PIANO - 63C","    116492"]
["MÚSICA - MODALIDADE VIOLÃO - 63D","    116490"]
["MÚSICA - MODALIDADE VIOLÃO - 63D","    116493"]
["MÚSICA - MODALIDADE VIOLINO - 63E","    116490"]
["MÚSICA - MODALIDADE VIOLINO - 63E","    116494"]
["MÚSICA - MODALIDADE VIOLONCELO - 63F","    116490"]
["MÚSICA - MODALIDADE VIOLONCELO - 63F","    116495"]
["MÚSICA - MODALIDADE COMPOSIÇÃO - 63G","    116490"]
["MÚSICA - MODALIDADE COMPOSIÇÃO - 63G","   1271995"]
["NUTRIÇÃO - 64A","    116498"]
["CIÊNCIAS EXATAS - 65A","    116502"]
["ENGENHARIA COMPUTACIONAL - 65B","   1120244"]
["CIÊNCIA DA COMPUTAÇÃO - 65C","     65361"]
["ESTATÍSTICA - 65D","    113531"]
["FÍSICA - 65E","   5000613"]
["FÍSICA - 65E","    313098"]
["FÍSICA - 65EL","     13098"]
["MATEMÁTICA - 65F","   5000618"]
["MATEMÁTICA - 65F","    313102"]
["MATEMÁTICA - 65FL","     13102"]
["QUÍMICA - 65GB","   5000619"]
["QUÍMICA - 65GB","   5000619"]
["QUÍMICA - 65GB","    313106"]
["QUÍMICA - 65GL","     13106"]
["ENGENHARIA ELÉTRICA - HABILITAÇÃO EM ENERGIA - 65H","   1109475"]
["ENGENHARIA ELÉTRICA - HAB. EM ROBÓTICA E AUTOMAÇÃO INDUSTRIAL - 65I","   1109485"]
["ENGENHARIA ELÉTRICA - HABILITAÇÃO EM SISTEMAS DE POTÊNCIA - 65J","   1109486"]
["ENGENHARIA ELÉTRICA - HABILITAÇÃO EM SISTEMAS ELETRÔNICOS - 65K","   1109487"]
["ENGENHARIA ELÉTRICA - HABILITAÇÃO EM TELECOMUNICAÇÕES - 65L","   1109488"]
["ENGENHARIA MECÂNICA - 65M","   1109489"]
["BACHARELADO INTERDISCIPLINAR EM ARTES E DESIGN - 66A","    116500"]
["BACHARELADO EM CINEMA E AUDIOVISUAL - 66B","   1153947"]
["BACHARELADO EM ARTES VISUAIS - 66C","   1153948"]
["BACHARELADO EM DESIGN - 66D","   1153949"]
["BACHARELADO EM MODA - 66E","   1153950"]
["LICENCIATURA EM ARTES VISUAIS - 66F","   1153951"]
["ENGENHARIA AMBIENTAL E SANITÁRIA - 67A","    116496"]
["SERVIÇO SOCIAL - 68A","     13107"]
["ENGENHARIA ELÉTRICA - HABILITAÇÃO EM SISTEMAS ELETRÔNICOS - 69A","   1109487"]
["ENGENHARIA ELÉTRICA - HAB. EM ROBÓTICA E AUTOMAÇÃO INDUSTRIAL - 69B","   1109485"]
["ENGENHARIA ELÉTRICA - HABILITAÇÃO EM SISTEMAS DE POTÊNCIA - 69C","   1109486"]
["ENGENHARIA ELÉTRICA - HABILITAÇÃO EM TELECOMUNICAÇÕES - 69D","   1109488"]
["ENGENHARIA ELÉTRICA - HABILITAÇÃO EM ENERGIA - 70A","   1109475"]
["ENGENHARIA MECÂNICA - 71A","   1109489"]
["BACHARELADO INTERDISCIPLINAR EM CIÊNCIAS HUMANAS - 72A","   1120242"]
["CIÊNCIA DA RELIGIÃO - 72B","   1165350"]
["CIÊNCIAS SOCIAIS - 72CB","    313087"]
["CIÊNCIAS SOCIAIS - 72CL","     13087"]
["TURISMO - 72D","     21589"]
["FILOSOFIA - 72EB","   5000611"]
["FILOSOFIA - 72EB","    313097"]
["FILOSOFIA - 72EL","     13097"]
["BACHARELADO INTERDISCIPLINAR EM CIÊNCIAS HUMANAS - 73A","   1120242"]
["CIÊNCIA DA RELIGIÃO - 73B","   1165350"]
["CIÊNCIA DA RELIGIÃO - 73BL","   1165686"]
["CIÊNCIAS SOCIAIS - 73C","   5000609"]
["CIÊNCIAS SOCIAIS - 73CB","    313087"]
["CIÊNCIAS SOCIAIS - 73CL","     13087"]
["TURISMO - 73D","     21589"]
["SISTEMAS DE INFORMAÇÃO - 76A","   1128364"]
["CIÊNCIAS CONTÁBEIS - 77A","   1132074"]
["CIÊNCIAS CONTÁBEIS - 78A","   1132074"]
["FÍSICA - 81A","   1166037"]
["MATEMÁTICA - 82A","   1166038"]
["QUÍMICA - 83A","   1166039"]
["JORNALISMO - 84A","     27657"]
["JORNALISMO - 85A","     36356"]
["MEDICINA VETERINÁRIA - 87A","   1268972"]
["LICENCIATURA EM LETRAS - LIBRAS - 88A","   1268983"]
["LICENCIATURA EM MÚSICA - 89A","   1278855"]
["LICENCIATURA EM MÚSICA - 89A","   1278855"]
["LICENCIATURA EM MÚSICA - 89A","   1278855"]
["LICENCIATURA EM MÚSICA - 89A","   1278855"]
["LICENCIATURA EM MÚSICA - 89A","   1278855"]
["LICENCIATURA EM MÚSICA - 89A","   1278855"]
["LICENCIATURA EM MÚSICA - 89A","   1278855"]
["LICENCIATURA EM MÚSICA - 89A","   1278855"]
["LICENCIATURA EM MÚSICA - 89A","   1278855"]
["RÁDIO, TV E INTERNET - 91A","   1374873"]
["TURISMO - 92A","     21589"]
["TURISMO - 93A","     21589"]
["BACHARELADO EM ARTES VISUAIS - 66C","   1153948"]
["BACHARELADO EM MODA - 66E","   1153950"]
["LICENCIATURA EM ARTES VISUAIS - 66F","   1153951"]
["BACHARELADO EM CINEMA E AUDIOVISUAL - 66B","   1153947"]
["BACHARELADO EM DESIGN - 66D","   1153949"]
["CIÊNCIAS CONTÁBEIS - 02GV","   1183351"]
["SERVIÇO SOCIAL - 19A","     13107"]
["ARQUITETURA E URBANISMO - 33A","     13114"]
["ENGENHARIA MECÂNICA - 65M","   1109489"]
["SERVIÇO SOCIAL - 68A","     13107"]
["ENGENHARIA MECÂNICA - 71A","   1109489"]
["MEDICINA VETERINÁRIA - 87A","   1268972"]
["LICENCIATURA EM LETRAS - LIBRAS - 88A","   1268983"]
["CIÊNCIAS BIOLÓGICAS - 01B","    313086"]
["ADMINISTRAÇÃO - 01GV","   1178684"]
["CIÊNCIAS BIOLÓGICAS - 01L","     13086"]
["CIÊNCIAS CONTÁBEIS - 02GV","   1183351"]
["CIÊNCIAS ECONÔMICAS - 03GV","   1178683"]
["DIREITO - 04A","     13089"]
["DIREITO - 04GV","   1178675"]
["CIÊNCIAS ECONÔMICAS - 05A","     13090"]
["FARMÁCIA - 05GV","   1185503"]
["FARMÁCIA - 07A","     38509"]
["MEDICINA - 07GV","   5001167"]
["FILOSOFIA - 08B","    313097"]
["FILOSOFIA - 08L","     13097"]
["ODONTOLOGIA - 09GV","   5001168"]
["GEOGRAFIA - 10B","    313099"]
["EDUCAÇÃO FÍSICA - 10GV","   1270439"]
["GEOGRAFIA - 10L","     13099"]
["HISTÓRIA - 11B","    313100"]
["HISTÓRIA - 11B","    313100"]
["HISTÓRIA - 11L","     13100"]
["HISTÓRIA - 11L","     13100"]
["LETRAS - 13B","    313101"]
["LETRAS - 13L","     13101"]
["LETRAS - 13L","     13101"]
["LETRAS - 13L","     13101"]
["LETRAS - 13L","     13101"]
["MEDICINA - 15A","     13103"]
["ODONTOLOGIA - 16A","     13104"]
["PEDAGOGIA - 17A","     13105"]
["SERVIÇO SOCIAL - 19A","     13107"]
["FISIOTERAPIA - 20A","     13118"]
["EDUCAÇÃO FÍSICA - 21B","    313092"]
["EDUCAÇÃO FÍSICA - 21L","     13092"]
["ENGENHARIA CIVIL - 24A","     13094"]
["ENGENHARIA CIVIL - 24A","     13094"]
["ENGENHARIA CIVIL - 24A","     13094"]
["ENGENHARIA CIVIL - 24A","     13094"]
["ADMINISTRAÇÃO - 26A","     22451"]
["GEOGRAFIA - 27L","     13099"]
["HISTÓRIA - 28B","    313100"]
["HISTÓRIA - 28B","    313100"]
["HISTÓRIA - 28L","     13100"]
["LETRAS - 29L","     13101"]
["LETRAS - 29L","     13101"]
["PEDAGOGIA - 30A","     13105"]
["PSICOLOGIA - 32A","     13113"]
["ARQUITETURA E URBANISMO - 33A","     13114"]
["DIREITO - 34A","     21860"]
["CIÊNCIA DA COMPUTAÇÃO - 35A","     18518"]
["ADMINISTRAÇÃO - 46A","     22451"]
["ENGENHARIA DE PRODUÇÃO - 49A","     38594"]
["CIÊNCIAS ECONÔMICAS - 51A","     13090"]
["MÚSICA - CANTO - 63A","    116490"]
["MÚSICA - MODALIDADE FLAUTA TRANSVERSAL - 63B","    116490"]
["MÚSICA - MODALIDADE FLAUTA TRANSVERSAL - 63B","    116491"]
["MÚSICA - MODALIDADE VIOLÃO - 63D","    116490"]
["MÚSICA - MODALIDADE VIOLÃO - 63D","    116493"]
["MÚSICA - MODALIDADE COMPOSIÇÃO - 63G","    116490"]
["MÚSICA - MODALIDADE COMPOSIÇÃO - 63G","   1271995"]
["NUTRIÇÃO - 64A","    116498"]
["CIÊNCIAS EXATAS - 65A","    116502"]
["ENGENHARIA COMPUTACIONAL - 65B","   1120244"]
["CIÊNCIA DA COMPUTAÇÃO - 65C","     65361"]
["ESTATÍSTICA - 65D","    113531"]
["FÍSICA - 65E","   5000613"]
["FÍSICA - 65E","    313098"]
["QUÍMICA - 65GB","   5000619"]
["ENGENHARIA ELÉTRICA - HABILITAÇÃO EM ENERGIA - 65H","   1109475"]
["ENGENHARIA ELÉTRICA - HAB. EM ROBÓTICA E AUTOMAÇÃO INDUSTRIAL - 65I","   1109485"]
["ENGENHARIA ELÉTRICA - HABILITAÇÃO EM SISTEMAS DE POTÊNCIA - 65J","   1109486"]
["ENGENHARIA ELÉTRICA - HABILITAÇÃO EM SISTEMAS ELETRÔNICOS - 65K","   1109487"]
["ENGENHARIA MECÂNICA - 65M","   1109489"]
["BACHARELADO INTERDISCIPLINAR EM ARTES E DESIGN - 66A","    116500"]
["BACHARELADO EM CINEMA E AUDIOVISUAL - 66B","   1153947"]
["BACHARELADO EM ARTES VISUAIS - 66C","   1153948"]
["BACHARELADO EM DESIGN - 66D","   1153949"]
["BACHARELADO EM MODA - 66E","   1153950"]
["LICENCIATURA EM ARTES VISUAIS - 66F","   1153951"]
["ENGENHARIA AMBIENTAL E SANITÁRIA - 67A","    116496"]
["ENGENHARIA ELÉTRICA - HABILITAÇÃO EM SISTEMAS ELETRÔNICOS - 69A","   1109487"]
["ENGENHARIA ELÉTRICA - HAB. EM ROBÓTICA E AUTOMAÇÃO INDUSTRIAL - 69B","   1109485"]
["ENGENHARIA ELÉTRICA - HABILITAÇÃO EM SISTEMAS DE POTÊNCIA - 69C","   1109486"]
["ENGENHARIA ELÉTRICA - HABILITAÇÃO EM TELECOMUNICAÇÕES - 69D","   1109488"]
["ENGENHARIA ELÉTRICA - HABILITAÇÃO EM ENERGIA - 70A","   1109475"]
["ENGENHARIA MECÂNICA - 71A","   1109489"]
["BACHARELADO INTERDISCIPLINAR EM CIÊNCIAS HUMANAS - 72A","   1120242"]
["CIÊNCIAS SOCIAIS - 72CB","    313087"]
["CIÊNCIAS SOCIAIS - 72CL","     13087"]
["TURISMO - 72D","     21589"]
["FILOSOFIA - 72EB","    313097"]
["FILOSOFIA - 72EL","     13097"]
["BACHARELADO INTERDISCIPLINAR EM CIÊNCIAS HUMANAS - 73A","   1120242"]
["CIÊNCIA DA RELIGIÃO - 73B","   1165350"]
["CIÊNCIAS SOCIAIS - 73CB","    313087"]
["CIÊNCIAS SOCIAIS - 73CL","     13087"]
["TURISMO - 73D","     21589"]
["SISTEMAS DE INFORMAÇÃO - 76A","   1128364"]
["CIÊNCIAS CONTÁBEIS - 77A","   1132074"]
["CIÊNCIAS CONTÁBEIS - 78A","   1132074"]
["FÍSICA - 81A","   1166037"]
["JORNALISMO - 84A","     27657"]
["JORNALISMO - 85A","     36356"]
["MEDICINA VETERINÁRIA - 87A","   1268972"]
["LICENCIATURA EM LETRAS - LIBRAS - 88A","   1268983"]
["LICENCIATURA EM MÚSICA - 89A","   1278855"]
["RÁDIO, TV E INTERNET - 91A","   1374873"]
["TURISMO - 92A","     21589"]
["TURISMO - 93A","     21589"]
["CIÊNCIAS BIOLÓGICAS - 01B","    313086"]
["ADMINISTRAÇÃO - 01GV","   1178684"]
["CIÊNCIAS BIOLÓGICAS - 01L","     13086"]
["CIÊNCIAS CONTÁBEIS - 02GV","   1183351"]
["CIÊNCIAS ECONÔMICAS - 03GV","   1178683"]
["DIREITO - 04A","     13089"]
["DIREITO - 04GV","   1178675"]
["CIÊNCIAS ECONÔMICAS - 05A","     13090"]
["FARMÁCIA - 05GV","   1185503"]
["FISIOTERAPIA - 06GV","   1178689"]
["FARMÁCIA - 07A","     38509"]
["MEDICINA - 07GV","   5001167"]
["FILOSOFIA - 08B","    313097"]
["NUTRIÇÃO - 08GV","   1178688"]
["FILOSOFIA - 08L","     13097"]
["ODONTOLOGIA - 09GV","   5001168"]
["GEOGRAFIA - 10B","    313099"]
["EDUCAÇÃO FÍSICA - 10GV","   1270439"]
["GEOGRAFIA - 10L","     13099"]
["HISTÓRIA - 11B","    313100"]
["HISTÓRIA - 11L","     13100"]
["HISTÓRIA - 11L","     13100"]
["LETRAS - 13B","    313101"]
["LETRAS - 13B","    313101"]
["LETRAS - 13B","    313101"]
["LETRAS - 13L","     13101"]
["LETRAS - 13L","     13101"]
["LETRAS - 13L","     13101"]
["MEDICINA - 15A","     13103"]
["ODONTOLOGIA - 16A","     13104"]
["PEDAGOGIA - 17A","     13105"]
["SERVIÇO SOCIAL - 19A","     13107"]
["FISIOTERAPIA - 20A","     13118"]
["EDUCAÇÃO FÍSICA - 21B","   5000610"]
["EDUCAÇÃO FÍSICA - 21B","    313092"]
["EDUCAÇÃO FÍSICA - 21L","     13092"]
["ENFERMAGEM - 23A","     38994"]
["ENGENHARIA CIVIL - 24A","     13094"]
["ENGENHARIA CIVIL - 24A","     13094"]
["ENGENHARIA CIVIL - 24A","     13094"]
["ENGENHARIA CIVIL - 24A","     13094"]
["ADMINISTRAÇÃO - 26A","     22451"]
["GEOGRAFIA - 27L","     13099"]
["HISTÓRIA - 28B","    313100"]
["HISTÓRIA - 28L","     13100"]
["HISTÓRIA - 28L","     13100"]
["LETRAS - 29L","     13101"]
["LETRAS - 29L","     13101"]
["PEDAGOGIA - 30A","     13105"]
["PSICOLOGIA - 32A","     13113"]
["ARQUITETURA E URBANISMO - 33A","     13114"]
["DIREITO - 34A","     21860"]
["CIÊNCIA DA COMPUTAÇÃO - 35A","     18518"]
["ADMINISTRAÇÃO - 46A","     22451"]
["ENGENHARIA DE PRODUÇÃO - 49A","     38594"]
["CIÊNCIAS ECONÔMICAS - 51A","     13090"]
["MÚSICA - MODALIDADE VIOLINO - 63E","    116490"]
["MÚSICA - MODALIDADE VIOLINO - 63E","    116494"]
["MÚSICA - MODALIDADE COMPOSIÇÃO - 63G","    116490"]
["MÚSICA - MODALIDADE COMPOSIÇÃO - 63G","   1271995"]
["NUTRIÇÃO - 64A","    116498"]
["CIÊNCIAS EXATAS - 65A","    116502"]
["ENGENHARIA COMPUTACIONAL - 65B","   1120244"]
["CIÊNCIA DA COMPUTAÇÃO - 65C","     65361"]
["ESTATÍSTICA - 65D","    113531"]
["FÍSICA - 65E","    313098"]
["FÍSICA - 65EL","     13098"]
["MATEMÁTICA - 65F","    313102"]
["MATEMÁTICA - 65FL","     13102"]
["QUÍMICA - 65GB","    313106"]
["QUÍMICA - 65GL","     13106"]
["ENGENHARIA ELÉTRICA - HABILITAÇÃO EM ENERGIA - 65H","   1109475"]
["ENGENHARIA ELÉTRICA - HABILITAÇÃO EM SISTEMAS DE POTÊNCIA - 65J","   1109486"]
["ENGENHARIA ELÉTRICA - HABILITAÇÃO EM TELECOMUNICAÇÕES - 65L","   1109488"]
["ENGENHARIA MECÂNICA - 65M","   1109489"]
["BACHARELADO INTERDISCIPLINAR EM ARTES E DESIGN - 66A","    116500"]
["BACHARELADO EM CINEMA E AUDIOVISUAL - 66B","   1153947"]
["BACHARELADO EM ARTES VISUAIS - 66C","   1153948"]
["BACHARELADO EM DESIGN - 66D","   1153949"]
["BACHARELADO EM MODA - 66E","   1153950"]
["LICENCIATURA EM ARTES VISUAIS - 66F","   1153951"]
["ENGENHARIA AMBIENTAL E SANITÁRIA - 67A","    116496"]
["SERVIÇO SOCIAL - 68A","     13107"]
["ENGENHARIA ELÉTRICA - HABILITAÇÃO EM SISTEMAS ELETRÔNICOS - 69A","   1109487"]
["ENGENHARIA ELÉTRICA - HAB. EM ROBÓTICA E AUTOMAÇÃO INDUSTRIAL - 69B","   1109485"]
["ENGENHARIA ELÉTRICA - HABILITAÇÃO EM SISTEMAS DE POTÊNCIA - 69C","   1109486"]
["ENGENHARIA ELÉTRICA - HABILITAÇÃO EM TELECOMUNICAÇÕES - 69D","   1109488"]
["ENGENHARIA ELÉTRICA - HABILITAÇÃO EM ENERGIA - 70A","   1109475"]
["ENGENHARIA MECÂNICA - 71A","   1109489"]
["BACHARELADO INTERDISCIPLINAR EM CIÊNCIAS HUMANAS - 72A","   1120242"]
["CIÊNCIA DA RELIGIÃO - 72B","   1165350"]
["CIÊNCIA DA RELIGIÃO - 72BL","   1165686"]
["TURISMO - 72D","     21589"]
["FILOSOFIA - 72EL","     13097"]
["BACHARELADO INTERDISCIPLINAR EM CIÊNCIAS HUMANAS - 73A","   1120242"]
["CIÊNCIA DA RELIGIÃO - 73B","   1165350"]
["CIÊNCIA DA RELIGIÃO - 73BL","   1165686"]
["CIÊNCIAS SOCIAIS - 73CB","    313087"]
["CIÊNCIAS SOCIAIS - 73CL","     13087"]
["TURISMO - 73D","     21589"]
["TURISMO - 73D","     21589"]
["TURISMO - 73D","     21589"]
["SISTEMAS DE INFORMAÇÃO - 76A","   1128364"]
["CIÊNCIAS CONTÁBEIS - 77A","   1132074"]
["CIÊNCIAS CONTÁBEIS - 78A","   1132074"]
["FÍSICA - 81A","   1166037"]
["MATEMÁTICA - 82A","   1166038"]
["QUÍMICA - 83A","   1166039"]
["JORNALISMO - 84A","     27657"]
["JORNALISMO - 85A","     36356"]
["MEDICINA VETERINÁRIA - 87A","   1268972"]
["LICENCIATURA EM LETRAS - LIBRAS - 88A","   1268983"]
["LICENCIATURA EM MÚSICA - 89A","   1278855"]
["LICENCIATURA EM MÚSICA - 89A","   1278855"]
["LICENCIATURA EM MÚSICA - 89A","   1278855"]
["LICENCIATURA EM MÚSICA - 89A","   1278855"]
["RÁDIO, TV E INTERNET - 91A","   1374873"]
["TURISMO - 92A","     21589"]
["ENFERMAGEM - 23A","     38994"]
["ENFERMAGEM - 23L","    338994"]

{"sheet":"C_CORR_COM_HU S_HU","index":5,"n_rows":32,"n_cols":6,"rows_kept":32,"cut":false,"hidden":false,"merged":[[31,0,31,3],[15,0,15,3],[14,0,14,3],[13,0,13,3],[21,0,21,4],[20,0,20,4],[22,0,22,3],[30,0,30,3],[29,0,29,3],[28,0,28,3],[27,0,27,3],[25,0,25,3],[26,0,26,3],[0,0,0,5],[6,0,6,4],[7,0,7,4],[24,0,24,3],[8,0,8,3],[17,0,17,3],[16,0,16,3],[9,0,9,3],[11,0,11,3],[10,0,10,3],[12,0,12,3],[23,0,23,3]]}
["CUSTO CORRENTE"]
[" ",2017,2018,2019,2020,2021]
["CUSTO CORRENTE S_HU",604855746.72000003,644483392.75,661885338.28999996,707077157.49000001,{"$f":"E18","v":733675198.40999997}]
["CUSTO CORRENTE C_HU",628553903.16999996,666190973.75,682548236.1400001,727731710.80000007,{"$f":"E32","v":754224765.39999998}]
[]
[]
["COMPONENTE"]
[" CUSTO CORRENTE SEM HU"]
["Despesas correntes do órgão Universidade, com todas as UG´s, inclusive hospitais universitários\n         \n",null,null,null,1040979871.89]
["100% das despesas correntes totais do hospital universitário",null,null,null,58713048.530000001]
["Aposentadorias e Reformas do órgão Universidade:",null,null,null,191529409.09]
["Pensões do órgão Universidade:",null,null,null,41533664.189999998]
["Sentenças Judiciais do órgão Universidade:",null,null,null,2221549.94]
["Despesas com pessoal cedido – docente do órgão Universidade",null,null,null,2440713.69]
["Despesas com pessoal cedido - técnico-administrativo do órgão Universidade",null,null,null,1714176.38]
["Despesa com afastamento País/Exterior – docente do órgão Universidade",null,null,null,8503398.3000000007]
["Despesa com afastamento País/Exterior - técnico-administrativo do órgão Universidade",null,null,null,648713.36]
["TOTAL",null,null,null,{"$f":"E9-SUM(E10:E17)","v":733675198.40999997}]
[]
[]
["COMPONENTE"]
[" CUSTO CORRENTE COM HU"]
["Despesas correntes do órgão Universidade, com todas as UG´s, inclusive hospitais universitários\n         \n",null,null,null,1040979871.89]
["65% das despesas correntes totais do hospital universitário",null,null,null,38163481.539999999]
["Aposentadorias e Reformas do órgão Universidade:",null,null,null,191529409.09]
["Pensões do órgão Universidade:",null,null,null,41533664.189999998]
["Sentenças Judiciais do órgão Universidade:",null,null,null,2221549.94]
["Despesas com pessoal cedido – docente do órgão Universidade",null,null,null,2440713.69]
["Despesas com pessoal cedido - técnico-administrativo do órgão Universidade",null,null,null,1714176.38]
["Despesa com afastamento País/Exterior – docente do órgão Universidade",null,null,null,8503398.3000000007]
["Despesa com afastamento País/Exterior - técnico-administrativo do órgão Universidade",null,null,null,648713.36]
["TOTAL",null,null,null,{"$f":"E23-SUM(E24:E31)","v":754224765.39999998}]

{"sheet":"Substituir","index":6,"n_rows":46,"n_cols":3,"rows_kept":46,"cut":false,"hidden":true,"merged":[]}
["CURSO ORIGINAL","CURSO CONVERTIDO","MÉTODO"]
["ABI - CIÊNCIAS SOCIAIS - 72C","CIÊNCIAS SOCIAIS - 72C","Integral"]
["ABI - CIÊNCIAS SOCIAIS - 73C","CIÊNCIAS SOCIAIS - 73C","Integral"]
["ABI - FILOSOFIA - 72E","FILOSOFIA - 72EB","Integral"]
["ABI - FILOSOFIA - 73E","FILOSOFIA - 73E","Integral"]
["COMUNICAÇÃO SOCIAL - 12A","JORNALISMO - 84A","Integral"]
["EDUCAÇÃO FÍSICA - 21A","EDUCAÇÃO FÍSICA - 21B","Integral"]
["EDUCAÇÃO MUSICAL ESCOLAR - 89H","89A","Parcial"]
["FÍSICA - 65EB","FÍSICA - 65E","Integral"]
["GEOGRAFIA - 27B","GEOGRAFIA - 27L","Integral"]
["LETRAS - 13BES","LETRAS - 13B","Integral"]
["LETRAS - 13BFR","LETRAS - 13B","Integral"]
["LETRAS - 13BIN","LETRAS - 13B","Integral"]
["LETRAS - ESPANHOL - 13LES","LETRAS - 13L","Integral"]
["LETRAS - FRANCÊS - 13LFR","LETRAS - 13L","Integral"]
["LETRAS - INGLÊS - 13LIN","LETRAS - 13L","Integral"]
["LETRAS - INGLÊS - 29LIN","LETRAS - 29L","Integral"]
["LETRAS - ITALIANO - 13LIT","LETRAS - 13L","Integral"]
["LETRAS - LATIM - 13LLT","LETRAS - 13L","Integral"]
["LETRAS - PORTUGUÊS - 13LPO","LETRAS - 13L","Integral"]
["LETRAS - PORTUGUÊS - 29LPO","LETRAS - 29L","Integral"]
["LETRAS - PORTUGUÊS/FRANCÊS - 13LPO/FR","LETRAS - 13L","Integral"]
["LETRAS - PORTUGUÊS/ITALIANO - 13LPO/IT","LETRAS - 13L","Integral"]
["LETRAS - PORTUGUÊS/LATIM - 13LPO/LT","LETRAS - 13L","Integral"]
["MATEMÁTICA - 65FB","MATEMÁTICA - 65F","Integral"]
["OPÇÃO 2º CICLO CIÊNCIAS EXATAS - ",null,"Parcial"]
["QUÍMICA - 65G","QUÍMICA - 65GB","Integral"]
["QUÍMICA - 65G-ABI","QUÍMICA - 65GB","Integral"]
["ARTES - 03A","EDUCAÇÃO ARTÍSTICA - 03A","Integral"]
["ARTES - 03B","EDUCAÇÃO ARTÍSTICA - 03A","Integral"]
["LICENCIATURA EM MÚSICA - PIANO - 89D","LICENCIATURA EM MÚSICA - 89A","Integral"]
["BACHARELADO EM ARTES VISUAIS - 94A","BACHARELADO EM ARTES VISUAIS - 66C","Integral"]
["BACHARELADO EM CINEMA E AUDIOVISUAL - 97A","BACHARELADO EM CINEMA E AUDIOVISUAL - 66B","Integral"]
["BACHARELADO EM DESIGN - 98A","BACHARELADO EM DESIGN - 66D","Integral"]
["BACHARELADO EM MODA - 95A","BACHARELADO EM MODA - 66E","Integral"]
["LICENCIATURA EM ARTES VISUAIS - 96A","LICENCIATURA EM ARTES VISUAIS - 66F","Integral"]
["LETRAS - 13BLT","LETRAS - 13B","Integral"]
["LETRAS - ESPANHOL - 29LES","LETRAS - 29L","Integral"]
["LETRAS - PORTUGUÊS/LÍNGUAS CLÁSSICAS - 13LPO/CL","LETRAS - 13L","Integral"]
["LICENCIATURA EM MÚSICA - CANTO - 89B","LICENCIATURA EM MÚSICA - 89A","Integral"]
["LICENCIATURA EM MÚSICA - CRAVO - 89I","LICENCIATURA EM MÚSICA - 89A","Integral"]
["LICENCIATURA EM MÚSICA - FLAUTA TRANSVERSAL - 89C","LICENCIATURA EM MÚSICA - 89A","Integral"]
["LICENCIATURA EM MÚSICA - VIOLÃO - 89E","LICENCIATURA EM MÚSICA - 89A","Integral"]
["LICENCIATURA EM MÚSICA - VIOLINO - 89F","LICENCIATURA EM MÚSICA - 89A","Integral"]
["LICENCIATURA EM MÚSICA - VIOLONCELO - 89G","LICENCIATURA EM MÚSICA - 89A","Integral"]
["QUÍMICA - 56A","QUÍMICA - 65GB","Integral"]

{"sheet":"Parametros","index":7,"n_rows":157,"n_cols":5,"rows_kept":157,"cut":false,"hidden":true,"merged":[]}
["CURSO","CÓDIGO INEP","DURAÇÃO DO CURSO","FATOR DE RETENÇÃO ","PESO DO GRUPO"]
["ABI - CIÊNCIAS BIOLÓGICAS - 01ABI",5000608,4,0.125,2]
["ABI - EDUCAÇÃO FÍSICA - 21ABI",5000610,5,6.6000000000000003E-2,1.5]
["ABI - FILOSOFIA - 08ABI",5000611,4,0.1,1]
["ABI - GEOGRAFIA - 10ABI",5000615,4,0.1,1]
["ABI - GEOGRAFIA - 27ABI",5000615,4,0.1,1]
["ABI - HISTÓRIA - 11ABI",5000616,4,0.1,1]
["ABI - HISTÓRIA - 28ABI",5000616,4,0.1,1]
["ABI - LETRAS - 13ABI",5000617,4,0.115,1]
["ABI - LETRAS - 29ABI",5000617,4,0.115,1]
["ABI - QUÍMICA - 56A",5000619,4,0.13250000000000001,1.5]
["ADMINISTRAÇÃO - 01GV",1178684,4,0.12,1]
["ADMINISTRAÇÃO - 26A",22451,4,0.12,1]
["ADMINISTRAÇÃO - 46A",22451,4,0.12,1]
["ARQUITETURA E URBANISMO - 33A",13114,4,0.12,1.5]
["EDUCAÇÃO ARTÍSTICA - 03A",38748,4,0.115,1.5]
["BACHARELADO EM ARTES VISUAIS - 66C",1153948,2,0.1,1.5]
["BACHARELADO EM CINEMA E AUDIOVISUAL - 66B",1153947,2,0.1,1.5]
["BACHARELADO EM DESIGN - 66D",1153949,2,0.1,1.5]
["BACHARELADO EM MODA - 66E",1153950,2,0.1,1.5]
["BACHARELADO INTERDISCIPLINAR EM ARTES E DESIGN - 66A",116500,3,0.1,1.5]
["BACHARELADO INTERDISCIPLINAR EM CIÊNCIAS HUMANAS - 72A",1120242,3,0.1,1]
["BACHARELADO INTERDISCIPLINAR EM CIÊNCIAS HUMANAS - 73A",1120242,3,0.1,1]
["CIÊNCIA DA COMPUTAÇÃO - 35A",18518,4,0.13250000000000001,1.5]
["CIÊNCIA DA COMPUTAÇÃO - 65AC",65361,4,0.13250000000000001,1.5]
["CIÊNCIA DA COMPUTAÇÃO - 65C",65361,2,0.13250000000000001,1.5]
["CIÊNCIA DA RELIGIÃO - 72B",1165350,2,0.1,1]
["CIÊNCIA DA RELIGIÃO - 72BL",1165686,2,0.1,1]
["CIÊNCIA DA RELIGIÃO - 73B",1165350,2,0.1,1]
["CIÊNCIA DA RELIGIÃO - 73BL",1165686,2,0.1,1]
["CIÊNCIAS BIOLÓGICAS - 01A",5000608,4,0.125,2]
["CIÊNCIAS BIOLÓGICAS - 01B",313086,4,0.125,2]
["CIÊNCIAS BIOLÓGICAS - 01L",13086,4,0.125,2]
["CIÊNCIAS CONTÁBEIS - 02GV",1183351,4,0.12,1]
["CIÊNCIAS CONTÁBEIS - 77A",1132074,4,0.12,1]
["CIÊNCIAS CONTÁBEIS - 78A",1132074,4,0.12,1]
["CIÊNCIAS ECONÔMICAS - 03GV",1178683,4,0.12,1]
["CIÊNCIAS ECONÔMICAS - 05A",13090,4,0.12,1]
["CIÊNCIAS ECONÔMICAS - 51A",13090,4,0.12,1]
["CIÊNCIAS EXATAS - 65A",116502,3,0.1,2]
["CIÊNCIAS SOCIAIS - 31B",313087,2,0.1,1]
["CIÊNCIAS SOCIAIS - 31L",13087,2,0.1,1]
["CIÊNCIAS SOCIAIS - 72C",313087,2,0.1,1]
["CIÊNCIAS SOCIAIS - 72CB",313087,2,0.1,1]
["CIÊNCIAS SOCIAIS - 72CL",13087,2,0.1,1]
["CIÊNCIAS SOCIAIS - 73C",313087,2,0.1,1]
["CIÊNCIAS SOCIAIS - 73CB",313087,2,0.1,1]
["CIÊNCIAS SOCIAIS - 73CL",13087,2,0.1,1]
["COMUNICAÇÃO SOCIAL - 12A",27657,4,0.12,1]
["DIREITO - 04A",13089,5,0.12,1]
["DIREITO - 04GV",13089,5,0.12,1]
["DIREITO - 34A",21860,5,0.12,1]
["EDUCAÇÃO FÍSICA - 10GV",1270439,5,6.6000000000000003E-2,1.5]
["EDUCAÇÃO FÍSICA - 21A",5000610,5,6.6000000000000003E-2,1.5]
["EDUCAÇÃO FÍSICA - 21B",313092,5,6.6000000000000003E-2,1.5]
["EDUCAÇÃO FÍSICA - 21L",13092,5,6.6000000000000003E-2,1.5]
["ENFERMAGEM - 23A",38994,5,6.6000000000000003E-2,1.5]
["ENFERMAGEM - 23L",338994,5,6.6000000000000003E-2,1.5]
["ENGENHARIA AMBIENTAL E SANITÁRIA - 67A",116496,5,8.2000000000000003E-2,2]
["ENGENHARIA CIVIL - 24A",13094,5,8.2000000000000003E-2,2]
["ENGENHARIA COMPUTACIONAL - 65AB",1120244,2,8.2000000000000003E-2,2]
["ENGENHARIA COMPUTACIONAL - 65B",1120244,2,8.2000000000000003E-2,2]
["ENGENHARIA DE PRODUÇÃO - 49A",38594,5,8.2000000000000003E-2,2]
["ENGENHARIA ELÉTRICA - 25A",13095,5,8.2000000000000003E-2,2]
["ENGENHARIA ELÉTRICA - 50A",49788,5,8.2000000000000003E-2,2]
["ENGENHARIA ELÉTRICA - HAB. EM ROBÓTICA E AUTOMAÇÃO INDUSTRIAL - 65AI",1109485,2,8.2000000000000003E-2,2]
["ENGENHARIA ELÉTRICA - HAB. EM ROBÓTICA E AUTOMAÇÃO INDUSTRIAL - 65I",1109485,2,8.2000000000000003E-2,2]
["ENGENHARIA ELÉTRICA - HAB. EM ROBÓTICA E AUTOMAÇÃO INDUSTRIAL - 69B",1109485,5,8.2000000000000003E-2,2]
["ENGENHARIA ELÉTRICA - HAB. EM SISTEMAS DE POTÊNCIA - 65AJ",1109486,2,8.2000000000000003E-2,2]
["ENGENHARIA ELÉTRICA - HAB. EM SISTEMAS ELETRÔNICOS - 65AK",1109487,2,8.2000000000000003E-2,2]
["ENGENHARIA ELÉTRICA - HAB. EM TELECOMUNICAÇÕES - 65AL",1109488,2,8.2000000000000003E-2,2]
["ENGENHARIA ELÉTRICA - HABILITAÇÃO EM ENERGIA - 65AH",1109475,2,8.2000000000000003E-2,2]
["ENGENHARIA ELÉTRICA - HABILITAÇÃO EM ENERGIA - 65H",1109475,2,8.2000000000000003E-2,2]
["ENGENHARIA ELÉTRICA - HABILITAÇÃO EM ENERGIA - 70A",1109475,5,8.2000000000000003E-2,2]
["ENGENHARIA ELÉTRICA - HABILITAÇÃO EM SISTEMAS DE POTÊNCIA - 65J",1109486,2,8.2000000000000003E-2,2]
["ENGENHARIA ELÉTRICA - HABILITAÇÃO EM SISTEMAS DE POTÊNCIA - 69C",1109486,5,8.2000000000000003E-2,2]
["ENGENHARIA ELÉTRICA - HABILITAÇÃO EM SISTEMAS ELETRÔNICOS - 65K",1109487,2,8.2000000000000003E-2,2]
["ENGENHARIA ELÉTRICA - HABILITAÇÃO EM SISTEMAS ELETRÔNICOS - 69A",1109487,5,8.2000000000000003E-2,2]
["ENGENHARIA ELÉTRICA - HABILITAÇÃO EM TELECOMUNICAÇÕES - 65L",1109488,2,8.2000000000000003E-2,2]
["ENGENHARIA ELÉTRICA - HABILITAÇÃO EM TELECOMUNICAÇÕES - 69D",1109488,5,8.2000000000000003E-2,2]
["ENGENHARIA MECÂNICA - 65AM",1109489,2,8.2000000000000003E-2,2]
["ENGENHARIA MECÂNICA - 65M",1109489,2,8.2000000000000003E-2,2]
["ENGENHARIA MECÂNICA - 71A",1109489,5,8.2000000000000003E-2,2]
["ESTATÍSTICA - 65AD",113531,2,0.13250000000000001,1.5]
["ESTATÍSTICA - 65D",113531,2,0.13250000000000001,1.5]
["FARMÁCIA - 05GV",1185503,5,6.6000000000000003E-2,2]
["FARMÁCIA - 07A",38509,5,6.6000000000000003E-2,2]
["FILOSOFIA - 08A",5000611,4,0.1,1]
["FILOSOFIA - 08B",313097,4,0.1,1]
["FILOSOFIA - 08L",13097,4,0.1,1]
["FILOSOFIA - 72EB",313097,2,0.1,1]
["FILOSOFIA - 72EL",13097,2,0.1,1]
["FILOSOFIA - 73E",313097,2,0.1,1]
["FILOSOFIA - 73EB",313097,2,0.1,1]
["FILOSOFIA - 73EL",13097,2,0.1,1]
["FÍSICA - 09A",5000613,4,0.13250000000000001,1.5]
["FÍSICA - 65AE",313098,2,0.13250000000000001,1.5]
["FÍSICA - 65E",313098,2,0.13250000000000001,1.5]
["FÍSICA - 65EL",13098,2,0.13250000000000001,1.5]
["FÍSICA - 81A",1166037,4,0.13250000000000001,1.5]
["FISIOTERAPIA - 06GV",1178689,5,6.6000000000000003E-2,1.5]
["FISIOTERAPIA - 20A",13118,5,6.6000000000000003E-2,1.5]
["GEOGRAFIA - 10A",5000615,4,0.1,1]
["GEOGRAFIA - 10B",313099,4,0.1,1]
["GEOGRAFIA - 10L",13099,4,0.1,1]
["GEOGRAFIA - 27A",5000615,4,0.1,1]
["GEOGRAFIA - 27L",13099,4,0.1,1]
["HISTÓRIA - 11A",5000616,4,0.1,1]
["HISTÓRIA - 11B",313100,4,0.1,1]
["HISTÓRIA - 11L",13100,4,0.1,1]
["HISTÓRIA - 28A",5000616,4,0.1,1]
["HISTÓRIA - 28B",313100,4,0.1,1]
["HISTÓRIA - 28L",13100,4,0.1,1]
["JORNALISMO - 84A",27657,4,0.12,1]
["JORNALISMO - 85A",36356,4,0.12,1]
["LETRAS - 13A",5000617,4,0.115,1]
["LETRAS - 13B",313101,4,0.115,1]
["LETRAS - 13L",13101,4,0.115,1]
["LETRAS - 29A",5000617,4,0.115,1]
["LETRAS - 29B",313101,4,0.115,1]
["LETRAS - 29L",13101,4,0.115,1]
["LICENCIATURA EM ARTES VISUAIS - 66F",1153951,2,0.1,1.5]
["LICENCIATURA EM LETRAS - LIBRAS - 88A",1268983,4,0.115,1]
["LICENCIATURA EM MÚSICA - 89A","1278855 ",4,0.115,1.5]
["MATEMÁTICA - 65AF",313102,2,0.13250000000000001,1.5]
["MATEMÁTICA - 65F",313102,2,0.13250000000000001,1.5]
["MATEMÁTICA - 65FL",13102,2,0.13250000000000001,1.5]
["MATEMÁTICA - 82A",1166038,4,0.13250000000000001,1.5]
["MEDICINA - 07GV",5001167,6,6.5000000000000002E-2,4.5]
["MEDICINA - 15A",13103,6,6.5000000000000002E-2,4.5]
["MEDICINA VETERINÁRIA - 87A",1268972,5,0.65,4.5]
["MÚSICA - CANTO - 63A",116490,4,0.115,1]
["MÚSICA - MODALIDADE COMPOSIÇÃO - 63G",1271995,4,0.115,1]
["MÚSICA - MODALIDADE FLAUTA TRANSVERSAL - 63B",116491,4,0.115,1]
["MÚSICA - MODALIDADE PIANO - 63C",116492,4,0.115,1]
["MÚSICA - MODALIDADE VIOLÃO - 63D",116493,4,0.115,1]
["MÚSICA - MODALIDADE VIOLINO - 63E",116494,4,0.115,1]
["MÚSICA - MODALIDADE VIOLONCELO - 63F",116495,4,0.115,1]
["NUTRIÇÃO - 08GV",1178688,5,0.66,2]
["NUTRIÇÃO - 64A",116498,5,6.6000000000000003E-2,2]
["ODONTOLOGIA - 09GV",5001168,5,0.65,4.5]
["ODONTOLOGIA - 16A",13104,5,6.5000000000000002E-2,4.5]
["PEDAGOGIA - 17A",13105,4,0.1,1]
["PEDAGOGIA - 30A",13105,4,0.1,1]
["PSICOLOGIA - 32A",13113,5,0.1,1]
["QUÍMICA - 65AG",5000619,4,0.13250000000000001,1.5]
["QUÍMICA - 65GB",313106,2,0.13250000000000001,1.5]
["QUÍMICA - 65GL",13106,2,0.13250000000000001,1.5]
["QUÍMICA - 83A",1166039,4,0.13250000000000001,1.5]
["RÁDIO, TV E INTERNET - 91A",1374873,4,0.12,1]
["SERVIÇO SOCIAL - 19A",13107,4,0.12,1]
["SERVIÇO SOCIAL - 68A",13107,4,0.12,1]
["SISTEMAS DE INFORMAÇÃO - 76A",1128364,4,0.13250000000000001,1.5]
["TURISMO - 72D",21589,2,0.1,1]
["TURISMO - 73D",21589,2,0.1,1]
["TURISMO - 92A",21589,4,0.12,1]
["TURISMO - 93A",21589,4,0.12,1]

{"sheet":"ALUNO_GRAD_TEMPO_INTEGRAL","index":8,"n_rows":142,"n_cols":14,"rows_kept":142,"cut":false,"hidden":false,"merged":[[135,16,135,17],[123,9,123,10],[128,9,128,11],[126,16,126,17],[112,12,112,14],[112,15,112,18],[45,12,45,13],[0,0,0,6],[1,0,1,6],[2,12,2,13],[33,9,33,15],[32,9,32,15],[31,9,31,15],[29,9,30,15],[28,9,28,15]]}
["COMPONENTE",null,null,null,null,null,null,null,null,2017,2018,2019,2020,2021]
["ALUNO GRADUAÇÃO TEMPO INTEGRAL (AGTI)",null,null,null,null,null,null,null,null,13163,14314,15858.460000000001,15230.957999999995,{"$f":"G142","v":13479.108000000002}]
["CURSO","CÓDIGO INEP","NÚMERO DE DIPLOMADOS  (NDI) ","DURAÇÃO DO CURSO  (DPC)","FATOR DE RETENÇÃO ","INGRESSANTES NO ANO (NI)","AGTI"]
["ABI - CIÊNCIAS BIOLÓGICAS - 01ABI",{"$f":"VLOOKUP(A4,Parametros!A:E,2,0)","v":5000608},{"$f":"SUMIF(Concluintes!B:B,ALUNO_GRAD_TEMPO_INTEGRAL!A4,Concluintes!F:F)","v":0},{"$f":"VLOOKUP(A4,Parametros!A:E,3,0)","v":4},{"$f":"VLOOKUP(A4,Parametros!A:E,4,0)","v":0.125},{"$f":"SUMIFS(Ingressantes!F:F,Ingressantes!C:C,ALUNO_GRAD_TEMPO_INTEGRAL!A4,Ingressantes!A:A,INÍCIO!$C$5)","v":60},{"$f":"IFERROR(SUM((C4*D4)*(1+E4)+((F4-C4)/4)*D4),0)","v":60}]
["ABI - EDUCAÇÃO FÍSICA - 21ABI",{"$f":"VLOOKUP(A5,Parametros!A:E,2,0)","v":5000610},{"$f":"SUMIF(Concluintes!B:B,ALUNO_GRAD_TEMPO_INTEGRAL!A5,Concluintes!F:F)","v":0},{"$f":"VLOOKUP(A5,Parametros!A:E,3,0)","v":5},{"$f":"VLOOKUP(A5,Parametros!A:E,4,0)","v":6.6000000000000003E-2},{"$f":"SUMIFS(Ingressantes!F:F,Ingressantes!C:C,ALUNO_GRAD_TEMPO_INTEGRAL!A5,Ingressantes!A:A,INÍCIO!$C$5)","v":99},{"$f":"IFERROR(SUM((C5*D5)*(1+E5)+((F5-C5)/4)*D5),0)","v":123.75}]
["ABI - FILOSOFIA - 08ABI",{"$f":"VLOOKUP(A6,Parametros!A:E,2,0)","v":5000611},{"$f":"SUMIF(Concluintes!B:B,ALUNO_GRAD_TEMPO_INTEGRAL!A6,Concluintes!F:F)","v":0},{"$f":"VLOOKUP(A6,Parametros!A:E,3,0)","v":4},{"$f":"VLOOKUP(A6,Parametros!A:E,4,0)","v":0.1},{"$f":"SUMIFS(Ingressantes!F:F,Ingressantes!C:C,ALUNO_GRAD_TEMPO_INTEGRAL!A6,Ingressantes!A:A,INÍCIO!$C$5)","v":30},30]
["ABI - GEOGRAFIA - 10ABI",{"$f":"VLOOKUP(A7,Parametros!A:E,2,0)","v":5000615},{"$f":"SUMIF(Concluintes!B:B,ALUNO_GRAD_TEMPO_INTEGRAL!A7,Concluintes!F:F)","v":0},{"$f":"VLOOKUP(A7,Parametros!A:E,3,0)","v":4},{"$f":"VLOOKUP(A7,Parametros!A:E,4,0)","v":0.1},{"$f":"SUMIFS(Ingressantes!F:F,Ingressantes!C:C,ALUNO_GRAD_TEMPO_INTEGRAL!A7,Ingressantes!A:A,INÍCIO!$C$5)","v":43},43]
["ABI - GEOGRAFIA - 27ABI",{"$f":"VLOOKUP(A8,Parametros!A:E,2,0)","v":5000615},{"$f":"SUMIF(Concluintes!B:B,ALUNO_GRAD_TEMPO_INTEGRAL!A8,Concluintes!F:F)","v":0},{"$f":"VLOOKUP(A8,Parametros!A:E,3,0)","v":4},{"$f":"VLOOKUP(A8,Parametros!A:E,4,0)","v":0.1},{"$f":"SUMIFS(Ingressantes!F:F,Ingressantes!C:C,ALUNO_GRAD_TEMPO_INTEGRAL!A8,Ingressantes!A:A,INÍCIO!$C$5)","v":0},0]
["ABI - HISTÓRIA - 11ABI",{"$f":"VLOOKUP(A9,Parametros!A:E,2,0)","v":5000616},{"$f":"SUMIF(Concluintes!B:B,ALUNO_GRAD_TEMPO_INTEGRAL!A9,Concluintes!F:F)","v":0},{"$f":"VLOOKUP(A9,Parametros!A:E,3,0)","v":4},{"$f":"VLOOKUP(A9,Parametros!A:E,4,0)","v":0.1},{"$f":"SUMIFS(Ingressantes!F:F,Ingressantes!C:C,ALUNO_GRAD_TEMPO_INTEGRAL!A9,Ingressantes!A:A,INÍCIO!$C$5)","v":48},48]
["ABI - HISTÓRIA - 28ABI",{"$f":"VLOOKUP(A10,Parametros!A:E,2,0)","v":5000616},{"$f":"SUMIF(Concluintes!B:B,ALUNO_GRAD_TEMPO_INTEGRAL!A10,Concluintes!F:F)","v":0},{"$f":"VLOOKUP(A10,Parametros!A:E,3,0)","v":4},{"$f":"VLOOKUP(A10,Parametros!A:E,4,0)","v":0.1},{"$f":"SUMIFS(Ingressantes!F:F,Ingressantes!C:C,ALUNO_GRAD_TEMPO_INTEGRAL!A10,Ingressantes!A:A,INÍCIO!$C$5)","v":48},48]
["ABI - LETRAS - 13ABI",{"$f":"VLOOKUP(A11,Parametros!A:E,2,0)","v":5000617},{"$f":"SUMIF(Concluintes!B:B,ALUNO_GRAD_TEMPO_INTEGRAL!A11,Concluintes!F:F)","v":0},{"$f":"VLOOKUP(A11,Parametros!A:E,3,0)","v":4},{"$f":"VLOOKUP(A11,Parametros!A:E,4,0)","v":0.115},{"$f":"SUMIFS(Ingressantes!F:F,Ingressantes!C:C,ALUNO_GRAD_TEMPO_INTEGRAL!A11,Ingressantes!A:A,INÍCIO!$C$5)","v":44},44]
["ABI - LETRAS - 29ABI",{"$f":"VLOOKUP(A12,Parametros!A:E,2,0)","v":5000617},{"$f":"SUMIF(Concluintes!B:B,ALUNO_GRAD_TEMPO_INTEGRAL!A12,Concluintes!F:F)","v":0},{"$f":"VLOOKUP(A12,Parametros!A:E,3,0)","v":4},{"$f":"VLOOKUP(A12,Parametros!A:E,4,0)","v":0.115},{"$f":"SUMIFS(Ingressantes!F:F,Ingressantes!C:C,ALUNO_GRAD_TEMPO_INTEGRAL!A12,Ingressantes!A:A,INÍCIO!$C$5)","v":1},1]
["ADMINISTRAÇÃO - 01GV",{"$f":"VLOOKUP(A13,Parametros!A:E,2,0)","v":1178684},{"$f":"SUMIF(Concluintes!B:B,ALUNO_GRAD_TEMPO_INTEGRAL!A13,Concluintes!F:F)","v":14},{"$f":"VLOOKUP(A13,Parametros!A:E,3,0)","v":4},{"$f":"VLOOKUP(A13,Parametros!A:E,4,0)","v":0.12},{"$f":"SUMIFS(Ingressantes!F:F,Ingressantes!C:C,ALUNO_GRAD_TEMPO_INTEGRAL!A13,Ingressantes!A:A,INÍCIO!$C$5)","v":73},121.72]
["ADMINISTRAÇÃO - 26A",{"$f":"VLOOKUP(A14,Parametros!A:E,2,0)","v":22451},{"$f":"SUMIF(Concluintes!B:B,ALUNO_GRAD_TEMPO_INTEGRAL!A14,Concluintes!F:F)","v":20},{"$f":"VLOOKUP(A14,Parametros!A:E,3,0)","v":4},{"$f":"VLOOKUP(A14,Parametros!A:E,4,0)","v":0.12},{"$f":"SUMIFS(Ingressantes!F:F,Ingressantes!C:C,ALUNO_GRAD_TEMPO_INTEGRAL!A14,Ingressantes!A:A,INÍCIO!$C$5)","v":43},112.60000000000001]
["ADMINISTRAÇÃO - 46A",{"$f":"VLOOKUP(A15,Parametros!A:E,2,0)","v":22451},{"$f":"SUMIF(Concluintes!B:B,ALUNO_GRAD_TEMPO_INTEGRAL!A15,Concluintes!F:F)","v":17},{"$f":"VLOOKUP(A15,Parametros!A:E,3,0)","v":4},{"$f":"VLOOKUP(A15,Parametros!A:E,4,0)","v":0.12},{"$f":"SUMIFS(Ingressantes!F:F,Ingressantes!C:C,ALUNO_GRAD_TEMPO_INTEGRAL!A15,Ingressantes!A:A,INÍCIO!$C$5)","v":41},100.16000000000001]
["ARQUITETURA E URBANISMO - 33A",{"$f":"VLOOKUP(A16,Parametros!A:E,2,0)","v":13114},{"$f":"SUMIF(Concluintes!B:B,ALUNO_GRAD_TEMPO_INTEGRAL!A16,Concluintes!F:F)","v":52},{"$f":"VLOOKUP(A16,Parametros!A:E,3,0)","v":4},{"$f":"VLOOKUP(A16,Parametros!A:E,4,0)","v":0.12},{"$f":"SUMIFS(Ingressantes!F:F,Ingressantes!C:C,ALUNO_GRAD_TEMPO_INTEGRAL!A16,Ingressantes!A:A,INÍCIO!$C$5)","v":84},264.96000000000004]
["BACHARELADO EM ARTES VISUAIS - 66C",{"$f":"VLOOKUP(A17,Parametros!A:E,2,0)","v":1153948},{"$f":"SUMIF(Concluintes!B:B,ALUNO_GRAD_TEMPO_INTEGRAL!A17,Concluintes!F:F)","v":5},{"$f":"VLOOKUP(A17,Parametros!A:E,3,0)","v":2},{"$f":"VLOOKUP(A17,Parametros!A:E,4,0)","v":0.1},{"$f":"SUMIFS(Ingressantes!F:F,Ingressantes!C:C,ALUNO_GRAD_TEMPO_INTEGRAL!A17,Ingressantes!A:A,INÍCIO!$C$5)","v":52},34.5]
["BACHARELADO EM CINEMA E AUDIOVISUAL - 66B",{"$f":"VLOOKUP(A18,Parametros!A:E,2,0)","v":1153947},{"$f":"SUMIF(Concluintes!B:B,ALUNO_GRAD_TEMPO_INTEGRAL!A18,Concluintes!F:F)","v":18},{"$f":"VLOOKUP(A18,Parametros!A:E,3,0)","v":2},{"$f":"VLOOKUP(A18,Parametros!A:E,4,0)","v":0.1},{"$f":"SUMIFS(Ingressantes!F:F,Ingressantes!C:C,ALUNO_GRAD_TEMPO_INTEGRAL!A18,Ingressantes!A:A,INÍCIO!$C$5)","v":52},56.6]
["BACHARELADO EM DESIGN - 66D",{"$f":"VLOOKUP(A19,Parametros!A:E,2,0)","v":1153949},{"$f":"SUMIF(Concluintes!B:B,ALUNO_GRAD_TEMPO_INTEGRAL!A19,Concluintes!F:F)","v":15},{"$f":"VLOOKUP(A19,Parametros!A:E,3,0)","v":2},{"$f":"VLOOKUP(A19,Parametros!A:E,4,0)","v":0.1},{"$f":"SUMIFS(Ingressantes!F:F,Ingressantes!C:C,ALUNO_GRAD_TEMPO_INTEGRAL!A19,Ingressantes!A:A,INÍCIO!$C$5)","v":49},50]
["BACHARELADO EM MODA - 66E",{"$f":"VLOOKUP(A20,Parametros!A:E,2,0)","v":1153950},{"$f":"SUMIF(Concluintes!B:B,ALUNO_GRAD_TEMPO_INTEGRAL!A20,Concluintes!F:F)","v":12},{"$f":"VLOOKUP(A20,Parametros!A:E,3,0)","v":2},{"$f":"VLOOKUP(A20,Parametros!A:E,4,0)","v":0.1},{"$f":"SUMIFS(Ingressantes!F:F,Ingressantes!C:C,ALUNO_GRAD_TEMPO_INTEGRAL!A20,Ingressantes!A:A,INÍCIO!$C$5)","v":48},44.400000000000006]
["BACHARELADO INTERDISCIPLINAR EM ARTES E DESIGN - 66A",{"$f":"VLOOKUP(A21,Parametros!A:E,2,0)","v":116500},{"$f":"SUMIF(Concluintes!B:B,ALUNO_GRAD_TEMPO_INTEGRAL!A21,Concluintes!F:F)","v":114},{"$f":"VLOOKUP(A21,Parametros!A:E,3,0)","v":3},{"$f":"VLOOKUP(A21,Parametros!A:E,4,0)","v":0.1},{"$f":"SUMIFS(Ingressantes!F:F,Ingressantes!C:C,ALUNO_GRAD_TEMPO_INTEGRAL!A21,Ingressantes!A:A,INÍCIO!$C$5)","v":0},290.70000000000005]
["BACHARELADO INTERDISCIPLINAR EM CIÊNCIAS HUMANAS - 72A",{"$f":"VLOOKUP(A22,Parametros!A:E,2,0)","v":1120242},{"$f":"SUMIF(Concluintes!B:B,ALUNO_GRAD_TEMPO_INTEGRAL!A22,Concluintes!F:F)","v":39},{"$f":"VLOOKUP(A22,Parametros!A:E,3,0)","v":3},{"$f":"VLOOKUP(A22,Parametros!A:E,4,0)","v":0.1},{"$f":"SUMIFS(Ingressantes!F:F,Ingressantes!C:C,ALUNO_GRAD_TEMPO_INTEGRAL!A22,Ingressantes!A:A,INÍCIO!$C$5)","v":157},217.20000000000002]
["BACHARELADO INTERDISCIPLINAR EM CIÊNCIAS HUMANAS - 73A",{"$f":"VLOOKUP(A23,Parametros!A:E,2,0)","v":1120242},{"$f":"SUMIF(Concluintes!B:B,ALUNO_GRAD_TEMPO_INTEGRAL!A23,Concluintes!F:F)","v":37},{"$f":"VLOOKUP(A23,Parametros!A:E,3,0)","v":3},{"$f":"VLOOKUP(A23,Parametros!A:E,4,0)","v":0.1},{"$f":"SUMIFS(Ingressantes!F:F,Ingressantes!C:C,ALUNO_GRAD_TEMPO_INTEGRAL!A23,Ingressantes!A:A,INÍCIO!$C$5)","v":151},207.60000000000002]
["CIÊNCIA DA COMPUTAÇÃO - 35A",{"$f":"VLOOKUP(A24,Parametros!A:E,2,0)","v":18518},{"$f":"SUMIF(Concluintes!B:B,ALUNO_GRAD_TEMPO_INTEGRAL!A24,Concluintes!F:F)","v":5},{"$f":"VLOOKUP(A24,Parametros!A:E,3,0)","v":4},{"$f":"VLOOKUP(A24,Parametros!A:E,4,0)","v":0.13250000000000001},{"$f":"SUMIFS(Ingressantes!F:F,Ingressantes!C:C,ALUNO_GRAD_TEMPO_INTEGRAL!A24,Ingressantes!A:A,INÍCIO!$C$5)","v":41},58.650000000000006]
["CIÊNCIA DA COMPUTAÇÃO - 65C",{"$f":"VLOOKUP(A25,Parametros!A:E,2,0)","v":65361},{"$f":"SUMIF(Concluintes!B:B,ALUNO_GRAD_TEMPO_INTEGRAL!A25,Concluintes!F:F)","v":12},{"$f":"VLOOKUP(A25,Parametros!A:E,3,0)","v":2},{"$f":"VLOOKUP(A25,Parametros!A:E,4,0)","v":0.13250000000000001},{"$f":"SUMIFS(Ingressantes!F:F,Ingressantes!C:C,ALUNO_GRAD_TEMPO_INTEGRAL!A25,Ingressantes!A:A,INÍCIO!$C$5)","v":22},32.18]
["CIÊNCIA DA RELIGIÃO - 72B",{"$f":"VLOOKUP(A26,Parametros!A:E,2,0)","v":1165350},{"$f":"SUMIF(Concluintes!B:B,ALUNO_GRAD_TEMPO_INTEGRAL!A26,Concluintes!F:F)","v":1},{"$f":"VLOOKUP(A26,Parametros!A:E,3,0)","v":2},{"$f":"VLOOKUP(A26,Parametros!A:E,4,0)","v":0.1},{"$f":"SUMIFS(Ingressantes!F:F,Ingressantes!C:C,ALUNO_GRAD_TEMPO_INTEGRAL!A26,Ingressantes!A:A,INÍCIO!$C$5)","v":0},1.7000000000000002]
["CIÊNCIA DA RELIGIÃO - 72BL",{"$f":"VLOOKUP(A27,Parametros!A:E,2,0)","v":1165686},{"$f":"SUMIF(Concluintes!B:B,ALUNO_GRAD_TEMPO_INTEGRAL!A27,Concluintes!F:F)","v":1},{"$f":"VLOOKUP(A27,Parametros!A:E,3,0)","v":2},{"$f":"VLOOKUP(A27,Parametros!A:E,4,0)","v":0.1},{"$f":"SUMIFS(Ingressantes!F:F,Ingressantes!C:C,ALUNO_GRAD_TEMPO_INTEGRAL!A27,Ingressantes!A:A,INÍCIO!$C$5)","v":0},1.7000000000000002]
["CIÊNCIA DA RELIGIÃO - 73B",{"$f":"VLOOKUP(A28,Parametros!A:E,2,0)","v":1165350},{"$f":"SUMIF(Concluintes!B:B,ALUNO_GRAD_TEMPO_INTEGRAL!A28,Concluintes!F:F)","v":5},{"$f":"VLOOKUP(A28,Parametros!A:E,3,0)","v":2},{"$f":"VLOOKUP(A28,Parametros!A:E,4,0)","v":0.1},{"$f":"SUMIFS(Ingressantes!F:F,Ingressantes!C:C,ALUNO_GRAD_TEMPO_INTEGRAL!A28,Ingressantes!A:A,INÍCIO!$C$5)","v":1},9]
["CIÊNCIA DA RELIGIÃO - 73BL",{"$f":"VLOOKUP(A29,Parametros!A:E,2,0)","v":1165686},{"$f":"SUMIF(Concluintes!B:B,ALUNO_GRAD_TEMPO_INTEGRAL!A29,Concluintes!F:F)","v":1},{"$f":"VLOOKUP(A29,Parametros!A:E,3,0)","v":2},{"$f":"VLOOKUP(A29,Parametros!A:E,4,0)","v":0.1},{"$f":"SUMIFS(Ingressantes!F:F,Ingressantes!C:C,ALUNO_GRAD_TEMPO_INTEGRAL!A29,Ingressantes!A:A,INÍCIO!$C$5)","v":0},1.7000000000000002,null,null,"FÓRMULA PARA CÁLCULO DE AGTI"]
["CIÊNCIAS BIOLÓGICAS - 01A",{"$f":"VLOOKUP(A30,Parametros!A:E,2,0)","v":5000608},{"$f":"SUMIF(Concluintes!B:B,ALUNO_GRAD_TEMPO_INTEGRAL!A30,Concluintes!F:F)","v":0},{"$f":"VLOOKUP(A30,Parametros!A:E,3,0)","v":4},{"$f":"VLOOKUP(A30,Parametros!A:E,4,0)","v":0.125},{"$f":"SUMIFS(Ingressantes!F:F,Ingressantes!C:C,ALUNO_GRAD_TEMPO_INTEGRAL!A30,Ingressantes!A:A,INÍCIO!$C$5)","v":0},0,null,null,"AGTI =  para todos os cursos   (NDI  DPC)(1+ [Fator de Retenção]) + ((NI - NDI)/4)  DPC "]
["CIÊNCIAS BIOLÓGICAS - 01B",{"$f":"VLOOKUP(A31,Parametros!A:E,2,0)","v":313086},{"$f":"SUMIF(Concluintes!B:B,ALUNO_GRAD_TEMPO_INTEGRAL!A31,Concluintes!F:F)","v":13},{"$f":"VLOOKUP(A31,Parametros!A:E,3,0)","v":4},{"$f":"VLOOKUP(A31,Parametros!A:E,4,0)","v":0.125},{"$f":"SUMIFS(Ingressantes!F:F,Ingressantes!C:C,ALUNO_GRAD_TEMPO_INTEGRAL!A31,Ingressantes!A:A,INÍCIO!$C$5)","v":1},46.5]
["CIÊNCIAS BIOLÓGICAS - 01L",{"$f":"VLOOKUP(A32,Parametros!A:E,2,0)","v":13086},{"$f":"SUMIF(Concluintes!B:B,ALUNO_GRAD_TEMPO_INTEGRAL!A32,Concluintes!F:F)","v":34},{"$f":"VLOOKUP(A32,Parametros!A:E,3,0)","v":4},{"$f":"VLOOKUP(A32,Parametros!A:E,4,0)","v":0.125},{"$f":"SUMIFS(Ingressantes!F:F,Ingressantes!C:C,ALUNO_GRAD_TEMPO_INTEGRAL!A32,Ingressantes!A:A,INÍCIO!$C$5)","v":0},119,null,null,"NDI = Número de diplomados , no ano letivo referente ao exercício, em cada curso"]
["CIÊNCIAS CONTÁBEIS - 02GV",{"$f":"VLOOKUP(A33,Parametros!A:E,2,0)","v":1183351},{"$f":"SUMIF(Concluintes!B:B,ALUNO_GRAD_TEMPO_INTEGRAL!A33,Concluintes!F:F)","v":10},{"$f":"VLOOKUP(A33,Parametros!A:E,3,0)","v":4},{"$f":"VLOOKUP(A33,Parametros!A:E,4,0)","v":0.12},{"$f":"SUMIFS(Ingressantes!F:F,Ingressantes!C:C,ALUNO_GRAD_TEMPO_INTEGRAL!A33,Ingressantes!A:A,INÍCIO!$C$5)","v":44},78.800000000000011,null,null,"DPC = Duração padrão do curso, de acordo com a tabela da SESu"]
["CIÊNCIAS CONTÁBEIS - 77A",{"$f":"VLOOKUP(A34,Parametros!A:E,2,0)","v":1132074},{"$f":"SUMIF(Concluintes!B:B,ALUNO_GRAD_TEMPO_INTEGRAL!A34,Concluintes!F:F)","v":22},{"$f":"VLOOKUP(A34,Parametros!A:E,3,0)","v":4},{"$f":"VLOOKUP(A34,Parametros!A:E,4,0)","v":0.12},{"$f":"SUMIFS(Ingressantes!F:F,Ingressantes!C:C,ALUNO_GRAD_TEMPO_INTEGRAL!A34,Ingressantes!A:A,INÍCIO!$C$5)","v":44},120.56,null,null,"NI = Número de alunos que ingressaram , no ano letivo relativo ao exercício, em cada curso"]
["CIÊNCIAS CONTÁBEIS - 78A",{"$f":"VLOOKUP(A35,Parametros!A:E,2,0)","v":1132074},{"$f":"SUMIF(Concluintes!B:B,ALUNO_GRAD_TEMPO_INTEGRAL!A35,Concluintes!F:F)","v":18},{"$f":"VLOOKUP(A35,Parametros!A:E,3,0)","v":4},{"$f":"VLOOKUP(A35,Parametros!A:E,4,0)","v":0.12},{"$f":"SUMIFS(Ingressantes!F:F,Ingressantes!C:C,ALUNO_GRAD_TEMPO_INTEGRAL!A35,Ingressantes!A:A,INÍCIO!$C$5)","v":43},105.64000000000001]
["CIÊNCIAS ECONÔMICAS - 03GV",{"$f":"VLOOKUP(A36,Parametros!A:E,2,0)","v":1178683},{"$f":"SUMIF(Concluintes!B:B,ALUNO_GRAD_TEMPO_INTEGRAL!A36,Concluintes!F:F)","v":14},{"$f":"VLOOKUP(A36,Parametros!A:E,3,0)","v":4},{"$f":"VLOOKUP(A36,Parametros!A:E,4,0)","v":0.12},{"$f":"SUMIFS(Ingressantes!F:F,Ingressantes!C:C,ALUNO_GRAD_TEMPO_INTEGRAL!A36,Ingressantes!A:A,INÍCIO!$C$5)","v":66},114.72]
["CIÊNCIAS ECONÔMICAS - 05A",{"$f":"VLOOKUP(A37,Parametros!A:E,2,0)","v":13090},{"$f":"SUMIF(Concluintes!B:B,ALUNO_GRAD_TEMPO_INTEGRAL!A37,Concluintes!F:F)","v":19},{"$f":"VLOOKUP(A37,Parametros!A:E,3,0)","v":4},{"$f":"VLOOKUP(A37,Parametros!A:E,4,0)","v":0.12},{"$f":"SUMIFS(Ingressantes!F:F,Ingressantes!C:C,ALUNO_GRAD_TEMPO_INTEGRAL!A37,Ingressantes!A:A,INÍCIO!$C$5)","v":56},122.12]
["CIÊNCIAS ECONÔMICAS - 51A",{"$f":"VLOOKUP(A38,Parametros!A:E,2,0)","v":13090},{"$f":"SUMIF(Concluintes!B:B,ALUNO_GRAD_TEMPO_INTEGRAL!A38,Concluintes!F:F)","v":27},{"$f":"VLOOKUP(A38,Parametros!A:E,3,0)","v":4},{"$f":"VLOOKUP(A38,Parametros!A:E,4,0)","v":0.12},{"$f":"SUMIFS(Ingressantes!F:F,Ingressantes!C:C,ALUNO_GRAD_TEMPO_INTEGRAL!A38,Ingressantes!A:A,INÍCIO!$C$5)","v":53},146.96]
["CIÊNCIAS EXATAS - 65A",{"$f":"VLOOKUP(A39,Parametros!A:E,2,0)","v":116502},{"$f":"SUMIF(Concluintes!B:B,ALUNO_GRAD_TEMPO_INTEGRAL!A39,Concluintes!F:F)","v":81},{"$f":"VLOOKUP(A39,Parametros!A:E,3,0)","v":3},{"$f":"VLOOKUP(A39,Parametros!A:E,4,0)","v":0.1},{"$f":"SUMIFS(Ingressantes!F:F,Ingressantes!C:C,ALUNO_GRAD_TEMPO_INTEGRAL!A39,Ingressantes!A:A,INÍCIO!$C$5)","v":253},396.3]
["CIÊNCIAS SOCIAIS - 31B",{"$f":"VLOOKUP(A40,Parametros!A:E,2,0)","v":313087},{"$f":"SUMIF(Concluintes!B:B,ALUNO_GRAD_TEMPO_INTEGRAL!A40,Concluintes!F:F)","v":0},{"$f":"VLOOKUP(A40,Parametros!A:E,3,0)","v":2},{"$f":"VLOOKUP(A40,Parametros!A:E,4,0)","v":0.1},{"$f":"SUMIFS(Ingressantes!F:F,Ingressantes!C:C,ALUNO_GRAD_TEMPO_INTEGRAL!A40,Ingressantes!A:A,INÍCIO!$C$5)","v":0},0]
["CIÊNCIAS SOCIAIS - 31L",{"$f":"VLOOKUP(A41,Parametros!A:E,2,0)","v":13087},{"$f":"SUMIF(Concluintes!B:B,ALUNO_GRAD_TEMPO_INTEGRAL!A41,Concluintes!F:F)","v":0},{"$f":"VLOOKUP(A41,Parametros!A:E,3,0)","v":2},{"$f":"VLOOKUP(A41,Parametros!A:E,4,0)","v":0.1},{"$f":"SUMIFS(Ingressantes!F:F,Ingressantes!C:C,ALUNO_GRAD_TEMPO_INTEGRAL!A41,Ingressantes!A:A,INÍCIO!$C$5)","v":0},0]
["CIÊNCIAS SOCIAIS - 72C",{"$f":"VLOOKUP(A42,Parametros!A:E,2,0)","v":313087},{"$f":"SUMIF(Concluintes!B:B,ALUNO_GRAD_TEMPO_INTEGRAL!A42,Concluintes!F:F)","v":0},{"$f":"VLOOKUP(A42,Parametros!A:E,3,0)","v":2},{"$f":"VLOOKUP(A42,Parametros!A:E,4,0)","v":0.1},{"$f":"SUMIFS(Ingressantes!F:F,Ingressantes!C:C,ALUNO_GRAD_TEMPO_INTEGRAL!A42,Ingressantes!A:A,INÍCIO!$C$5)","v":0},0]
["CIÊNCIAS SOCIAIS - 72CB",{"$f":"VLOOKUP(A43,Parametros!A:E,2,0)","v":313087},{"$f":"SUMIF(Concluintes!B:B,ALUNO_GRAD_TEMPO_INTEGRAL!A43,Concluintes!F:F)","v":1},{"$f":"VLOOKUP(A43,Parametros!A:E,3,0)","v":2},{"$f":"VLOOKUP(A43,Parametros!A:E,4,0)","v":0.1},{"$f":"SUMIFS(Ingressantes!F:F,Ingressantes!C:C,ALUNO_GRAD_TEMPO_INTEGRAL!A43,Ingressantes!A:A,INÍCIO!$C$5)","v":0},1.7000000000000002]
["CIÊNCIAS SOCIAIS - 72CL",{"$f":"VLOOKUP(A44,Parametros!A:E,2,0)","v":13087},{"$f":"SUMIF(Concluintes!B:B,ALUNO_GRAD_TEMPO_INTEGRAL!A44,Concluintes!F:F)","v":1},{"$f":"VLOOKUP(A44,Parametros!A:E,3,0)","v":2},{"$f":"VLOOKUP(A44,Parametros!A:E,4,0)","v":0.1},{"$f":"SUMIFS(Ingressantes!F:F,Ingressantes!C:C,ALUNO_GRAD_TEMPO_INTEGRAL!A44,Ingressantes!A:A,INÍCIO!$C$5)","v":0},1.7000000000000002]
["CIÊNCIAS SOCIAIS - 73C",{"$f":"VLOOKUP(A45,Parametros!A:E,2,0)","v":313087},{"$f":"SUMIF(Concluintes!B:B,ALUNO_GRAD_TEMPO_INTEGRAL!A45,Concluintes!F:F)","v":0},{"$f":"VLOOKUP(A45,Parametros!A:E,3,0)","v":2},{"$f":"VLOOKUP(A45,Parametros!A:E,4,0)","v":0.1},{"$f":"SUMIFS(Ingressantes!F:F,Ingressantes!C:C,ALUNO_GRAD_TEMPO_INTEGRAL!A45,Ingressantes!A:A,INÍCIO!$C$5)","v":0},0]
["CIÊNCIAS SOCIAIS - 73CB",{"$f":"VLOOKUP(A46,Parametros!A:E,2,0)","v":313087},{"$f":"SUMIF(Concluintes!B:B,ALUNO_GRAD_TEMPO_INTEGRAL!A46,Concluintes!F:F)","v":13},{"$f":"VLOOKUP(A46,Parametros!A:E,3,0)","v":2},{"$f":"VLOOKUP(A46,Parametros!A:E,4,0)","v":0.1},{"$f":"SUMIFS(Ingressantes!F:F,Ingressantes!C:C,ALUNO_GRAD_TEMPO_INTEGRAL!A46,Ingressantes!A:A,INÍCIO!$C$5)","v":0},22.1]
["CIÊNCIAS SOCIAIS - 73CL",{"$f":"VLOOKUP(A47,Parametros!A:E,2,0)","v":13087},{"$f":"SUMIF(Concluintes!B:B,ALUNO_GRAD_TEMPO_INTEGRAL!A47,Concluintes!F:F)","v":9},{"$f":"VLOOKUP(A47,Parametros!A:E,3,0)","v":2},{"$f":"VLOOKUP(A47,Parametros!A:E,4,0)","v":0.1},{"$f":"SUMIFS(Ingressantes!F:F,Ingressantes!C:C,ALUNO_GRAD_TEMPO_INTEGRAL!A47,Ingressantes!A:A,INÍCIO!$C$5)","v":0},15.3]
["DIREITO - 04A",{"$f":"VLOOKUP(A48,Parametros!A:E,2,0)","v":13089},{"$f":"SUMIF(Concluintes!B:B,ALUNO_GRAD_TEMPO_INTEGRAL!A48,Concluintes!F:F)","v":96},{"$f":"VLOOKUP(A48,Parametros!A:E,3,0)","v":5},{"$f":"VLOOKUP(A48,Parametros!A:E,4,0)","v":0.12},{"$f":"SUMIFS(Ingressantes!F:F,Ingressantes!C:C,ALUNO_GRAD_TEMPO_INTEGRAL!A48,Ingressantes!A:A,INÍCIO!$C$5)","v":108},552.6]
["DIREITO - 04GV",{"$f":"VLOOKUP(A49,Parametros!A:E,2,0)","v":13089},{"$f":"SUMIF(Concluintes!B:B,ALUNO_GRAD_TEMPO_INTEGRAL!A49,Concluintes!F:F)","v":88},{"$f":"VLOOKUP(A49,Parametros!A:E,3,0)","v":5},{"$f":"VLOOKUP(A49,Parametros!A:E,4,0)","v":0.12},{"$f":"SUMIFS(Ingressantes!F:F,Ingressantes!C:C,ALUNO_GRAD_TEMPO_INTEGRAL!A49,Ingressantes!A:A,INÍCIO!$C$5)","v":108},517.80000000000007]
["DIREITO - 34A",{"$f":"VLOOKUP(A50,Parametros!A:E,2,0)","v":21860},{"$f":"SUMIF(Concluintes!B:B,ALUNO_GRAD_TEMPO_INTEGRAL!A50,Concluintes!F:F)","v":82},{"$f":"VLOOKUP(A50,Parametros!A:E,3,0)","v":5},{"$f":"VLOOKUP(A50,Parametros!A:E,4,0)","v":0.12},{"$f":"SUMIFS(Ingressantes!F:F,Ingressantes!C:C,ALUNO_GRAD_TEMPO_INTEGRAL!A50,Ingressantes!A:A,INÍCIO!$C$5)","v":107},490.45000000000005]
["EDUCAÇÃO ARTÍSTICA - 03A",{"$f":"VLOOKUP(A51,Parametros!A:E,2,0)","v":38748},{"$f":"SUMIF(Concluintes!B:B,ALUNO_GRAD_TEMPO_INTEGRAL!A51,Concluintes!F:F)","v":0},{"$f":"VLOOKUP(A51,Parametros!A:E,3,0)","v":4},{"$f":"VLOOKUP(A51,Parametros!A:E,4,0)","v":0.115},{"$f":"SUMIFS(Ingressantes!F:F,Ingressantes!C:C,ALUNO_GRAD_TEMPO_INTEGRAL!A51,Ingressantes!A:A,INÍCIO!$C$5)","v":0},0]
["EDUCAÇÃO FÍSICA - 10GV",{"$f":"VLOOKUP(A52,Parametros!A:E,2,0)","v":1270439},{"$f":"SUMIF(Concluintes!B:B,ALUNO_GRAD_TEMPO_INTEGRAL!A52,Concluintes!F:F)","v":11},{"$f":"VLOOKUP(A52,Parametros!A:E,3,0)","v":5},{"$f":"VLOOKUP(A52,Parametros!A:E,4,0)","v":6.6000000000000003E-2},{"$f":"SUMIFS(Ingressantes!F:F,Ingressantes!C:C,ALUNO_GRAD_TEMPO_INTEGRAL!A52,Ingressantes!A:A,INÍCIO!$C$5)","v":66},127.38]
["EDUCAÇÃO FÍSICA - 21B",{"$f":"VLOOKUP(A53,Parametros!A:E,2,0)","v":313092},{"$f":"SUMIF(Concluintes!B:B,ALUNO_GRAD_TEMPO_INTEGRAL!A53,Concluintes!F:F)","v":26},{"$f":"VLOOKUP(A53,Parametros!A:E,3,0)","v":5},{"$f":"VLOOKUP(A53,Parametros!A:E,4,0)","v":6.6000000000000003E-2},{"$f":"SUMIFS(Ingressantes!F:F,Ingressantes!C:C,ALUNO_GRAD_TEMPO_INTEGRAL!A53,Ingressantes!A:A,INÍCIO!$C$5)","v":0},106.08000000000001]
["EDUCAÇÃO FÍSICA - 21L",{"$f":"VLOOKUP(A54,Parametros!A:E,2,0)","v":13092},{"$f":"SUMIF(Concluintes!B:B,ALUNO_GRAD_TEMPO_INTEGRAL!A54,Concluintes!F:F)","v":22},{"$f":"VLOOKUP(A54,Parametros!A:E,3,0)","v":5},{"$f":"VLOOKUP(A54,Parametros!A:E,4,0)","v":6.6000000000000003E-2},{"$f":"SUMIFS(Ingressantes!F:F,Ingressantes!C:C,ALUNO_GRAD_TEMPO_INTEGRAL!A54,Ingressantes!A:A,INÍCIO!$C$5)","v":4},94.76]
["ENFERMAGEM - 23A",{"$f":"VLOOKUP(A55,Parametros!A:E,2,0)","v":38994},{"$f":"SUMIF(Concluintes!B:B,ALUNO_GRAD_TEMPO_INTEGRAL!A55,Concluintes!F:F)","v":37},{"$f":"VLOOKUP(A55,Parametros!A:E,3,0)","v":5},{"$f":"VLOOKUP(A55,Parametros!A:E,4,0)","v":6.6000000000000003E-2},{"$f":"SUMIFS(Ingressantes!F:F,Ingressantes!C:C,ALUNO_GRAD_TEMPO_INTEGRAL!A55,Ingressantes!A:A,INÍCIO!$C$5)","v":88},260.96000000000004]
["ENFERMAGEM - 23L",{"$f":"VLOOKUP(A56,Parametros!A:E,2,0)","v":338994},{"$f":"SUMIF(Concluintes!B:B,ALUNO_GRAD_TEMPO_INTEGRAL!A56,Concluintes!F:F)","v":7},{"$f":"VLOOKUP(A56,Parametros!A:E,3,0)","v":5},{"$f":"VLOOKUP(A56,Parametros!A:E,4,0)","v":6.6000000000000003E-2},{"$f":"SUMIFS(Ingressantes!F:F,Ingressantes!C:C,ALUNO_GRAD_TEMPO_INTEGRAL!A56,Ingressantes!A:A,INÍCIO!$C$5)","v":0},28.560000000000002]
["ENGENHARIA AMBIENTAL E SANITÁRIA - 67A",{"$f":"VLOOKUP(A57,Parametros!A:E,2,0)","v":116496},{"$f":"SUMIF(Concluintes!B:B,ALUNO_GRAD_TEMPO_INTEGRAL!A57,Concluintes!F:F)","v":16},{"$f":"VLOOKUP(A57,Parametros!A:E,3,0)","v":5},{"$f":"VLOOKUP(A57,Parametros!A:E,4,0)","v":8.2000000000000003E-2},{"$f":"SUMIFS(Ingressantes!F:F,Ingressantes!C:C,ALUNO_GRAD_TEMPO_INTEGRAL!A57,Ingressantes!A:A,INÍCIO!$C$5)","v":52},131.56]
["ENGENHARIA CIVIL - 24A",{"$f":"VLOOKUP(A58,Parametros!A:E,2,0)","v":13094},{"$f":"SUMIF(Concluintes!B:B,ALUNO_GRAD_TEMPO_INTEGRAL!A58,Concluintes!F:F)","v":65},{"$f":"VLOOKUP(A58,Parametros!A:E,3,0)","v":5},{"$f":"VLOOKUP(A58,Parametros!A:E,4,0)","v":8.2000000000000003E-2},{"$f":"SUMIFS(Ingressantes!F:F,Ingressantes!C:C,ALUNO_GRAD_TEMPO_INTEGRAL!A58,Ingressantes!A:A,INÍCIO!$C$5)","v":100},395.40000000000003]
["ENGENHARIA COMPUTACIONAL - 65B",{"$f":"VLOOKUP(A59,Parametros!A:E,2,0)","v":1120244},{"$f":"SUMIF(Concluintes!B:B,ALUNO_GRAD_TEMPO_INTEGRAL!A59,Concluintes!F:F)","v":8},{"$f":"VLOOKUP(A59,Parametros!A:E,3,0)","v":2},{"$f":"VLOOKUP(A59,Parametros!A:E,4,0)","v":8.2000000000000003E-2},{"$f":"SUMIFS(Ingressantes!F:F,Ingressantes!C:C,ALUNO_GRAD_TEMPO_INTEGRAL!A59,Ingressantes!A:A,INÍCIO!$C$5)","v":19},22.812000000000001]
["ENGENHARIA DE PRODUÇÃO - 49A",{"$f":"VLOOKUP(A60,Parametros!A:E,2,0)","v":38594},{"$f":"SUMIF(Concluintes!B:B,ALUNO_GRAD_TEMPO_INTEGRAL!A60,Concluintes!F:F)","v":46},{"$f":"VLOOKUP(A60,Parametros!A:E,3,0)","v":5},{"$f":"VLOOKUP(A60,Parametros!A:E,4,0)","v":8.2000000000000003E-2},{"$f":"SUMIFS(Ingressantes!F:F,Ingressantes!C:C,ALUNO_GRAD_TEMPO_INTEGRAL!A60,Ingressantes!A:A,INÍCIO!$C$5)","v":59},265.11]
["ENGENHARIA ELÉTRICA - 25A",{"$f":"VLOOKUP(A61,Parametros!A:E,2,0)","v":13095},{"$f":"SUMIF(Concluintes!B:B,ALUNO_GRAD_TEMPO_INTEGRAL!A61,Concluintes!F:F)","v":0},{"$f":"VLOOKUP(A61,Parametros!A:E,3,0)","v":5},{"$f":"VLOOKUP(A61,Parametros!A:E,4,0)","v":8.2000000000000003E-2},{"$f":"SUMIFS(Ingressantes!F:F,Ingressantes!C:C,ALUNO_GRAD_TEMPO_INTEGRAL!A61,Ingressantes!A:A,INÍCIO!$C$5)","v":0},0]
["ENGENHARIA ELÉTRICA - 50A",{"$f":"VLOOKUP(A62,Parametros!A:E,2,0)","v":49788},{"$f":"SUMIF(Concluintes!B:B,ALUNO_GRAD_TEMPO_INTEGRAL!A62,Concluintes!F:F)","v":0},{"$f":"VLOOKUP(A62,Parametros!A:E,3,0)","v":5},{"$f":"VLOOKUP(A62,Parametros!A:E,4,0)","v":8.2000000000000003E-2},{"$f":"SUMIFS(Ingressantes!F:F,Ingressantes!C:C,ALUNO_GRAD_TEMPO_INTEGRAL!A62,Ingressantes!A:A,INÍCIO!$C$5)","v":0},0]
["ENGENHARIA ELÉTRICA - HAB. EM ROBÓTICA E AUTOMAÇÃO INDUSTRIAL - 65I",{"$f":"VLOOKUP(A63,Parametros!A:E,2,0)","v":1109485},{"$f":"SUMIF(Concluintes!B:B,ALUNO_GRAD_TEMPO_INTEGRAL!A63,Concluintes!F:F)","v":1},{"$f":"VLOOKUP(A63,Parametros!A:E,3,0)","v":2},{"$f":"VLOOKUP(A63,Parametros!A:E,4,0)","v":8.2000000000000003E-2},{"$f":"SUMIFS(Ingressantes!F:F,Ingressantes!C:C,ALUNO_GRAD_TEMPO_INTEGRAL!A63,Ingressantes!A:A,INÍCIO!$C$5)","v":0},1.6640000000000001]
["ENGENHARIA ELÉTRICA - HAB. EM ROBÓTICA E AUTOMAÇÃO INDUSTRIAL - 69B",{"$f":"VLOOKUP(A64,Parametros!A:E,2,0)","v":1109485},{"$f":"SUMIF(Concluintes!B:B,ALUNO_GRAD_TEMPO_INTEGRAL!A64,Concluintes!F:F)","v":17},{"$f":"VLOOKUP(A64,Parametros!A:E,3,0)","v":5},{"$f":"VLOOKUP(A64,Parametros!A:E,4,0)","v":8.2000000000000003E-2},{"$f":"SUMIFS(Ingressantes!F:F,Ingressantes!C:C,ALUNO_GRAD_TEMPO_INTEGRAL!A64,Ingressantes!A:A,INÍCIO!$C$5)","v":40},120.72000000000001]
["ENGENHARIA ELÉTRICA - HABILITAÇÃO EM ENERGIA - 65H",{"$f":"VLOOKUP(A65,Parametros!A:E,2,0)","v":1109475},{"$f":"SUMIF(Concluintes!B:B,ALUNO_GRAD_TEMPO_INTEGRAL!A65,Concluintes!F:F)","v":2},{"$f":"VLOOKUP(A65,Parametros!A:E,3,0)","v":2},{"$f":"VLOOKUP(A65,Parametros!A:E,4,0)","v":8.2000000000000003E-2},{"$f":"SUMIFS(Ingressantes!F:F,Ingressantes!C:C,ALUNO_GRAD_TEMPO_INTEGRAL!A65,Ingressantes!A:A,INÍCIO!$C$5)","v":0},3.3280000000000003]
["ENGENHARIA ELÉTRICA - HABILITAÇÃO EM ENERGIA - 70A",{"$f":"VLOOKUP(A66,Parametros!A:E,2,0)","v":1109475},{"$f":"SUMIF(Concluintes!B:B,ALUNO_GRAD_TEMPO_INTEGRAL!A66,Concluintes!F:F)","v":20},{"$f":"VLOOKUP(A66,Parametros!A:E,3,0)","v":5},{"$f":"VLOOKUP(A66,Parametros!A:E,4,0)","v":8.2000000000000003E-2},{"$f":"SUMIFS(Ingressantes!F:F,Ingressantes!C:C,ALUNO_GRAD_TEMPO_INTEGRAL!A66,Ingressantes!A:A,INÍCIO!$C$5)","v":45},139.44999999999999]
["ENGENHARIA ELÉTRICA - HABILITAÇÃO EM SISTEMAS DE POTÊNCIA - 65J",{"$f":"VLOOKUP(A67,Parametros!A:E,2,0)","v":1109486},{"$f":"SUMIF(Concluintes!B:B,ALUNO_GRAD_TEMPO_INTEGRAL!A67,Concluintes!F:F)","v":4},{"$f":"VLOOKUP(A67,Parametros!A:E,3,0)","v":2},{"$f":"VLOOKUP(A67,Parametros!A:E,4,0)","v":8.2000000000000003E-2},{"$f":"SUMIFS(Ingressantes!F:F,Ingressantes!C:C,ALUNO_GRAD_TEMPO_INTEGRAL!A67,Ingressantes!A:A,INÍCIO!$C$5)","v":0},6.6560000000000006]
["ENGENHARIA ELÉTRICA - HABILITAÇÃO EM SISTEMAS DE POTÊNCIA - 69C",{"$f":"VLOOKUP(A68,Parametros!A:E,2,0)","v":1109486},{"$f":"SUMIF(Concluintes!B:B,ALUNO_GRAD_TEMPO_INTEGRAL!A68,Concluintes!F:F)","v":26},{"$f":"VLOOKUP(A68,Parametros!A:E,3,0)","v":5},{"$f":"VLOOKUP(A68,Parametros!A:E,4,0)","v":8.2000000000000003E-2},{"$f":"SUMIFS(Ingressantes!F:F,Ingressantes!C:C,ALUNO_GRAD_TEMPO_INTEGRAL!A68,Ingressantes!A:A,INÍCIO!$C$5)","v":46},165.66]
["ENGENHARIA ELÉTRICA - HABILITAÇÃO EM SISTEMAS ELETRÔNICOS - 65K",{"$f":"VLOOKUP(A69,Parametros!A:E,2,0)","v":1109487},{"$f":"SUMIF(Concluintes!B:B,ALUNO_GRAD_TEMPO_INTEGRAL!A69,Concluintes!F:F)","v":2},{"$f":"VLOOKUP(A69,Parametros!A:E,3,0)","v":2},{"$f":"VLOOKUP(A69,Parametros!A:E,4,0)","v":8.2000000000000003E-2},{"$f":"SUMIFS(Ingressantes!F:F,Ingressantes!C:C,ALUNO_GRAD_TEMPO_INTEGRAL!A69,Ingressantes!A:A,INÍCIO!$C$5)","v":0},{"$f":"IFERROR(SUM((C69*D69)*(1+E69)+((F69-C69)/4)*D69),0)","v":3.3280000000000003}]
["ENGENHARIA ELÉTRICA - HABILITAÇÃO EM SISTEMAS ELETRÔNICOS - 69A",{"$f":"VLOOKUP(A70,Parametros!A:E,2,0)","v":1109487},{"$f":"SUMIF(Concluintes!B:B,ALUNO_GRAD_TEMPO_INTEGRAL!A70,Concluintes!F:F)","v":17},{"$f":"VLOOKUP(A70,Parametros!A:E,3,0)","v":5},{"$f":"VLOOKUP(A70,Parametros!A:E,4,0)","v":8.2000000000000003E-2},{"$f":"SUMIFS(Ingressantes!F:F,Ingressantes!C:C,ALUNO_GRAD_TEMPO_INTEGRAL!A70,Ingressantes!A:A,INÍCIO!$C$5)","v":38},118.22000000000001]
["ENGENHARIA ELÉTRICA - HABILITAÇÃO EM TELECOMUNICAÇÕES - 65L",{"$f":"VLOOKUP(A71,Parametros!A:E,2,0)","v":1109488},{"$f":"SUMIF(Concluintes!B:B,ALUNO_GRAD_TEMPO_INTEGRAL!A71,Concluintes!F:F)","v":1},{"$f":"VLOOKUP(A71,Parametros!A:E,3,0)","v":2},{"$f":"VLOOKUP(A71,Parametros!A:E,4,0)","v":8.2000000000000003E-2},{"$f":"SUMIFS(Ingressantes!F:F,Ingressantes!C:C,ALUNO_GRAD_TEMPO_INTEGRAL!A71,Ingressantes!A:A,INÍCIO!$C$5)","v":0},1.6640000000000001]
["ENGENHARIA ELÉTRICA - HABILITAÇÃO EM TELECOMUNICAÇÕES - 69D",{"$f":"VLOOKUP(A72,Parametros!A:E,2,0)","v":1109488},{"$f":"SUMIF(Concluintes!B:B,ALUNO_GRAD_TEMPO_INTEGRAL!A72,Concluintes!F:F)","v":12},{"$f":"VLOOKUP(A72,Parametros!A:E,3,0)","v":5},{"$f":"VLOOKUP(A72,Parametros!A:E,4,0)","v":8.2000000000000003E-2},{"$f":"SUMIFS(Ingressantes!F:F,Ingressantes!C:C,ALUNO_GRAD_TEMPO_INTEGRAL!A72,Ingressantes!A:A,INÍCIO!$C$5)","v":49},111.17]
["ENGENHARIA MECÂNICA - 65M",{"$f":"VLOOKUP(A73,Parametros!A:E,2,0)","v":1109489},{"$f":"SUMIF(Concluintes!B:B,ALUNO_GRAD_TEMPO_INTEGRAL!A73,Concluintes!F:F)","v":9},{"$f":"VLOOKUP(A73,Parametros!A:E,3,0)","v":2},{"$f":"VLOOKUP(A73,Parametros!A:E,4,0)","v":8.2000000000000003E-2},{"$f":"SUMIFS(Ingressantes!F:F,Ingressantes!C:C,ALUNO_GRAD_TEMPO_INTEGRAL!A73,Ingressantes!A:A,INÍCIO!$C$5)","v":2},15.976000000000003]
["ENGENHARIA MECÂNICA - 71A",{"$f":"VLOOKUP(A74,Parametros!A:E,2,0)","v":1109489},{"$f":"SUMIF(Concluintes!B:B,ALUNO_GRAD_TEMPO_INTEGRAL!A74,Concluintes!F:F)","v":20},{"$f":"VLOOKUP(A74,Parametros!A:E,3,0)","v":5},{"$f":"VLOOKUP(A74,Parametros!A:E,4,0)","v":8.2000000000000003E-2},{"$f":"SUMIFS(Ingressantes!F:F,Ingressantes!C:C,ALUNO_GRAD_TEMPO_INTEGRAL!A74,Ingressantes!A:A,INÍCIO!$C$5)","v":46},140.69999999999999]
["ESTATÍSTICA - 65D",{"$f":"VLOOKUP(A75,Parametros!A:E,2,0)","v":113531},{"$f":"SUMIF(Concluintes!B:B,ALUNO_GRAD_TEMPO_INTEGRAL!A75,Concluintes!F:F)","v":9},{"$f":"VLOOKUP(A75,Parametros!A:E,3,0)","v":2},{"$f":"VLOOKUP(A75,Parametros!A:E,4,0)","v":0.13250000000000001},{"$f":"SUMIFS(Ingressantes!F:F,Ingressantes!C:C,ALUNO_GRAD_TEMPO_INTEGRAL!A75,Ingressantes!A:A,INÍCIO!$C$5)","v":16},23.885000000000002]
["FARMÁCIA - 05GV",{"$f":"VLOOKUP(A76,Parametros!A:E,2,0)","v":1185503},{"$f":"SUMIF(Concluintes!B:B,ALUNO_GRAD_TEMPO_INTEGRAL!A76,Concluintes!F:F)","v":3},{"$f":"VLOOKUP(A76,Parametros!A:E,3,0)","v":5},{"$f":"VLOOKUP(A76,Parametros!A:E,4,0)","v":6.6000000000000003E-2},{"$f":"SUMIFS(Ingressantes!F:F,Ingressantes!C:C,ALUNO_GRAD_TEMPO_INTEGRAL!A76,Ingressantes!A:A,INÍCIO!$C$5)","v":80},112.24]
["FARMÁCIA - 07A",{"$f":"VLOOKUP(A77,Parametros!A:E,2,0)","v":38509},{"$f":"SUMIF(Concluintes!B:B,ALUNO_GRAD_TEMPO_INTEGRAL!A77,Concluintes!F:F)","v":28},{"$f":"VLOOKUP(A77,Parametros!A:E,3,0)","v":5},{"$f":"VLOOKUP(A77,Parametros!A:E,4,0)","v":6.6000000000000003E-2},{"$f":"SUMIFS(Ingressantes!F:F,Ingressantes!C:C,ALUNO_GRAD_TEMPO_INTEGRAL!A77,Ingressantes!A:A,INÍCIO!$C$5)","v":108},249.24]
["FILOSOFIA - 08A",{"$f":"VLOOKUP(A78,Parametros!A:E,2,0)","v":5000611},{"$f":"SUMIF(Concluintes!B:B,ALUNO_GRAD_TEMPO_INTEGRAL!A78,Concluintes!F:F)","v":0},{"$f":"VLOOKUP(A78,Parametros!A:E,3,0)","v":4},{"$f":"VLOOKUP(A78,Parametros!A:E,4,0)","v":0.1},{"$f":"SUMIFS(Ingressantes!F:F,Ingressantes!C:C,ALUNO_GRAD_TEMPO_INTEGRAL!A78,Ingressantes!A:A,INÍCIO!$C$5)","v":0},0]
["FILOSOFIA - 08B",{"$f":"VLOOKUP(A79,Parametros!A:E,2,0)","v":313097},{"$f":"SUMIF(Concluintes!B:B,ALUNO_GRAD_TEMPO_INTEGRAL!A79,Concluintes!F:F)","v":11},{"$f":"VLOOKUP(A79,Parametros!A:E,3,0)","v":4},{"$f":"VLOOKUP(A79,Parametros!A:E,4,0)","v":0.1},{"$f":"SUMIFS(Ingressantes!F:F,Ingressantes!C:C,ALUNO_GRAD_TEMPO_INTEGRAL!A79,Ingressantes!A:A,INÍCIO!$C$5)","v":3},40.400000000000006]
["FILOSOFIA - 08L",{"$f":"VLOOKUP(A80,Parametros!A:E,2,0)","v":13097},{"$f":"SUMIF(Concluintes!B:B,ALUNO_GRAD_TEMPO_INTEGRAL!A80,Concluintes!F:F)","v":7},{"$f":"VLOOKUP(A80,Parametros!A:E,3,0)","v":4},{"$f":"VLOOKUP(A80,Parametros!A:E,4,0)","v":0.1},{"$f":"SUMIFS(Ingressantes!F:F,Ingressantes!C:C,ALUNO_GRAD_TEMPO_INTEGRAL!A80,Ingressantes!A:A,INÍCIO!$C$5)","v":7},30.800000000000004]
["FILOSOFIA - 72EB",{"$f":"VLOOKUP(A81,Parametros!A:E,2,0)","v":313097},{"$f":"SUMIF(Concluintes!B:B,ALUNO_GRAD_TEMPO_INTEGRAL!A81,Concluintes!F:F)","v":1},{"$f":"VLOOKUP(A81,Parametros!A:E,3,0)","v":2},{"$f":"VLOOKUP(A81,Parametros!A:E,4,0)","v":0.1},{"$f":"SUMIFS(Ingressantes!F:F,Ingressantes!C:C,ALUNO_GRAD_TEMPO_INTEGRAL!A81,Ingressantes!A:A,INÍCIO!$C$5)","v":1},2.2000000000000002]
["FILOSOFIA - 72EL",{"$f":"VLOOKUP(A82,Parametros!A:E,2,0)","v":13097},{"$f":"SUMIF(Concluintes!B:B,ALUNO_GRAD_TEMPO_INTEGRAL!A82,Concluintes!F:F)","v":2},{"$f":"VLOOKUP(A82,Parametros!A:E,3,0)","v":2},{"$f":"VLOOKUP(A82,Parametros!A:E,4,0)","v":0.1},{"$f":"SUMIFS(Ingressantes!F:F,Ingressantes!C:C,ALUNO_GRAD_TEMPO_INTEGRAL!A82,Ingressantes!A:A,INÍCIO!$C$5)","v":0},3.4000000000000004]
["FILOSOFIA - 73E",{"$f":"VLOOKUP(A83,Parametros!A:E,2,0)","v":313097},{"$f":"SUMIF(Concluintes!B:B,ALUNO_GRAD_TEMPO_INTEGRAL!A83,Concluintes!F:F)","v":0},{"$f":"VLOOKUP(A83,Parametros!A:E,3,0)","v":2},{"$f":"VLOOKUP(A83,Parametros!A:E,4,0)","v":0.1},{"$f":"SUMIFS(Ingressantes!F:F,Ingressantes!C:C,ALUNO_GRAD_TEMPO_INTEGRAL!A83,Ingressantes!A:A,INÍCIO!$C$5)","v":0},0]
["FÍSICA - 09A",{"$f":"VLOOKUP(A84,Parametros!A:E,2,0)","v":5000613},{"$f":"SUMIF(Concluintes!B:B,ALUNO_GRAD_TEMPO_INTEGRAL!A84,Concluintes!F:F)","v":0},{"$f":"VLOOKUP(A84,Parametros!A:E,3,0)","v":4},{"$f":"VLOOKUP(A84,Parametros!A:E,4,0)","v":0.13250000000000001},{"$f":"SUMIFS(Ingressantes!F:F,Ingressantes!C:C,ALUNO_GRAD_TEMPO_INTEGRAL!A84,Ingressantes!A:A,INÍCIO!$C$5)","v":0},0]
["FÍSICA - 65E",{"$f":"VLOOKUP(A85,Parametros!A:E,2,0)","v":313098},{"$f":"SUMIF(Concluintes!B:B,ALUNO_GRAD_TEMPO_INTEGRAL!A85,Concluintes!F:F)","v":7},{"$f":"VLOOKUP(A85,Parametros!A:E,3,0)","v":2},{"$f":"VLOOKUP(A85,Parametros!A:E,4,0)","v":0.13250000000000001},{"$f":"SUMIFS(Ingressantes!F:F,Ingressantes!C:C,ALUNO_GRAD_TEMPO_INTEGRAL!A85,Ingressantes!A:A,INÍCIO!$C$5)","v":19},21.855]
["FÍSICA - 65EL",{"$f":"VLOOKUP(A86,Parametros!A:E,2,0)","v":13098},{"$f":"SUMIF(Concluintes!B:B,ALUNO_GRAD_TEMPO_INTEGRAL!A86,Concluintes!F:F)","v":1},{"$f":"VLOOKUP(A86,Parametros!A:E,3,0)","v":2},{"$f":"VLOOKUP(A86,Parametros!A:E,4,0)","v":0.13250000000000001},{"$f":"SUMIFS(Ingressantes!F:F,Ingressantes!C:C,ALUNO_GRAD_TEMPO_INTEGRAL!A86,Ingressantes!A:A,INÍCIO!$C$5)","v":0},1.7650000000000001]
["FÍSICA - 81A",{"$f":"VLOOKUP(A87,Parametros!A:E,2,0)","v":1166037},{"$f":"SUMIF(Concluintes!B:B,ALUNO_GRAD_TEMPO_INTEGRAL!A87,Concluintes!F:F)","v":4},{"$f":"VLOOKUP(A87,Parametros!A:E,3,0)","v":4},{"$f":"VLOOKUP(A87,Parametros!A:E,4,0)","v":0.13250000000000001},{"$f":"SUMIFS(Ingressantes!F:F,Ingressantes!C:C,ALUNO_GRAD_TEMPO_INTEGRAL!A87,Ingressantes!A:A,INÍCIO!$C$5)","v":18},32.120000000000005]
["FISIOTERAPIA - 06GV",{"$f":"VLOOKUP(A88,Parametros!A:E,2,0)","v":1178689},{"$f":"SUMIF(Concluintes!B:B,ALUNO_GRAD_TEMPO_INTEGRAL!A88,Concluintes!F:F)","v":15},{"$f":"VLOOKUP(A88,Parametros!A:E,3,0)","v":5},{"$f":"VLOOKUP(A88,Parametros!A:E,4,0)","v":6.6000000000000003E-2},{"$f":"SUMIFS(Ingressantes!F:F,Ingressantes!C:C,ALUNO_GRAD_TEMPO_INTEGRAL!A88,Ingressantes!A:A,INÍCIO!$C$5)","v":33},102.45]
["FISIOTERAPIA - 20A",{"$f":"VLOOKUP(A89,Parametros!A:E,2,0)","v":13118},{"$f":"SUMIF(Concluintes!B:B,ALUNO_GRAD_TEMPO_INTEGRAL!A89,Concluintes!F:F)","v":27},{"$f":"VLOOKUP(A89,Parametros!A:E,3,0)","v":5},{"$f":"VLOOKUP(A89,Parametros!A:E,4,0)","v":6.6000000000000003E-2},{"$f":"SUMIFS(Ingressantes!F:F,Ingressantes!C:C,ALUNO_GRAD_TEMPO_INTEGRAL!A89,Ingressantes!A:A,INÍCIO!$C$5)","v":50},172.66]
["GEOGRAFIA - 10B",{"$f":"VLOOKUP(A90,Parametros!A:E,2,0)","v":313099},{"$f":"SUMIF(Concluintes!B:B,ALUNO_GRAD_TEMPO_INTEGRAL!A90,Concluintes!F:F)","v":13},{"$f":"VLOOKUP(A90,Parametros!A:E,3,0)","v":4},{"$f":"VLOOKUP(A90,Parametros!A:E,4,0)","v":0.1},{"$f":"SUMIFS(Ingressantes!F:F,Ingressantes!C:C,ALUNO_GRAD_TEMPO_INTEGRAL!A90,Ingressantes!A:A,INÍCIO!$C$5)","v":1},45.2]
["GEOGRAFIA - 10L",{"$f":"VLOOKUP(A91,Parametros!A:E,2,0)","v":13099},{"$f":"SUMIF(Concluintes!B:B,ALUNO_GRAD_TEMPO_INTEGRAL!A91,Concluintes!F:F)","v":19},{"$f":"VLOOKUP(A91,Parametros!A:E,3,0)","v":4},{"$f":"VLOOKUP(A91,Parametros!A:E,4,0)","v":0.1},{"$f":"SUMIFS(Ingressantes!F:F,Ingressantes!C:C,ALUNO_GRAD_TEMPO_INTEGRAL!A91,Ingressantes!A:A,INÍCIO!$C$5)","v":0},64.600000000000009]
["GEOGRAFIA - 27A",{"$f":"VLOOKUP(A92,Parametros!A:E,2,0)","v":5000615},{"$f":"SUMIF(Concluintes!B:B,ALUNO_GRAD_TEMPO_INTEGRAL!A92,Concluintes!F:F)","v":0},{"$f":"VLOOKUP(A92,Parametros!A:E,3,0)","v":4},{"$f":"VLOOKUP(A92,Parametros!A:E,4,0)","v":0.1},{"$f":"SUMIFS(Ingressantes!F:F,Ingressantes!C:C,ALUNO_GRAD_TEMPO_INTEGRAL!A92,Ingressantes!A:A,INÍCIO!$C$5)","v":0},0]
["GEOGRAFIA - 27L",{"$f":"VLOOKUP(A93,Parametros!A:E,2,0)","v":13099},{"$f":"SUMIF(Concluintes!B:B,ALUNO_GRAD_TEMPO_INTEGRAL!A93,Concluintes!F:F)","v":19},{"$f":"VLOOKUP(A93,Parametros!A:E,3,0)","v":4},{"$f":"VLOOKUP(A93,Parametros!A:E,4,0)","v":0.1},{"$f":"SUMIFS(Ingressantes!F:F,Ingressantes!C:C,ALUNO_GRAD_TEMPO_INTEGRAL!A93,Ingressantes!A:A,INÍCIO!$C$5)","v":44},108.60000000000001]
["HISTÓRIA - 11A",{"$f":"VLOOKUP(A94,Parametros!A:E,2,0)","v":5000616},{"$f":"SUMIF(Concluintes!B:B,ALUNO_GRAD_TEMPO_INTEGRAL!A94,Concluintes!F:F)","v":0},{"$f":"VLOOKUP(A94,Parametros!A:E,3,0)","v":4},{"$f":"VLOOKUP(A94,Parametros!A:E,4,0)","v":0.1},{"$f":"SUMIFS(Ingressantes!F:F,Ingressantes!C:C,ALUNO_GRAD_TEMPO_INTEGRAL!A94,Ingressantes!A:A,INÍCIO!$C$5)","v":0},0]
["HISTÓRIA - 11B",{"$f":"VLOOKUP(A95,Parametros!A:E,2,0)","v":313100},{"$f":"SUMIF(Concluintes!B:B,ALUNO_GRAD_TEMPO_INTEGRAL!A95,Concluintes!F:F)","v":5},{"$f":"VLOOKUP(A95,Parametros!A:E,3,0)","v":4},{"$f":"VLOOKUP(A95,Parametros!A:E,4,0)","v":0.1},{"$f":"SUMIFS(Ingressantes!F:F,Ingressantes!C:C,ALUNO_GRAD_TEMPO_INTEGRAL!A95,Ingressantes!A:A,INÍCIO!$C$5)","v":0},17]
["HISTÓRIA - 11L",{"$f":"VLOOKUP(A96,Parametros!A:E,2,0)","v":13100},{"$f":"SUMIF(Concluintes!B:B,ALUNO_GRAD_TEMPO_INTEGRAL!A96,Concluintes!F:F)","v":32},{"$f":"VLOOKUP(A96,Parametros!A:E,3,0)","v":4},{"$f":"VLOOKUP(A96,Parametros!A:E,4,0)","v":0.1},{"$f":"SUMIFS(Ingressantes!F:F,Ingressantes!C:C,ALUNO_GRAD_TEMPO_INTEGRAL!A96,Ingressantes!A:A,INÍCIO!$C$5)","v":0},108.80000000000001]
["HISTÓRIA - 28A",{"$f":"VLOOKUP(A97,Parametros!A:E,2,0)","v":5000616},{"$f":"SUMIF(Concluintes!B:B,ALUNO_GRAD_TEMPO_INTEGRAL!A97,Concluintes!F:F)","v":0},{"$f":"VLOOKUP(A97,Parametros!A:E,3,0)","v":4},{"$f":"VLOOKUP(A97,Parametros!A:E,4,0)","v":0.1},{"$f":"SUMIFS(Ingressantes!F:F,Ingressantes!C:C,ALUNO_GRAD_TEMPO_INTEGRAL!A97,Ingressantes!A:A,INÍCIO!$C$5)","v":0},0]
["HISTÓRIA - 28B",{"$f":"VLOOKUP(A98,Parametros!A:E,2,0)","v":313100},{"$f":"SUMIF(Concluintes!B:B,ALUNO_GRAD_TEMPO_INTEGRAL!A98,Concluintes!F:F)","v":4},{"$f":"VLOOKUP(A98,Parametros!A:E,3,0)","v":4},{"$f":"VLOOKUP(A98,Parametros!A:E,4,0)","v":0.1},{"$f":"SUMIFS(Ingressantes!F:F,Ingressantes!C:C,ALUNO_GRAD_TEMPO_INTEGRAL!A98,Ingressantes!A:A,INÍCIO!$C$5)","v":0},13.600000000000001]
["HISTÓRIA - 28L",{"$f":"VLOOKUP(A99,Parametros!A:E,2,0)","v":13100},{"$f":"SUMIF(Concluintes!B:B,ALUNO_GRAD_TEMPO_INTEGRAL!A99,Concluintes!F:F)","v":22},{"$f":"VLOOKUP(A99,Parametros!A:E,3,0)","v":4},{"$f":"VLOOKUP(A99,Parametros!A:E,4,0)","v":0.1},{"$f":"SUMIFS(Ingressantes!F:F,Ingressantes!C:C,ALUNO_GRAD_TEMPO_INTEGRAL!A99,Ingressantes!A:A,INÍCIO!$C$5)","v":0},74.800000000000011]
["JORNALISMO - 84A",{"$f":"VLOOKUP(A100,Parametros!A:E,2,0)","v":27657},{"$f":"SUMIF(Concluintes!B:B,ALUNO_GRAD_TEMPO_INTEGRAL!A100,Concluintes!F:F)","v":11},{"$f":"VLOOKUP(A100,Parametros!A:E,3,0)","v":4},{"$f":"VLOOKUP(A100,Parametros!A:E,4,0)","v":0.12},{"$f":"SUMIFS(Ingressantes!F:F,Ingressantes!C:C,ALUNO_GRAD_TEMPO_INTEGRAL!A100,Ingressantes!A:A,INÍCIO!$C$5)","v":42},80.28]
["JORNALISMO - 85A",{"$f":"VLOOKUP(A101,Parametros!A:E,2,0)","v":36356},{"$f":"SUMIF(Concluintes!B:B,ALUNO_GRAD_TEMPO_INTEGRAL!A101,Concluintes!F:F)","v":12},{"$f":"VLOOKUP(A101,Parametros!A:E,3,0)","v":4},{"$f":"VLOOKUP(A101,Parametros!A:E,4,0)","v":0.12},{"$f":"SUMIFS(Ingressantes!F:F,Ingressantes!C:C,ALUNO_GRAD_TEMPO_INTEGRAL!A101,Ingressantes!A:A,INÍCIO!$C$5)","v":36},77.760000000000005]
["LETRAS - 13A",{"$f":"VLOOKUP(A102,Parametros!A:E,2,0)","v":5000617},{"$f":"SUMIF(Concluintes!B:B,ALUNO_GRAD_TEMPO_INTEGRAL!A102,Concluintes!F:F)","v":0},{"$f":"VLOOKUP(A102,Parametros!A:E,3,0)","v":4},{"$f":"VLOOKUP(A102,Parametros!A:E,4,0)","v":0.115},{"$f":"SUMIFS(Ingressantes!F:F,Ingressantes!C:C,ALUNO_GRAD_TEMPO_INTEGRAL!A102,Ingressantes!A:A,INÍCIO!$C$5)","v":0},0]
["LETRAS - 13B",{"$f":"VLOOKUP(A103,Parametros!A:E,2,0)","v":313101},{"$f":"SUMIF(Concluintes!B:B,ALUNO_GRAD_TEMPO_INTEGRAL!A103,Concluintes!F:F)","v":7},{"$f":"VLOOKUP(A103,Parametros!A:E,3,0)","v":4},{"$f":"VLOOKUP(A103,Parametros!A:E,4,0)","v":0.115},{"$f":"SUMIFS(Ingressantes!F:F,Ingressantes!C:C,ALUNO_GRAD_TEMPO_INTEGRAL!A103,Ingressantes!A:A,INÍCIO!$C$5)","v":10},34.22]
["LETRAS - 13L",{"$f":"VLOOKUP(A104,Parametros!A:E,2,0)","v":13101},{"$f":"SUMIF(Concluintes!B:B,ALUNO_GRAD_TEMPO_INTEGRAL!A104,Concluintes!F:F)","v":36},{"$f":"VLOOKUP(A104,Parametros!A:E,3,0)","v":4},{"$f":"VLOOKUP(A104,Parametros!A:E,4,0)","v":0.115},{"$f":"SUMIFS(Ingressantes!F:F,Ingressantes!C:C,ALUNO_GRAD_TEMPO_INTEGRAL!A104,Ingressantes!A:A,INÍCIO!$C$5)","v":12},136.56]
["LETRAS - 29A",{"$f":"VLOOKUP(A105,Parametros!A:E,2,0)","v":5000617},{"$f":"SUMIF(Concluintes!B:B,ALUNO_GRAD_TEMPO_INTEGRAL!A105,Concluintes!F:F)","v":0},{"$f":"VLOOKUP(A105,Parametros!A:E,3,0)","v":4},{"$f":"VLOOKUP(A105,Parametros!A:E,4,0)","v":0.115},{"$f":"SUMIFS(Ingressantes!F:F,Ingressantes!C:C,ALUNO_GRAD_TEMPO_INTEGRAL!A105,Ingressantes!A:A,INÍCIO!$C$5)","v":0},0]
["LETRAS - 29B",{"$f":"VLOOKUP(A106,Parametros!A:E,2,0)","v":313101},{"$f":"SUMIF(Concluintes!B:B,ALUNO_GRAD_TEMPO_INTEGRAL!A106,Concluintes!F:F)","v":0},{"$f":"VLOOKUP(A106,Parametros!A:E,3,0)","v":4},{"$f":"VLOOKUP(A106,Parametros!A:E,4,0)","v":0.115},{"$f":"SUMIFS(Ingressantes!F:F,Ingressantes!C:C,ALUNO_GRAD_TEMPO_INTEGRAL!A106,Ingressantes!A:A,INÍCIO!$C$5)","v":0},0]
["LETRAS - 29L",{"$f":"VLOOKUP(A107,Parametros!A:E,2,0)","v":13101},{"$f":"SUMIF(Concluintes!B:B,ALUNO_GRAD_TEMPO_INTEGRAL!A107,Concluintes!F:F)","v":20},{"$f":"VLOOKUP(A107,Parametros!A:E,3,0)","v":4},{"$f":"VLOOKUP(A107,Parametros!A:E,4,0)","v":0.115},{"$f":"SUMIFS(Ingressantes!F:F,Ingressantes!C:C,ALUNO_GRAD_TEMPO_INTEGRAL!A107,Ingressantes!A:A,INÍCIO!$C$5)","v":51},120.2]
["LICENCIATURA EM ARTES VISUAIS - 66F",{"$f":"VLOOKUP(A108,Parametros!A:E,2,0)","v":1153951},{"$f":"SUMIF(Concluintes!B:B,ALUNO_GRAD_TEMPO_INTEGRAL!A108,Concluintes!F:F)","v":16},{"$f":"VLOOKUP(A108,Parametros!A:E,3,0)","v":2},{"$f":"VLOOKUP(A108,Parametros!A:E,4,0)","v":0.1},{"$f":"SUMIFS(Ingressantes!F:F,Ingressantes!C:C,ALUNO_GRAD_TEMPO_INTEGRAL!A108,Ingressantes!A:A,INÍCIO!$C$5)","v":52},53.2]
["LICENCIATURA EM LETRAS - LIBRAS - 88A",{"$f":"VLOOKUP(A109,Parametros!A:E,2,0)","v":1268983},{"$f":"SUMIF(Concluintes!B:B,ALUNO_GRAD_TEMPO_INTEGRAL!A109,Concluintes!F:F)","v":11},{"$f":"VLOOKUP(A109,Parametros!A:E,3,0)","v":4},{"$f":"VLOOKUP(A109,Parametros!A:E,4,0)","v":0.115},{"$f":"SUMIFS(Ingressantes!F:F,Ingressantes!C:C,ALUNO_GRAD_TEMPO_INTEGRAL!A109,Ingressantes!A:A,INÍCIO!$C$5)","v":23},61.06]
["LICENCIATURA EM MÚSICA - 89A",{"$f":"VLOOKUP(A110,Parametros!A:E,2,0)","v":"1278855 "},{"$f":"SUMIF(Concluintes!B:B,ALUNO_GRAD_TEMPO_INTEGRAL!A110,Concluintes!F:F)","v":9},{"$f":"VLOOKUP(A110,Parametros!A:E,3,0)","v":4},{"$f":"VLOOKUP(A110,Parametros!A:E,4,0)","v":0.115},{"$f":"SUMIFS(Ingressantes!F:F,Ingressantes!C:C,ALUNO_GRAD_TEMPO_INTEGRAL!A110,Ingressantes!A:A,INÍCIO!$C$5)","v":10},41.14]
["MATEMÁTICA - 65F",{"$f":"VLOOKUP(A111,Parametros!A:E,2,0)","v":313102},{"$f":"SUMIF(Concluintes!B:B,ALUNO_GRAD_TEMPO_INTEGRAL!A111,Concluintes!F:F)","v":2},{"$f":"VLOOKUP(A111,Parametros!A:E,3,0)","v":2},{"$f":"VLOOKUP(A111,Parametros!A:E,4,0)","v":0.13250000000000001},{"$f":"SUMIFS(Ingressantes!F:F,Ingressantes!C:C,ALUNO_GRAD_TEMPO_INTEGRAL!A111,Ingressantes!A:A,INÍCIO!$C$5)","v":23},15.030000000000001]
["MATEMÁTICA - 65FL",{"$f":"VLOOKUP(A112,Parametros!A:E,2,0)","v":13102},{"$f":"SUMIF(Concluintes!B:B,ALUNO_GRAD_TEMPO_INTEGRAL!A112,Concluintes!F:F)","v":3},{"$f":"VLOOKUP(A112,Parametros!A:E,3,0)","v":2},{"$f":"VLOOKUP(A112,Parametros!A:E,4,0)","v":0.13250000000000001},{"$f":"SUMIFS(Ingressantes!F:F,Ingressantes!C:C,ALUNO_GRAD_TEMPO_INTEGRAL!A112,Ingressantes!A:A,INÍCIO!$C$5)","v":2},6.2949999999999999]
["MATEMÁTICA - 82A",{"$f":"VLOOKUP(A113,Parametros!A:E,2,0)","v":1166038},{"$f":"SUMIF(Concluintes!B:B,ALUNO_GRAD_TEMPO_INTEGRAL!A113,Concluintes!F:F)","v":6},{"$f":"VLOOKUP(A113,Parametros!A:E,3,0)","v":4},{"$f":"VLOOKUP(A113,Parametros!A:E,4,0)","v":0.13250000000000001},{"$f":"SUMIFS(Ingressantes!F:F,Ingressantes!C:C,ALUNO_GRAD_TEMPO_INTEGRAL!A113,Ingressantes!A:A,INÍCIO!$C$5)","v":18},39.18]
["MEDICINA - 07GV",{"$f":"VLOOKUP(A114,Parametros!A:E,2,0)","v":5001167},{"$f":"SUMIF(Concluintes!B:B,ALUNO_GRAD_TEMPO_INTEGRAL!A114,Concluintes!F:F)","v":71},{"$f":"VLOOKUP(A114,Parametros!A:E,3,0)","v":6},{"$f":"VLOOKUP(A114,Parametros!A:E,4,0)","v":6.5000000000000002E-2},{"$f":"SUMIFS(Ingressantes!F:F,Ingressantes!C:C,ALUNO_GRAD_TEMPO_INTEGRAL!A114,Ingressantes!A:A,INÍCIO!$C$5)","v":105},504.69]
["MEDICINA - 15A",{"$f":"VLOOKUP(A115,Parametros!A:E,2,0)","v":13103},{"$f":"SUMIF(Concluintes!B:B,ALUNO_GRAD_TEMPO_INTEGRAL!A115,Concluintes!F:F)","v":149},{"$f":"VLOOKUP(A115,Parametros!A:E,3,0)","v":6},{"$f":"VLOOKUP(A115,Parametros!A:E,4,0)","v":6.5000000000000002E-2},{"$f":"SUMIFS(Ingressantes!F:F,Ingressantes!C:C,ALUNO_GRAD_TEMPO_INTEGRAL!A115,Ingressantes!A:A,INÍCIO!$C$5)","v":192},1016.6099999999999]
["MEDICINA VETERINÁRIA - 87A",{"$f":"VLOOKUP(A116,Parametros!A:E,2,0)","v":1268972},{"$f":"SUMIF(Concluintes!B:B,ALUNO_GRAD_TEMPO_INTEGRAL!A116,Concluintes!F:F)","v":33},{"$f":"VLOOKUP(A116,Parametros!A:E,3,0)","v":5},{"$f":"VLOOKUP(A116,Parametros!A:E,4,0)","v":0.65},{"$f":"SUMIFS(Ingressantes!F:F,Ingressantes!C:C,ALUNO_GRAD_TEMPO_INTEGRAL!A116,Ingressantes!A:A,INÍCIO!$C$5)","v":113},372.25]
["MÚSICA - CANTO - 63A",{"$f":"VLOOKUP(A117,Parametros!A:E,2,0)","v":116490},{"$f":"SUMIF(Concluintes!B:B,ALUNO_GRAD_TEMPO_INTEGRAL!A117,Concluintes!F:F)","v":2},{"$f":"VLOOKUP(A117,Parametros!A:E,3,0)","v":4},{"$f":"VLOOKUP(A117,Parametros!A:E,4,0)","v":0.115},{"$f":"SUMIFS(Ingressantes!F:F,Ingressantes!C:C,ALUNO_GRAD_TEMPO_INTEGRAL!A117,Ingressantes!A:A,INÍCIO!$C$5)","v":0},6.92]
["MÚSICA - MODALIDADE COMPOSIÇÃO - 63G",{"$f":"VLOOKUP(A118,Parametros!A:E,2,0)","v":1271995},{"$f":"SUMIF(Concluintes!B:B,ALUNO_GRAD_TEMPO_INTEGRAL!A118,Concluintes!F:F)","v":4},{"$f":"VLOOKUP(A118,Parametros!A:E,3,0)","v":4},{"$f":"VLOOKUP(A118,Parametros!A:E,4,0)","v":0.115},{"$f":"SUMIFS(Ingressantes!F:F,Ingressantes!C:C,ALUNO_GRAD_TEMPO_INTEGRAL!A118,Ingressantes!A:A,INÍCIO!$C$5)","v":14},27.84]
["MÚSICA - MODALIDADE FLAUTA TRANSVERSAL - 63B",{"$f":"VLOOKUP(A119,Parametros!A:E,2,0)","v":116491},{"$f":"SUMIF(Concluintes!B:B,ALUNO_GRAD_TEMPO_INTEGRAL!A119,Concluintes!F:F)","v":2},{"$f":"VLOOKUP(A119,Parametros!A:E,3,0)","v":4},{"$f":"VLOOKUP(A119,Parametros!A:E,4,0)","v":0.115},{"$f":"SUMIFS(Ingressantes!F:F,Ingressantes!C:C,ALUNO_GRAD_TEMPO_INTEGRAL!A119,Ingressantes!A:A,INÍCIO!$C$5)","v":4},10.92]
["MÚSICA - MODALIDADE PIANO - 63C",{"$f":"VLOOKUP(A120,Parametros!A:E,2,0)","v":116492},{"$f":"SUMIF(Concluintes!B:B,ALUNO_GRAD_TEMPO_INTEGRAL!A120,Concluintes!F:F)","v":0},{"$f":"VLOOKUP(A120,Parametros!A:E,3,0)","v":4},{"$f":"VLOOKUP(A120,Parametros!A:E,4,0)","v":0.115},{"$f":"SUMIFS(Ingressantes!F:F,Ingressantes!C:C,ALUNO_GRAD_TEMPO_INTEGRAL!A120,Ingressantes!A:A,INÍCIO!$C$5)","v":2},2]
["MÚSICA - MODALIDADE VIOLÃO - 63D",{"$f":"VLOOKUP(A121,Parametros!A:E,2,0)","v":116493},{"$f":"SUMIF(Concluintes!B:B,ALUNO_GRAD_TEMPO_INTEGRAL!A121,Concluintes!F:F)","v":2},{"$f":"VLOOKUP(A121,Parametros!A:E,3,0)","v":4},{"$f":"VLOOKUP(A121,Parametros!A:E,4,0)","v":0.115},{"$f":"SUMIFS(Ingressantes!F:F,Ingressantes!C:C,ALUNO_GRAD_TEMPO_INTEGRAL!A121,Ingressantes!A:A,INÍCIO!$C$5)","v":4},10.92]
["MÚSICA - MODALIDADE VIOLINO - 63E",{"$f":"VLOOKUP(A122,Parametros!A:E,2,0)","v":116494},{"$f":"SUMIF(Concluintes!B:B,ALUNO_GRAD_TEMPO_INTEGRAL!A122,Concluintes!F:F)","v":2},{"$f":"VLOOKUP(A122,Parametros!A:E,3,0)","v":4},{"$f":"VLOOKUP(A122,Parametros!A:E,4,0)","v":0.115},{"$f":"SUMIFS(Ingressantes!F:F,Ingressantes!C:C,ALUNO_GRAD_TEMPO_INTEGRAL!A122,Ingressantes!A:A,INÍCIO!$C$5)","v":0},6.92]
["MÚSICA - MODALIDADE VIOLONCELO - 63F",{"$f":"VLOOKUP(A123,Parametros!A:E,2,0)","v":116495},{"$f":"SUMIF(Concluintes!B:B,ALUNO_GRAD_TEMPO_INTEGRAL!A123,Concluintes!F:F)","v":0},{"$f":"VLOOKUP(A123,Parametros!A:E,3,0)","v":4},{"$f":"VLOOKUP(A123,Parametros!A:E,4,0)","v":0.115},{"$f":"SUMIFS(Ingressantes!F:F,Ingressantes!C:C,ALUNO_GRAD_TEMPO_INTEGRAL!A123,Ingressantes!A:A,INÍCIO!$C$5)","v":0},0]
["NUTRIÇÃO - 08GV",{"$f":"VLOOKUP(A124,Parametros!A:E,2,0)","v":1178688},{"$f":"SUMIF(Concluintes!B:B,ALUNO_GRAD_TEMPO_INTEGRAL!A124,Concluintes!F:F)","v":17},{"$f":"VLOOKUP(A124,Parametros!A:E,3,0)","v":5},{"$f":"VLOOKUP(A124,Parametros!A:E,4,0)","v":0.66},{"$f":"SUMIFS(Ingressantes!F:F,Ingressantes!C:C,ALUNO_GRAD_TEMPO_INTEGRAL!A124,Ingressantes!A:A,INÍCIO!$C$5)","v":76},214.85000000000002]
["NUTRIÇÃO - 64A",{"$f":"VLOOKUP(A125,Parametros!A:E,2,0)","v":116498},{"$f":"SUMIF(Concluintes!B:B,ALUNO_GRAD_TEMPO_INTEGRAL!A125,Concluintes!F:F)","v":78},{"$f":"VLOOKUP(A125,Parametros!A:E,3,0)","v":5},{"$f":"VLOOKUP(A125,Parametros!A:E,4,0)","v":6.6000000000000003E-2},{"$f":"SUMIFS(Ingressantes!F:F,Ingressantes!C:C,ALUNO_GRAD_TEMPO_INTEGRAL!A125,Ingressantes!A:A,INÍCIO!$C$5)","v":106},450.74]
["ODONTOLOGIA - 09GV",{"$f":"VLOOKUP(A126,Parametros!A:E,2,0)","v":5001168},{"$f":"SUMIF(Concluintes!B:B,ALUNO_GRAD_TEMPO_INTEGRAL!A126,Concluintes!F:F)","v":53},{"$f":"VLOOKUP(A126,Parametros!A:E,3,0)","v":5},{"$f":"VLOOKUP(A126,Parametros!A:E,4,0)","v":0.65},{"$f":"SUMIFS(Ingressantes!F:F,Ingressantes!C:C,ALUNO_GRAD_TEMPO_INTEGRAL!A126,Ingressantes!A:A,INÍCIO!$C$5)","v":88},481]
["ODONTOLOGIA - 16A",{"$f":"VLOOKUP(A127,Parametros!A:E,2,0)","v":13104},{"$f":"SUMIF(Concluintes!B:B,ALUNO_GRAD_TEMPO_INTEGRAL!A127,Concluintes!F:F)","v":69},{"$f":"VLOOKUP(A127,Parametros!A:E,3,0)","v":5},{"$f":"VLOOKUP(A127,Parametros!A:E,4,0)","v":6.5000000000000002E-2},{"$f":"SUMIFS(Ingressantes!F:F,Ingressantes!C:C,ALUNO_GRAD_TEMPO_INTEGRAL!A127,Ingressantes!A:A,INÍCIO!$C$5)","v":107},414.92499999999995]
["PEDAGOGIA - 17A",{"$f":"VLOOKUP(A128,Parametros!A:E,2,0)","v":13105},{"$f":"SUMIF(Concluintes!B:B,ALUNO_GRAD_TEMPO_INTEGRAL!A128,Concluintes!F:F)","v":28},{"$f":"VLOOKUP(A128,Parametros!A:E,3,0)","v":4},{"$f":"VLOOKUP(A128,Parametros!A:E,4,0)","v":0.1},{"$f":"SUMIFS(Ingressantes!F:F,Ingressantes!C:C,ALUNO_GRAD_TEMPO_INTEGRAL!A128,Ingressantes!A:A,INÍCIO!$C$5)","v":41},136.20000000000002]
["PEDAGOGIA - 30A",{"$f":"VLOOKUP(A129,Parametros!A:E,2,0)","v":13105},{"$f":"SUMIF(Concluintes!B:B,ALUNO_GRAD_TEMPO_INTEGRAL!A129,Concluintes!F:F)","v":19},{"$f":"VLOOKUP(A129,Parametros!A:E,3,0)","v":4},{"$f":"VLOOKUP(A129,Parametros!A:E,4,0)","v":0.1},{"$f":"SUMIFS(Ingressantes!F:F,Ingressantes!C:C,ALUNO_GRAD_TEMPO_INTEGRAL!A129,Ingressantes!A:A,INÍCIO!$C$5)","v":43},107.60000000000001]
["PSICOLOGIA - 32A",{"$f":"VLOOKUP(A130,Parametros!A:E,2,0)","v":13113},{"$f":"SUMIF(Concluintes!B:B,ALUNO_GRAD_TEMPO_INTEGRAL!A130,Concluintes!F:F)","v":36},{"$f":"VLOOKUP(A130,Parametros!A:E,3,0)","v":5},{"$f":"VLOOKUP(A130,Parametros!A:E,4,0)","v":0.1},{"$f":"SUMIFS(Ingressantes!F:F,Ingressantes!C:C,ALUNO_GRAD_TEMPO_INTEGRAL!A130,Ingressantes!A:A,INÍCIO!$C$5)","v":52},218.00000000000003]
["QUÍMICA - 65GB",{"$f":"VLOOKUP(A131,Parametros!A:E,2,0)","v":313106},{"$f":"SUMIF(Concluintes!B:B,ALUNO_GRAD_TEMPO_INTEGRAL!A131,Concluintes!F:F)","v":8},{"$f":"VLOOKUP(A131,Parametros!A:E,3,0)","v":2},{"$f":"VLOOKUP(A131,Parametros!A:E,4,0)","v":0.13250000000000001},{"$f":"SUMIFS(Ingressantes!F:F,Ingressantes!C:C,ALUNO_GRAD_TEMPO_INTEGRAL!A131,Ingressantes!A:A,INÍCIO!$C$5)","v":40},34.120000000000005]
["QUÍMICA - 65GL",{"$f":"VLOOKUP(A132,Parametros!A:E,2,0)","v":13106},{"$f":"SUMIF(Concluintes!B:B,ALUNO_GRAD_TEMPO_INTEGRAL!A132,Concluintes!F:F)","v":15},{"$f":"VLOOKUP(A132,Parametros!A:E,3,0)","v":2},{"$f":"VLOOKUP(A132,Parametros!A:E,4,0)","v":0.13250000000000001},{"$f":"SUMIFS(Ingressantes!F:F,Ingressantes!C:C,ALUNO_GRAD_TEMPO_INTEGRAL!A132,Ingressantes!A:A,INÍCIO!$C$5)","v":0},26.475000000000001]
["QUÍMICA - 83A",{"$f":"VLOOKUP(A133,Parametros!A:E,2,0)","v":1166039},{"$f":"SUMIF(Concluintes!B:B,ALUNO_GRAD_TEMPO_INTEGRAL!A133,Concluintes!F:F)","v":4},{"$f":"VLOOKUP(A133,Parametros!A:E,3,0)","v":4},{"$f":"VLOOKUP(A133,Parametros!A:E,4,0)","v":0.13250000000000001},{"$f":"SUMIFS(Ingressantes!F:F,Ingressantes!C:C,ALUNO_GRAD_TEMPO_INTEGRAL!A133,Ingressantes!A:A,INÍCIO!$C$5)","v":14},{"$f":"IFERROR(SUM((C133*D133)*(1+E133)+((F133-C133)/4)*D133),0)","v":28.12}]
["RÁDIO, TV E INTERNET - 91A",{"$f":"VLOOKUP(A134,Parametros!A:E,2,0)","v":1374873},{"$f":"SUMIF(Concluintes!B:B,ALUNO_GRAD_TEMPO_INTEGRAL!A134,Concluintes!F:F)","v":6},{"$f":"VLOOKUP(A134,Parametros!A:E,3,0)","v":4},{"$f":"VLOOKUP(A134,Parametros!A:E,4,0)","v":0.12},{"$f":"SUMIFS(Ingressantes!F:F,Ingressantes!C:C,ALUNO_GRAD_TEMPO_INTEGRAL!A134,Ingressantes!A:A,INÍCIO!$C$5)","v":31},51.88]
["SERVIÇO SOCIAL - 19A",{"$f":"VLOOKUP(A135,Parametros!A:E,2,0)","v":13107},{"$f":"SUMIF(Concluintes!B:B,ALUNO_GRAD_TEMPO_INTEGRAL!A135,Concluintes!F:F)","v":6},{"$f":"VLOOKUP(A135,Parametros!A:E,3,0)","v":4},{"$f":"VLOOKUP(A135,Parametros!A:E,4,0)","v":0.12},{"$f":"SUMIFS(Ingressantes!F:F,Ingressantes!C:C,ALUNO_GRAD_TEMPO_INTEGRAL!A135,Ingressantes!A:A,INÍCIO!$C$5)","v":37},57.88]
["SERVIÇO SOCIAL - 68A",{"$f":"VLOOKUP(A136,Parametros!A:E,2,0)","v":13107},{"$f":"SUMIF(Concluintes!B:B,ALUNO_GRAD_TEMPO_INTEGRAL!A136,Concluintes!F:F)","v":9},{"$f":"VLOOKUP(A136,Parametros!A:E,3,0)","v":4},{"$f":"VLOOKUP(A136,Parametros!A:E,4,0)","v":0.12},{"$f":"SUMIFS(Ingressantes!F:F,Ingressantes!C:C,ALUNO_GRAD_TEMPO_INTEGRAL!A136,Ingressantes!A:A,INÍCIO!$C$5)","v":44},75.320000000000007]
["SISTEMAS DE INFORMAÇÃO - 76A",{"$f":"VLOOKUP(A137,Parametros!A:E,2,0)","v":1128364},{"$f":"SUMIF(Concluintes!B:B,ALUNO_GRAD_TEMPO_INTEGRAL!A137,Concluintes!F:F)","v":12},{"$f":"VLOOKUP(A137,Parametros!A:E,3,0)","v":4},{"$f":"VLOOKUP(A137,Parametros!A:E,4,0)","v":0.13250000000000001},{"$f":"SUMIFS(Ingressantes!F:F,Ingressantes!C:C,ALUNO_GRAD_TEMPO_INTEGRAL!A137,Ingressantes!A:A,INÍCIO!$C$5)","v":44},86.36]
["TURISMO - 72D",{"$f":"VLOOKUP(A138,Parametros!A:E,2,0)","v":21589},{"$f":"SUMIF(Concluintes!B:B,ALUNO_GRAD_TEMPO_INTEGRAL!A138,Concluintes!F:F)","v":6},{"$f":"VLOOKUP(A138,Parametros!A:E,3,0)","v":2},{"$f":"VLOOKUP(A138,Parametros!A:E,4,0)","v":0.1},{"$f":"SUMIFS(Ingressantes!F:F,Ingressantes!C:C,ALUNO_GRAD_TEMPO_INTEGRAL!A138,Ingressantes!A:A,INÍCIO!$C$5)","v":0},10.200000000000001]
["TURISMO - 73D",{"$f":"VLOOKUP(A139,Parametros!A:E,2,0)","v":21589},{"$f":"SUMIF(Concluintes!B:B,ALUNO_GRAD_TEMPO_INTEGRAL!A139,Concluintes!F:F)","v":7},{"$f":"VLOOKUP(A139,Parametros!A:E,3,0)","v":2},{"$f":"VLOOKUP(A139,Parametros!A:E,4,0)","v":0.1},{"$f":"SUMIFS(Ingressantes!F:F,Ingressantes!C:C,ALUNO_GRAD_TEMPO_INTEGRAL!A139,Ingressantes!A:A,INÍCIO!$C$5)","v":0},11.900000000000002]
["TURISMO - 92A",{"$f":"VLOOKUP(A140,Parametros!A:E,2,0)","v":21589},{"$f":"SUMIF(Concluintes!B:B,ALUNO_GRAD_TEMPO_INTEGRAL!A140,Concluintes!F:F)","v":4},{"$f":"VLOOKUP(A140,Parametros!A:E,3,0)","v":4},{"$f":"VLOOKUP(A140,Parametros!A:E,4,0)","v":0.12},{"$f":"SUMIFS(Ingressantes!F:F,Ingressantes!C:C,ALUNO_GRAD_TEMPO_INTEGRAL!A140,Ingressantes!A:A,INÍCIO!$C$5)","v":49},62.92]
["TURISMO - 93A",{"$f":"VLOOKUP(A141,Parametros!A:E,2,0)","v":21589},{"$f":"SUMIF(Concluintes!B:B,ALUNO_GRAD_TEMPO_INTEGRAL!A141,Concluintes!F:F)","v":1},{"$f":"VLOOKUP(A141,Parametros!A:E,3,0)","v":4},{"$f":"VLOOKUP(A141,Parametros!A:E,4,0)","v":0.12},{"$f":"SUMIFS(Ingressantes!F:F,Ingressantes!C:C,ALUNO_GRAD_TEMPO_INTEGRAL!A141,Ingressantes!A:A,INÍCIO!$C$5)","v":41},44.480000000000004]
[null,null,{"$f":"SUM(C4:C141)","v":2270},null,null,{"$f":"SUM(F4:F141)","v":4630},13479.108000000002]

{"sheet":"ALUNO_DE_GRADUAÇÃO","index":9,"n_rows":142,"n_cols":12,"rows_kept":142,"cut":false,"hidden":false,"merged":[[7,20,7,21],[7,18,7,19],[51,6,51,7],[52,6,52,7],[8,20,8,21],[10,20,10,21],[11,20,11,21],[61,6,61,9],[0,0,0,4],[1,0,1,4],[62,6,62,9],[10,18,10,19],[54,6,54,7],[60,11,62,14],[11,18,11,19],[8,18,8,19]]}
[null,null,null,null,null,null,null,2017,2018,2019,2020,2021]
["ALUNO DE GRADUAÇÃO",null,null,null,null,null,null,19793,19829,20790,20039,{"$f":"E142","v":21198.5}]
["CURSO","CÓDIGO INEP","1º SEMESTRE","2º SEMESTRE","MATRICULAS"]
[{"$f":"ALUNO_GRAD_TEMPO_INTEGRAL!A4","v":"ABI - CIÊNCIAS BIOLÓGICAS - 01ABI"},{"$f":"ALUNO_GRAD_TEMPO_INTEGRAL!B4","v":5000608},{"$f":"SUMIFS(Matriculados!E:E,Matriculados!B:B,ALUNO_DE_GRADUAÇÃO!A4,Matriculados!A:A,1)","v":60},{"$f":"SUMIFS(Matriculados!E:E,Matriculados!B:B,ALUNO_DE_GRADUAÇÃO!A4,Matriculados!A:A,2)","v":78},{"$f":"AVERAGE(C4:D4)","v":69}]
[{"$f":"ALUNO_GRAD_TEMPO_INTEGRAL!A5","v":"ABI - EDUCAÇÃO FÍSICA - 21ABI"},{"$f":"ALUNO_GRAD_TEMPO_INTEGRAL!B5","v":5000610},{"$f":"SUMIFS(Matriculados!E:E,Matriculados!B:B,ALUNO_DE_GRADUAÇÃO!A5,Matriculados!A:A,1)","v":311},{"$f":"SUMIFS(Matriculados!E:E,Matriculados!B:B,ALUNO_DE_GRADUAÇÃO!A5,Matriculados!A:A,2)","v":342},{"$f":"AVERAGE(C5:D5)","v":326.5}]
[{"$f":"ALUNO_GRAD_TEMPO_INTEGRAL!A6","v":"ABI - FILOSOFIA - 08ABI"},{"$f":"ALUNO_GRAD_TEMPO_INTEGRAL!B6","v":5000611},{"$f":"SUMIFS(Matriculados!E:E,Matriculados!B:B,ALUNO_DE_GRADUAÇÃO!A6,Matriculados!A:A,1)","v":58},{"$f":"SUMIFS(Matriculados!E:E,Matriculados!B:B,ALUNO_DE_GRADUAÇÃO!A6,Matriculados!A:A,2)","v":39},48.5]
[{"$f":"ALUNO_GRAD_TEMPO_INTEGRAL!A7","v":"ABI - GEOGRAFIA - 10ABI"},{"$f":"ALUNO_GRAD_TEMPO_INTEGRAL!B7","v":5000615},{"$f":"SUMIFS(Matriculados!E:E,Matriculados!B:B,ALUNO_DE_GRADUAÇÃO!A7,Matriculados!A:A,1)","v":48},{"$f":"SUMIFS(Matriculados!E:E,Matriculados!B:B,ALUNO_DE_GRADUAÇÃO!A7,Matriculados!A:A,2)","v":34},41]
[{"$f":"ALUNO_GRAD_TEMPO_INTEGRAL!A8","v":"ABI - GEOGRAFIA - 27ABI"},{"$f":"ALUNO_GRAD_TEMPO_INTEGRAL!B8","v":5000615},{"$f":"SUMIFS(Matriculados!E:E,Matriculados!B:B,ALUNO_DE_GRADUAÇÃO!A8,Matriculados!A:A,1)","v":0},{"$f":"SUMIFS(Matriculados!E:E,Matriculados!B:B,ALUNO_DE_GRADUAÇÃO!A8,Matriculados!A:A,2)","v":0},0]
[{"$f":"ALUNO_GRAD_TEMPO_INTEGRAL!A9","v":"ABI - HISTÓRIA - 11ABI"},{"$f":"ALUNO_GRAD_TEMPO_INTEGRAL!B9","v":5000616},{"$f":"SUMIFS(Matriculados!E:E,Matriculados!B:B,ALUNO_DE_GRADUAÇÃO!A9,Matriculados!A:A,1)","v":95},{"$f":"SUMIFS(Matriculados!E:E,Matriculados!B:B,ALUNO_DE_GRADUAÇÃO!A9,Matriculados!A:A,2)","v":85},90]
[{"$f":"ALUNO_GRAD_TEMPO_INTEGRAL!A10","v":"ABI - HISTÓRIA - 28ABI"},{"$f":"ALUNO_GRAD_TEMPO_INTEGRAL!B10","v":5000616},{"$f":"SUMIFS(Matriculados!E:E,Matriculados!B:B,ALUNO_DE_GRADUAÇÃO!A10,Matriculados!A:A,1)","v":50},{"$f":"SUMIFS(Matriculados!E:E,Matriculados!B:B,ALUNO_DE_GRADUAÇÃO!A10,Matriculados!A:A,2)","v":86},68]
[{"$f":"ALUNO_GRAD_TEMPO_INTEGRAL!A11","v":"ABI - LETRAS - 13ABI"},{"$f":"ALUNO_GRAD_TEMPO_INTEGRAL!B11","v":5000617},{"$f":"SUMIFS(Matriculados!E:E,Matriculados!B:B,ALUNO_DE_GRADUAÇÃO!A11,Matriculados!A:A,1)","v":71},{"$f":"SUMIFS(Matriculados!E:E,Matriculados!B:B,ALUNO_DE_GRADUAÇÃO!A11,Matriculados!A:A,2)","v":59},65]
[{"$f":"ALUNO_GRAD_TEMPO_INTEGRAL!A12","v":"ABI - LETRAS - 29ABI"},{"$f":"ALUNO_GRAD_TEMPO_INTEGRAL!B12","v":5000617},{"$f":"SUMIFS(Matriculados!E:E,Matriculados!B:B,ALUNO_DE_GRADUAÇÃO!A12,Matriculados!A:A,1)","v":73},{"$f":"SUMIFS(Matriculados!E:E,Matriculados!B:B,ALUNO_DE_GRADUAÇÃO!A12,Matriculados!A:A,2)","v":73},73]
[{"$f":"ALUNO_GRAD_TEMPO_INTEGRAL!A13","v":"ADMINISTRAÇÃO - 01GV"},{"$f":"ALUNO_GRAD_TEMPO_INTEGRAL!B13","v":1178684},{"$f":"SUMIFS(Matriculados!E:E,Matriculados!B:B,ALUNO_DE_GRADUAÇÃO!A13,Matriculados!A:A,1)","v":280},{"$f":"SUMIFS(Matriculados!E:E,Matriculados!B:B,ALUNO_DE_GRADUAÇÃO!A13,Matriculados!A:A,2)","v":260},270]
[{"$f":"ALUNO_GRAD_TEMPO_INTEGRAL!A14","v":"ADMINISTRAÇÃO - 26A"},{"$f":"ALUNO_GRAD_TEMPO_INTEGRAL!B14","v":22451},{"$f":"SUMIFS(Matriculados!E:E,Matriculados!B:B,ALUNO_DE_GRADUAÇÃO!A14,Matriculados!A:A,1)","v":209},{"$f":"SUMIFS(Matriculados!E:E,Matriculados!B:B,ALUNO_DE_GRADUAÇÃO!A14,Matriculados!A:A,2)","v":186},197.5]
[{"$f":"ALUNO_GRAD_TEMPO_INTEGRAL!A15","v":"ADMINISTRAÇÃO - 46A"},{"$f":"ALUNO_GRAD_TEMPO_INTEGRAL!B15","v":22451},{"$f":"SUMIFS(Matriculados!E:E,Matriculados!B:B,ALUNO_DE_GRADUAÇÃO!A15,Matriculados!A:A,1)","v":201},{"$f":"SUMIFS(Matriculados!E:E,Matriculados!B:B,ALUNO_DE_GRADUAÇÃO!A15,Matriculados!A:A,2)","v":177},189]
[{"$f":"ALUNO_GRAD_TEMPO_INTEGRAL!A16","v":"ARQUITETURA E URBANISMO - 33A"},{"$f":"ALUNO_GRAD_TEMPO_INTEGRAL!B16","v":13114},{"$f":"SUMIFS(Matriculados!E:E,Matriculados!B:B,ALUNO_DE_GRADUAÇÃO!A16,Matriculados!A:A,1)","v":401},{"$f":"SUMIFS(Matriculados!E:E,Matriculados!B:B,ALUNO_DE_GRADUAÇÃO!A16,Matriculados!A:A,2)","v":427},414]
[{"$f":"ALUNO_GRAD_TEMPO_INTEGRAL!A17","v":"BACHARELADO EM ARTES VISUAIS - 66C"},{"$f":"ALUNO_GRAD_TEMPO_INTEGRAL!B17","v":1153948},{"$f":"SUMIFS(Matriculados!E:E,Matriculados!B:B,ALUNO_DE_GRADUAÇÃO!A17,Matriculados!A:A,1)","v":156},{"$f":"SUMIFS(Matriculados!E:E,Matriculados!B:B,ALUNO_DE_GRADUAÇÃO!A17,Matriculados!A:A,2)","v":128},142]
[{"$f":"ALUNO_GRAD_TEMPO_INTEGRAL!A18","v":"BACHARELADO EM CINEMA E AUDIOVISUAL - 66B"},{"$f":"ALUNO_GRAD_TEMPO_INTEGRAL!B18","v":1153947},{"$f":"SUMIFS(Matriculados!E:E,Matriculados!B:B,ALUNO_DE_GRADUAÇÃO!A18,Matriculados!A:A,1)","v":221},{"$f":"SUMIFS(Matriculados!E:E,Matriculados!B:B,ALUNO_DE_GRADUAÇÃO!A18,Matriculados!A:A,2)","v":191},206]
[{"$f":"ALUNO_GRAD_TEMPO_INTEGRAL!A19","v":"BACHARELADO EM DESIGN - 66D"},{"$f":"ALUNO_GRAD_TEMPO_INTEGRAL!B19","v":1153949},{"$f":"SUMIFS(Matriculados!E:E,Matriculados!B:B,ALUNO_DE_GRADUAÇÃO!A19,Matriculados!A:A,1)","v":195},{"$f":"SUMIFS(Matriculados!E:E,Matriculados!B:B,ALUNO_DE_GRADUAÇÃO!A19,Matriculados!A:A,2)","v":165},180]
[{"$f":"ALUNO_GRAD_TEMPO_INTEGRAL!A20","v":"BACHARELADO EM MODA - 66E"},{"$f":"ALUNO_GRAD_TEMPO_INTEGRAL!B20","v":1153950},{"$f":"SUMIFS(Matriculados!E:E,Matriculados!B:B,ALUNO_DE_GRADUAÇÃO!A20,Matriculados!A:A,1)","v":164},{"$f":"SUMIFS(Matriculados!E:E,Matriculados!B:B,ALUNO_DE_GRADUAÇÃO!A20,Matriculados!A:A,2)","v":137},150.5]
[{"$f":"ALUNO_GRAD_TEMPO_INTEGRAL!A21","v":"BACHARELADO INTERDISCIPLINAR EM ARTES E DESIGN - 66A"},{"$f":"ALUNO_GRAD_TEMPO_INTEGRAL!B21","v":116500},{"$f":"SUMIFS(Matriculados!E:E,Matriculados!B:B,ALUNO_DE_GRADUAÇÃO!A21,Matriculados!A:A,1)","v":842},{"$f":"SUMIFS(Matriculados!E:E,Matriculados!B:B,ALUNO_DE_GRADUAÇÃO!A21,Matriculados!A:A,2)","v":696},769]
[{"$f":"ALUNO_GRAD_TEMPO_INTEGRAL!A22","v":"BACHARELADO INTERDISCIPLINAR EM CIÊNCIAS HUMANAS - 72A"},{"$f":"ALUNO_GRAD_TEMPO_INTEGRAL!B22","v":1120242},{"$f":"SUMIFS(Matriculados!E:E,Matriculados!B:B,ALUNO_DE_GRADUAÇÃO!A22,Matriculados!A:A,1)","v":541},{"$f":"SUMIFS(Matriculados!E:E,Matriculados!B:B,ALUNO_DE_GRADUAÇÃO!A22,Matriculados!A:A,2)","v":437},489]
[{"$f":"ALUNO_GRAD_TEMPO_INTEGRAL!A23","v":"BACHARELADO INTERDISCIPLINAR EM CIÊNCIAS HUMANAS - 73A"},{"$f":"ALUNO_GRAD_TEMPO_INTEGRAL!B23","v":1120242},{"$f":"SUMIFS(Matriculados!E:E,Matriculados!B:B,ALUNO_DE_GRADUAÇÃO!A23,Matriculados!A:A,1)","v":435},{"$f":"SUMIFS(Matriculados!E:E,Matriculados!B:B,ALUNO_DE_GRADUAÇÃO!A23,Matriculados!A:A,2)","v":508},471.5]
[{"$f":"ALUNO_GRAD_TEMPO_INTEGRAL!A24","v":"CIÊNCIA DA COMPUTAÇÃO - 35A"},{"$f":"ALUNO_GRAD_TEMPO_INTEGRAL!B24","v":18518},{"$f":"SUMIFS(Matriculados!E:E,Matriculados!B:B,ALUNO_DE_GRADUAÇÃO!A24,Matriculados!A:A,1)","v":178},{"$f":"SUMIFS(Matriculados!E:E,Matriculados!B:B,ALUNO_DE_GRADUAÇÃO!A24,Matriculados!A:A,2)","v":201},189.5]
[{"$f":"ALUNO_GRAD_TEMPO_INTEGRAL!A25","v":"CIÊNCIA DA COMPUTAÇÃO - 65C"},{"$f":"ALUNO_GRAD_TEMPO_INTEGRAL!B25","v":65361},{"$f":"SUMIFS(Matriculados!E:E,Matriculados!B:B,ALUNO_DE_GRADUAÇÃO!A25,Matriculados!A:A,1)","v":119},{"$f":"SUMIFS(Matriculados!E:E,Matriculados!B:B,ALUNO_DE_GRADUAÇÃO!A25,Matriculados!A:A,2)","v":107},113]
[{"$f":"ALUNO_GRAD_TEMPO_INTEGRAL!A26","v":"CIÊNCIA DA RELIGIÃO - 72B"},{"$f":"ALUNO_GRAD_TEMPO_INTEGRAL!B26","v":1165350},{"$f":"SUMIFS(Matriculados!E:E,Matriculados!B:B,ALUNO_DE_GRADUAÇÃO!A26,Matriculados!A:A,1)","v":2},{"$f":"SUMIFS(Matriculados!E:E,Matriculados!B:B,ALUNO_DE_GRADUAÇÃO!A26,Matriculados!A:A,2)","v":3},2.5]
[{"$f":"ALUNO_GRAD_TEMPO_INTEGRAL!A27","v":"CIÊNCIA DA RELIGIÃO - 72BL"},{"$f":"ALUNO_GRAD_TEMPO_INTEGRAL!B27","v":1165686},{"$f":"SUMIFS(Matriculados!E:E,Matriculados!B:B,ALUNO_DE_GRADUAÇÃO!A27,Matriculados!A:A,1)","v":1},{"$f":"SUMIFS(Matriculados!E:E,Matriculados!B:B,ALUNO_DE_GRADUAÇÃO!A27,Matriculados!A:A,2)","v":0},0.5]
[{"$f":"ALUNO_GRAD_TEMPO_INTEGRAL!A28","v":"CIÊNCIA DA RELIGIÃO - 73B"},{"$f":"ALUNO_GRAD_TEMPO_INTEGRAL!B28","v":1165350},{"$f":"SUMIFS(Matriculados!E:E,Matriculados!B:B,ALUNO_DE_GRADUAÇÃO!A28,Matriculados!A:A,1)","v":42},{"$f":"SUMIFS(Matriculados!E:E,Matriculados!B:B,ALUNO_DE_GRADUAÇÃO!A28,Matriculados!A:A,2)","v":34},38]
[{"$f":"ALUNO_GRAD_TEMPO_INTEGRAL!A29","v":"CIÊNCIA DA RELIGIÃO - 73BL"},{"$f":"ALUNO_GRAD_TEMPO_INTEGRAL!B29","v":1165686},{"$f":"SUMIFS(Matriculados!E:E,Matriculados!B:B,ALUNO_DE_GRADUAÇÃO!A29,Matriculados!A:A,1)","v":61},{"$f":"SUMIFS(Matriculados!E:E,Matriculados!B:B,ALUNO_DE_GRADUAÇÃO!A29,Matriculados!A:A,2)","v":56},58.5]
[{"$f":"ALUNO_GRAD_TEMPO_INTEGRAL!A30","v":"CIÊNCIAS BIOLÓGICAS - 01A"},{"$f":"ALUNO_GRAD_TEMPO_INTEGRAL!B30","v":5000608},{"$f":"SUMIFS(Matriculados!E:E,Matriculados!B:B,ALUNO_DE_GRADUAÇÃO!A30,Matriculados!A:A,1)","v":0},{"$f":"SUMIFS(Matriculados!E:E,Matriculados!B:B,ALUNO_DE_GRADUAÇÃO!A30,Matriculados!A:A,2)","v":0},0]
[{"$f":"ALUNO_GRAD_TEMPO_INTEGRAL!A31","v":"CIÊNCIAS BIOLÓGICAS - 01B"},{"$f":"ALUNO_GRAD_TEMPO_INTEGRAL!B31","v":313086},{"$f":"SUMIFS(Matriculados!E:E,Matriculados!B:B,ALUNO_DE_GRADUAÇÃO!A31,Matriculados!A:A,1)","v":177},{"$f":"SUMIFS(Matriculados!E:E,Matriculados!B:B,ALUNO_DE_GRADUAÇÃO!A31,Matriculados!A:A,2)","v":169},173]
[{"$f":"ALUNO_GRAD_TEMPO_INTEGRAL!A32","v":"CIÊNCIAS BIOLÓGICAS - 01L"},{"$f":"ALUNO_GRAD_TEMPO_INTEGRAL!B32","v":13086},{"$f":"SUMIFS(Matriculados!E:E,Matriculados!B:B,ALUNO_DE_GRADUAÇÃO!A32,Matriculados!A:A,1)","v":125},{"$f":"SUMIFS(Matriculados!E:E,Matriculados!B:B,ALUNO_DE_GRADUAÇÃO!A32,Matriculados!A:A,2)","v":115},120]
[{"$f":"ALUNO_GRAD_TEMPO_INTEGRAL!A33","v":"CIÊNCIAS CONTÁBEIS - 02GV"},{"$f":"ALUNO_GRAD_TEMPO_INTEGRAL!B33","v":1183351},{"$f":"SUMIFS(Matriculados!E:E,Matriculados!B:B,ALUNO_DE_GRADUAÇÃO!A33,Matriculados!A:A,1)","v":156},{"$f":"SUMIFS(Matriculados!E:E,Matriculados!B:B,ALUNO_DE_GRADUAÇÃO!A33,Matriculados!A:A,2)","v":157},156.5]
[{"$f":"ALUNO_GRAD_TEMPO_INTEGRAL!A34","v":"CIÊNCIAS CONTÁBEIS - 77A"},{"$f":"ALUNO_GRAD_TEMPO_INTEGRAL!B34","v":1132074},{"$f":"SUMIFS(Matriculados!E:E,Matriculados!B:B,ALUNO_DE_GRADUAÇÃO!A34,Matriculados!A:A,1)","v":212},{"$f":"SUMIFS(Matriculados!E:E,Matriculados!B:B,ALUNO_DE_GRADUAÇÃO!A34,Matriculados!A:A,2)","v":184},198]
[{"$f":"ALUNO_GRAD_TEMPO_INTEGRAL!A35","v":"CIÊNCIAS CONTÁBEIS - 78A"},{"$f":"ALUNO_GRAD_TEMPO_INTEGRAL!B35","v":1132074},{"$f":"SUMIFS(Matriculados!E:E,Matriculados!B:B,ALUNO_DE_GRADUAÇÃO!A35,Matriculados!A:A,1)","v":210},{"$f":"SUMIFS(Matriculados!E:E,Matriculados!B:B,ALUNO_DE_GRADUAÇÃO!A35,Matriculados!A:A,2)","v":184},197]
[{"$f":"ALUNO_GRAD_TEMPO_INTEGRAL!A36","v":"CIÊNCIAS ECONÔMICAS - 03GV"},{"$f":"ALUNO_GRAD_TEMPO_INTEGRAL!B36","v":1178683},{"$f":"SUMIFS(Matriculados!E:E,Matriculados!B:B,ALUNO_DE_GRADUAÇÃO!A36,Matriculados!A:A,1)","v":265},{"$f":"SUMIFS(Matriculados!E:E,Matriculados!B:B,ALUNO_DE_GRADUAÇÃO!A36,Matriculados!A:A,2)","v":235},250]
[{"$f":"ALUNO_GRAD_TEMPO_INTEGRAL!A37","v":"CIÊNCIAS ECONÔMICAS - 05A"},{"$f":"ALUNO_GRAD_TEMPO_INTEGRAL!B37","v":13090},{"$f":"SUMIFS(Matriculados!E:E,Matriculados!B:B,ALUNO_DE_GRADUAÇÃO!A37,Matriculados!A:A,1)","v":242},{"$f":"SUMIFS(Matriculados!E:E,Matriculados!B:B,ALUNO_DE_GRADUAÇÃO!A37,Matriculados!A:A,2)","v":216},229]
[{"$f":"ALUNO_GRAD_TEMPO_INTEGRAL!A38","v":"CIÊNCIAS ECONÔMICAS - 51A"},{"$f":"ALUNO_GRAD_TEMPO_INTEGRAL!B38","v":13090},{"$f":"SUMIFS(Matriculados!E:E,Matriculados!B:B,ALUNO_DE_GRADUAÇÃO!A38,Matriculados!A:A,1)","v":273},{"$f":"SUMIFS(Matriculados!E:E,Matriculados!B:B,ALUNO_DE_GRADUAÇÃO!A38,Matriculados!A:A,2)","v":243},258]
[{"$f":"ALUNO_GRAD_TEMPO_INTEGRAL!A39","v":"CIÊNCIAS EXATAS - 65A"},{"$f":"ALUNO_GRAD_TEMPO_INTEGRAL!B39","v":116502},{"$f":"SUMIFS(Matriculados!E:E,Matriculados!B:B,ALUNO_DE_GRADUAÇÃO!A39,Matriculados!A:A,1)","v":936},{"$f":"SUMIFS(Matriculados!E:E,Matriculados!B:B,ALUNO_DE_GRADUAÇÃO!A39,Matriculados!A:A,2)","v":802},869]
[{"$f":"ALUNO_GRAD_TEMPO_INTEGRAL!A40","v":"CIÊNCIAS SOCIAIS - 31B"},{"$f":"ALUNO_GRAD_TEMPO_INTEGRAL!B40","v":313087},{"$f":"SUMIFS(Matriculados!E:E,Matriculados!B:B,ALUNO_DE_GRADUAÇÃO!A40,Matriculados!A:A,1)","v":0},{"$f":"SUMIFS(Matriculados!E:E,Matriculados!B:B,ALUNO_DE_GRADUAÇÃO!A40,Matriculados!A:A,2)","v":0},0]
[{"$f":"ALUNO_GRAD_TEMPO_INTEGRAL!A41","v":"CIÊNCIAS SOCIAIS - 31L"},{"$f":"ALUNO_GRAD_TEMPO_INTEGRAL!B41","v":13087},{"$f":"SUMIFS(Matriculados!E:E,Matriculados!B:B,ALUNO_DE_GRADUAÇÃO!A41,Matriculados!A:A,1)","v":0},{"$f":"SUMIFS(Matriculados!E:E,Matriculados!B:B,ALUNO_DE_GRADUAÇÃO!A41,Matriculados!A:A,2)","v":0},0]
[{"$f":"ALUNO_GRAD_TEMPO_INTEGRAL!A42","v":"CIÊNCIAS SOCIAIS - 72C"},{"$f":"ALUNO_GRAD_TEMPO_INTEGRAL!B42","v":313087},{"$f":"SUMIFS(Matriculados!E:E,Matriculados!B:B,ALUNO_DE_GRADUAÇÃO!A42,Matriculados!A:A,1)","v":0},{"$f":"SUMIFS(Matriculados!E:E,Matriculados!B:B,ALUNO_DE_GRADUAÇÃO!A42,Matriculados!A:A,2)","v":0},0]
[{"$f":"ALUNO_GRAD_TEMPO_INTEGRAL!A43","v":"CIÊNCIAS SOCIAIS - 72CB"},{"$f":"ALUNO_GRAD_TEMPO_INTEGRAL!B43","v":313087},{"$f":"SUMIFS(Matriculados!E:E,Matriculados!B:B,ALUNO_DE_GRADUAÇÃO!A43,Matriculados!A:A,1)","v":6},{"$f":"SUMIFS(Matriculados!E:E,Matriculados!B:B,ALUNO_DE_GRADUAÇÃO!A43,Matriculados!A:A,2)","v":5},5.5]
[{"$f":"ALUNO_GRAD_TEMPO_INTEGRAL!A44","v":"CIÊNCIAS SOCIAIS - 72CL"},{"$f":"ALUNO_GRAD_TEMPO_INTEGRAL!B44","v":13087},{"$f":"SUMIFS(Matriculados!E:E,Matriculados!B:B,ALUNO_DE_GRADUAÇÃO!A44,Matriculados!A:A,1)","v":3},{"$f":"SUMIFS(Matriculados!E:E,Matriculados!B:B,ALUNO_DE_GRADUAÇÃO!A44,Matriculados!A:A,2)","v":2},2.5]
[{"$f":"ALUNO_GRAD_TEMPO_INTEGRAL!A45","v":"CIÊNCIAS SOCIAIS - 73C"},{"$f":"ALUNO_GRAD_TEMPO_INTEGRAL!B45","v":313087},{"$f":"SUMIFS(Matriculados!E:E,Matriculados!B:B,ALUNO_DE_GRADUAÇÃO!A45,Matriculados!A:A,1)","v":154},{"$f":"SUMIFS(Matriculados!E:E,Matriculados!B:B,ALUNO_DE_GRADUAÇÃO!A45,Matriculados!A:A,2)","v":147},150.5]
[{"$f":"ALUNO_GRAD_TEMPO_INTEGRAL!A46","v":"CIÊNCIAS SOCIAIS - 73CB"},{"$f":"ALUNO_GRAD_TEMPO_INTEGRAL!B46","v":313087},{"$f":"SUMIFS(Matriculados!E:E,Matriculados!B:B,ALUNO_DE_GRADUAÇÃO!A46,Matriculados!A:A,1)","v":65},{"$f":"SUMIFS(Matriculados!E:E,Matriculados!B:B,ALUNO_DE_GRADUAÇÃO!A46,Matriculados!A:A,2)","v":54},59.5]
[{"$f":"ALUNO_GRAD_TEMPO_INTEGRAL!A47","v":"CIÊNCIAS SOCIAIS - 73CL"},{"$f":"ALUNO_GRAD_TEMPO_INTEGRAL!B47","v":13087},{"$f":"SUMIFS(Matriculados!E:E,Matriculados!B:B,ALUNO_DE_GRADUAÇÃO!A47,Matriculados!A:A,1)","v":46},{"$f":"SUMIFS(Matriculados!E:E,Matriculados!B:B,ALUNO_DE_GRADUAÇÃO!A47,Matriculados!A:A,2)","v":37},41.5]
[{"$f":"ALUNO_GRAD_TEMPO_INTEGRAL!A48","v":"DIREITO - 04A"},{"$f":"ALUNO_GRAD_TEMPO_INTEGRAL!B48","v":13089},{"$f":"SUMIFS(Matriculados!E:E,Matriculados!B:B,ALUNO_DE_GRADUAÇÃO!A48,Matriculados!A:A,1)","v":499},{"$f":"SUMIFS(Matriculados!E:E,Matriculados!B:B,ALUNO_DE_GRADUAÇÃO!A48,Matriculados!A:A,2)","v":496},497.5]
[{"$f":"ALUNO_GRAD_TEMPO_INTEGRAL!A49","v":"DIREITO - 04GV"},{"$f":"ALUNO_GRAD_TEMPO_INTEGRAL!B49","v":13089},{"$f":"SUMIFS(Matriculados!E:E,Matriculados!B:B,ALUNO_DE_GRADUAÇÃO!A49,Matriculados!A:A,1)","v":489},{"$f":"SUMIFS(Matriculados!E:E,Matriculados!B:B,ALUNO_DE_GRADUAÇÃO!A49,Matriculados!A:A,2)","v":474},481.5]
[{"$f":"ALUNO_GRAD_TEMPO_INTEGRAL!A50","v":"DIREITO - 34A"},{"$f":"ALUNO_GRAD_TEMPO_INTEGRAL!B50","v":21860},{"$f":"SUMIFS(Matriculados!E:E,Matriculados!B:B,ALUNO_DE_GRADUAÇÃO!A50,Matriculados!A:A,1)","v":491},{"$f":"SUMIFS(Matriculados!E:E,Matriculados!B:B,ALUNO_DE_GRADUAÇÃO!A50,Matriculados!A:A,2)","v":478},484.5]
[{"$f":"ALUNO_GRAD_TEMPO_INTEGRAL!A51","v":"EDUCAÇÃO ARTÍSTICA - 03A"},{"$f":"ALUNO_GRAD_TEMPO_INTEGRAL!B51","v":38748},{"$f":"SUMIFS(Matriculados!E:E,Matriculados!B:B,ALUNO_DE_GRADUAÇÃO!A51,Matriculados!A:A,1)","v":0},{"$f":"SUMIFS(Matriculados!E:E,Matriculados!B:B,ALUNO_DE_GRADUAÇÃO!A51,Matriculados!A:A,2)","v":0},0]
[{"$f":"ALUNO_GRAD_TEMPO_INTEGRAL!A52","v":"EDUCAÇÃO FÍSICA - 10GV"},{"$f":"ALUNO_GRAD_TEMPO_INTEGRAL!B52","v":1270439},{"$f":"SUMIFS(Matriculados!E:E,Matriculados!B:B,ALUNO_DE_GRADUAÇÃO!A52,Matriculados!A:A,1)","v":204},{"$f":"SUMIFS(Matriculados!E:E,Matriculados!B:B,ALUNO_DE_GRADUAÇÃO!A52,Matriculados!A:A,2)","v":194},199]
[{"$f":"ALUNO_GRAD_TEMPO_INTEGRAL!A53","v":"EDUCAÇÃO FÍSICA - 21B"},{"$f":"ALUNO_GRAD_TEMPO_INTEGRAL!B53","v":313092},{"$f":"SUMIFS(Matriculados!E:E,Matriculados!B:B,ALUNO_DE_GRADUAÇÃO!A53,Matriculados!A:A,1)","v":182},{"$f":"SUMIFS(Matriculados!E:E,Matriculados!B:B,ALUNO_DE_GRADUAÇÃO!A53,Matriculados!A:A,2)","v":138},160]
[{"$f":"ALUNO_GRAD_TEMPO_INTEGRAL!A54","v":"EDUCAÇÃO FÍSICA - 21L"},{"$f":"ALUNO_GRAD_TEMPO_INTEGRAL!B54","v":13092},{"$f":"SUMIFS(Matriculados!E:E,Matriculados!B:B,ALUNO_DE_GRADUAÇÃO!A54,Matriculados!A:A,1)","v":86},{"$f":"SUMIFS(Matriculados!E:E,Matriculados!B:B,ALUNO_DE_GRADUAÇÃO!A54,Matriculados!A:A,2)","v":56},71]
[{"$f":"ALUNO_GRAD_TEMPO_INTEGRAL!A55","v":"ENFERMAGEM - 23A"},{"$f":"ALUNO_GRAD_TEMPO_INTEGRAL!B55","v":38994},{"$f":"SUMIFS(Matriculados!E:E,Matriculados!B:B,ALUNO_DE_GRADUAÇÃO!A55,Matriculados!A:A,1)","v":334},{"$f":"SUMIFS(Matriculados!E:E,Matriculados!B:B,ALUNO_DE_GRADUAÇÃO!A55,Matriculados!A:A,2)","v":0},167]
[{"$f":"ALUNO_GRAD_TEMPO_INTEGRAL!A56","v":"ENFERMAGEM - 23L"},{"$f":"ALUNO_GRAD_TEMPO_INTEGRAL!B56","v":338994},{"$f":"SUMIFS(Matriculados!E:E,Matriculados!B:B,ALUNO_DE_GRADUAÇÃO!A56,Matriculados!A:A,1)","v":0},{"$f":"SUMIFS(Matriculados!E:E,Matriculados!B:B,ALUNO_DE_GRADUAÇÃO!A56,Matriculados!A:A,2)","v":0},0]
[{"$f":"ALUNO_GRAD_TEMPO_INTEGRAL!A57","v":"ENGENHARIA AMBIENTAL E SANITÁRIA - 67A"},{"$f":"ALUNO_GRAD_TEMPO_INTEGRAL!B57","v":116496},{"$f":"SUMIFS(Matriculados!E:E,Matriculados!B:B,ALUNO_DE_GRADUAÇÃO!A57,Matriculados!A:A,1)","v":252},{"$f":"SUMIFS(Matriculados!E:E,Matriculados!B:B,ALUNO_DE_GRADUAÇÃO!A57,Matriculados!A:A,2)","v":215},233.5]
[{"$f":"ALUNO_GRAD_TEMPO_INTEGRAL!A58","v":"ENGENHARIA CIVIL - 24A"},{"$f":"ALUNO_GRAD_TEMPO_INTEGRAL!B58","v":13094},{"$f":"SUMIFS(Matriculados!E:E,Matriculados!B:B,ALUNO_DE_GRADUAÇÃO!A58,Matriculados!A:A,1)","v":506},{"$f":"SUMIFS(Matriculados!E:E,Matriculados!B:B,ALUNO_DE_GRADUAÇÃO!A58,Matriculados!A:A,2)","v":513},509.5]
[{"$f":"ALUNO_GRAD_TEMPO_INTEGRAL!A59","v":"ENGENHARIA COMPUTACIONAL - 65B"},{"$f":"ALUNO_GRAD_TEMPO_INTEGRAL!B59","v":1120244},{"$f":"SUMIFS(Matriculados!E:E,Matriculados!B:B,ALUNO_DE_GRADUAÇÃO!A59,Matriculados!A:A,1)","v":121},{"$f":"SUMIFS(Matriculados!E:E,Matriculados!B:B,ALUNO_DE_GRADUAÇÃO!A59,Matriculados!A:A,2)","v":104},112.5]
[{"$f":"ALUNO_GRAD_TEMPO_INTEGRAL!A60","v":"ENGENHARIA DE PRODUÇÃO - 49A"},{"$f":"ALUNO_GRAD_TEMPO_INTEGRAL!B60","v":38594},{"$f":"SUMIFS(Matriculados!E:E,Matriculados!B:B,ALUNO_DE_GRADUAÇÃO!A60,Matriculados!A:A,1)","v":314},{"$f":"SUMIFS(Matriculados!E:E,Matriculados!B:B,ALUNO_DE_GRADUAÇÃO!A60,Matriculados!A:A,2)","v":301},307.5]
[{"$f":"ALUNO_GRAD_TEMPO_INTEGRAL!A61","v":"ENGENHARIA ELÉTRICA - 25A"},{"$f":"ALUNO_GRAD_TEMPO_INTEGRAL!B61","v":13095},{"$f":"SUMIFS(Matriculados!E:E,Matriculados!B:B,ALUNO_DE_GRADUAÇÃO!A61,Matriculados!A:A,1)","v":3},{"$f":"SUMIFS(Matriculados!E:E,Matriculados!B:B,ALUNO_DE_GRADUAÇÃO!A61,Matriculados!A:A,2)","v":3},3]
[{"$f":"ALUNO_GRAD_TEMPO_INTEGRAL!A62","v":"ENGENHARIA ELÉTRICA - 50A"},{"$f":"ALUNO_GRAD_TEMPO_INTEGRAL!B62","v":49788},{"$f":"SUMIFS(Matriculados!E:E,Matriculados!B:B,ALUNO_DE_GRADUAÇÃO!A62,Matriculados!A:A,1)","v":3},{"$f":"SUMIFS(Matriculados!E:E,Matriculados!B:B,ALUNO_DE_GRADUAÇÃO!A62,Matriculados!A:A,2)","v":3},3]
[{"$f":"ALUNO_GRAD_TEMPO_INTEGRAL!A63","v":"ENGENHARIA ELÉTRICA - HAB. EM ROBÓTICA E AUTOMAÇÃO INDUSTRIAL - 65I"},{"$f":"ALUNO_GRAD_TEMPO_INTEGRAL!B63","v":1109485},{"$f":"SUMIFS(Matriculados!E:E,Matriculados!B:B,ALUNO_DE_GRADUAÇÃO!A63,Matriculados!A:A,1)","v":18},{"$f":"SUMIFS(Matriculados!E:E,Matriculados!B:B,ALUNO_DE_GRADUAÇÃO!A63,Matriculados!A:A,2)","v":17},17.5]
[{"$f":"ALUNO_GRAD_TEMPO_INTEGRAL!A64","v":"ENGENHARIA ELÉTRICA - HAB. EM ROBÓTICA E AUTOMAÇÃO INDUSTRIAL - 69B"},{"$f":"ALUNO_GRAD_TEMPO_INTEGRAL!B64","v":1109485},{"$f":"SUMIFS(Matriculados!E:E,Matriculados!B:B,ALUNO_DE_GRADUAÇÃO!A64,Matriculados!A:A,1)","v":232},{"$f":"SUMIFS(Matriculados!E:E,Matriculados!B:B,ALUNO_DE_GRADUAÇÃO!A64,Matriculados!A:A,2)","v":229},230.5]
[{"$f":"ALUNO_GRAD_TEMPO_INTEGRAL!A65","v":"ENGENHARIA ELÉTRICA - HABILITAÇÃO EM ENERGIA - 65H"},{"$f":"ALUNO_GRAD_TEMPO_INTEGRAL!B65","v":1109475},{"$f":"SUMIFS(Matriculados!E:E,Matriculados!B:B,ALUNO_DE_GRADUAÇÃO!A65,Matriculados!A:A,1)","v":20},{"$f":"SUMIFS(Matriculados!E:E,Matriculados!B:B,ALUNO_DE_GRADUAÇÃO!A65,Matriculados!A:A,2)","v":19},19.5]
[{"$f":"ALUNO_GRAD_TEMPO_INTEGRAL!A66","v":"ENGENHARIA ELÉTRICA - HABILITAÇÃO EM ENERGIA - 70A"},{"$f":"ALUNO_GRAD_TEMPO_INTEGRAL!B66","v":1109475},{"$f":"SUMIFS(Matriculados!E:E,Matriculados!B:B,ALUNO_DE_GRADUAÇÃO!A66,Matriculados!A:A,1)","v":231},{"$f":"SUMIFS(Matriculados!E:E,Matriculados!B:B,ALUNO_DE_GRADUAÇÃO!A66,Matriculados!A:A,2)","v":200},215.5]
[{"$f":"ALUNO_GRAD_TEMPO_INTEGRAL!A67","v":"ENGENHARIA ELÉTRICA - HABILITAÇÃO EM SISTEMAS DE POTÊNCIA - 65J"},{"$f":"ALUNO_GRAD_TEMPO_INTEGRAL!B67","v":1109486},{"$f":"SUMIFS(Matriculados!E:E,Matriculados!B:B,ALUNO_DE_GRADUAÇÃO!A67,Matriculados!A:A,1)","v":23},{"$f":"SUMIFS(Matriculados!E:E,Matriculados!B:B,ALUNO_DE_GRADUAÇÃO!A67,Matriculados!A:A,2)","v":20},21.5]
[{"$f":"ALUNO_GRAD_TEMPO_INTEGRAL!A68","v":"ENGENHARIA ELÉTRICA - HABILITAÇÃO EM SISTEMAS DE POTÊNCIA - 69C"},{"$f":"ALUNO_GRAD_TEMPO_INTEGRAL!B68","v":1109486},{"$f":"SUMIFS(Matriculados!E:E,Matriculados!B:B,ALUNO_DE_GRADUAÇÃO!A68,Matriculados!A:A,1)","v":225},{"$f":"SUMIFS(Matriculados!E:E,Matriculados!B:B,ALUNO_DE_GRADUAÇÃO!A68,Matriculados!A:A,2)","v":219},222]
[{"$f":"ALUNO_GRAD_TEMPO_INTEGRAL!A69","v":"ENGENHARIA ELÉTRICA - HABILITAÇÃO EM SISTEMAS ELETRÔNICOS - 65K"},{"$f":"ALUNO_GRAD_TEMPO_INTEGRAL!B69","v":1109487},{"$f":"SUMIFS(Matriculados!E:E,Matriculados!B:B,ALUNO_DE_GRADUAÇÃO!A69,Matriculados!A:A,1)","v":8},{"$f":"SUMIFS(Matriculados!E:E,Matriculados!B:B,ALUNO_DE_GRADUAÇÃO!A69,Matriculados!A:A,2)","v":5},{"$f":"AVERAGE(C69:D69)","v":6.5}]
[{"$f":"ALUNO_GRAD_TEMPO_INTEGRAL!A70","v":"ENGENHARIA ELÉTRICA - HABILITAÇÃO EM SISTEMAS ELETRÔNICOS - 69A"},{"$f":"ALUNO_GRAD_TEMPO_INTEGRAL!B70","v":1109487},{"$f":"SUMIFS(Matriculados!E:E,Matriculados!B:B,ALUNO_DE_GRADUAÇÃO!A70,Matriculados!A:A,1)","v":211},{"$f":"SUMIFS(Matriculados!E:E,Matriculados!B:B,ALUNO_DE_GRADUAÇÃO!A70,Matriculados!A:A,2)","v":209},210]
[{"$f":"ALUNO_GRAD_TEMPO_INTEGRAL!A71","v":"ENGENHARIA ELÉTRICA - HABILITAÇÃO EM TELECOMUNICAÇÕES - 65L"},{"$f":"ALUNO_GRAD_TEMPO_INTEGRAL!B71","v":1109488},{"$f":"SUMIFS(Matriculados!E:E,Matriculados!B:B,ALUNO_DE_GRADUAÇÃO!A71,Matriculados!A:A,1)","v":7},{"$f":"SUMIFS(Matriculados!E:E,Matriculados!B:B,ALUNO_DE_GRADUAÇÃO!A71,Matriculados!A:A,2)","v":7},7]
[{"$f":"ALUNO_GRAD_TEMPO_INTEGRAL!A72","v":"ENGENHARIA ELÉTRICA - HABILITAÇÃO EM TELECOMUNICAÇÕES - 69D"},{"$f":"ALUNO_GRAD_TEMPO_INTEGRAL!B72","v":1109488},{"$f":"SUMIFS(Matriculados!E:E,Matriculados!B:B,ALUNO_DE_GRADUAÇÃO!A72,Matriculados!A:A,1)","v":190},{"$f":"SUMIFS(Matriculados!E:E,Matriculados!B:B,ALUNO_DE_GRADUAÇÃO!A72,Matriculados!A:A,2)","v":196},193]
[{"$f":"ALUNO_GRAD_TEMPO_INTEGRAL!A73","v":"ENGENHARIA MECÂNICA - 65M"},{"$f":"ALUNO_GRAD_TEMPO_INTEGRAL!B73","v":1109489},{"$f":"SUMIFS(Matriculados!E:E,Matriculados!B:B,ALUNO_DE_GRADUAÇÃO!A73,Matriculados!A:A,1)","v":36},{"$f":"SUMIFS(Matriculados!E:E,Matriculados!B:B,ALUNO_DE_GRADUAÇÃO!A73,Matriculados!A:A,2)","v":35},35.5]
[{"$f":"ALUNO_GRAD_TEMPO_INTEGRAL!A74","v":"ENGENHARIA MECÂNICA - 71A"},{"$f":"ALUNO_GRAD_TEMPO_INTEGRAL!B74","v":1109489},{"$f":"SUMIFS(Matriculados!E:E,Matriculados!B:B,ALUNO_DE_GRADUAÇÃO!A74,Matriculados!A:A,1)","v":255},{"$f":"SUMIFS(Matriculados!E:E,Matriculados!B:B,ALUNO_DE_GRADUAÇÃO!A74,Matriculados!A:A,2)","v":280},267.5]
[{"$f":"ALUNO_GRAD_TEMPO_INTEGRAL!A75","v":"ESTATÍSTICA - 65D"},{"$f":"ALUNO_GRAD_TEMPO_INTEGRAL!B75","v":113531},{"$f":"SUMIFS(Matriculados!E:E,Matriculados!B:B,ALUNO_DE_GRADUAÇÃO!A75,Matriculados!A:A,1)","v":74},{"$f":"SUMIFS(Matriculados!E:E,Matriculados!B:B,ALUNO_DE_GRADUAÇÃO!A75,Matriculados!A:A,2)","v":60},67]
[{"$f":"ALUNO_GRAD_TEMPO_INTEGRAL!A76","v":"FARMÁCIA - 05GV"},{"$f":"ALUNO_GRAD_TEMPO_INTEGRAL!B76","v":1185503},{"$f":"SUMIFS(Matriculados!E:E,Matriculados!B:B,ALUNO_DE_GRADUAÇÃO!A76,Matriculados!A:A,1)","v":538},{"$f":"SUMIFS(Matriculados!E:E,Matriculados!B:B,ALUNO_DE_GRADUAÇÃO!A76,Matriculados!A:A,2)","v":244},391]
[{"$f":"ALUNO_GRAD_TEMPO_INTEGRAL!A77","v":"FARMÁCIA - 07A"},{"$f":"ALUNO_GRAD_TEMPO_INTEGRAL!B77","v":38509},{"$f":"SUMIFS(Matriculados!E:E,Matriculados!B:B,ALUNO_DE_GRADUAÇÃO!A77,Matriculados!A:A,1)","v":508},{"$f":"SUMIFS(Matriculados!E:E,Matriculados!B:B,ALUNO_DE_GRADUAÇÃO!A77,Matriculados!A:A,2)","v":513},510.5]
[{"$f":"ALUNO_GRAD_TEMPO_INTEGRAL!A78","v":"FILOSOFIA - 08A"},{"$f":"ALUNO_GRAD_TEMPO_INTEGRAL!B78","v":5000611},{"$f":"SUMIFS(Matriculados!E:E,Matriculados!B:B,ALUNO_DE_GRADUAÇÃO!A78,Matriculados!A:A,1)","v":0},{"$f":"SUMIFS(Matriculados!E:E,Matriculados!B:B,ALUNO_DE_GRADUAÇÃO!A78,Matriculados!A:A,2)","v":0},0]
[{"$f":"ALUNO_GRAD_TEMPO_INTEGRAL!A79","v":"FILOSOFIA - 08B"},{"$f":"ALUNO_GRAD_TEMPO_INTEGRAL!B79","v":313097},{"$f":"SUMIFS(Matriculados!E:E,Matriculados!B:B,ALUNO_DE_GRADUAÇÃO!A79,Matriculados!A:A,1)","v":47},{"$f":"SUMIFS(Matriculados!E:E,Matriculados!B:B,ALUNO_DE_GRADUAÇÃO!A79,Matriculados!A:A,2)","v":45},46]
[{"$f":"ALUNO_GRAD_TEMPO_INTEGRAL!A80","v":"FILOSOFIA - 08L"},{"$f":"ALUNO_GRAD_TEMPO_INTEGRAL!B80","v":13097},{"$f":"SUMIFS(Matriculados!E:E,Matriculados!B:B,ALUNO_DE_GRADUAÇÃO!A80,Matriculados!A:A,1)","v":78},{"$f":"SUMIFS(Matriculados!E:E,Matriculados!B:B,ALUNO_DE_GRADUAÇÃO!A80,Matriculados!A:A,2)","v":79},78.5]
[{"$f":"ALUNO_GRAD_TEMPO_INTEGRAL!A81","v":"FILOSOFIA - 72EB"},{"$f":"ALUNO_GRAD_TEMPO_INTEGRAL!B81","v":313097},{"$f":"SUMIFS(Matriculados!E:E,Matriculados!B:B,ALUNO_DE_GRADUAÇÃO!A81,Matriculados!A:A,1)","v":30},{"$f":"SUMIFS(Matriculados!E:E,Matriculados!B:B,ALUNO_DE_GRADUAÇÃO!A81,Matriculados!A:A,2)","v":29},29.5]
[{"$f":"ALUNO_GRAD_TEMPO_INTEGRAL!A82","v":"FILOSOFIA - 72EL"},{"$f":"ALUNO_GRAD_TEMPO_INTEGRAL!B82","v":13097},{"$f":"SUMIFS(Matriculados!E:E,Matriculados!B:B,ALUNO_DE_GRADUAÇÃO!A82,Matriculados!A:A,1)","v":16},{"$f":"SUMIFS(Matriculados!E:E,Matriculados!B:B,ALUNO_DE_GRADUAÇÃO!A82,Matriculados!A:A,2)","v":14},15]
[{"$f":"ALUNO_GRAD_TEMPO_INTEGRAL!A83","v":"FILOSOFIA - 73E"},{"$f":"ALUNO_GRAD_TEMPO_INTEGRAL!B83","v":313097},{"$f":"SUMIFS(Matriculados!E:E,Matriculados!B:B,ALUNO_DE_GRADUAÇÃO!A83,Matriculados!A:A,1)","v":0},{"$f":"SUMIFS(Matriculados!E:E,Matriculados!B:B,ALUNO_DE_GRADUAÇÃO!A83,Matriculados!A:A,2)","v":0},0]
[{"$f":"ALUNO_GRAD_TEMPO_INTEGRAL!A84","v":"FÍSICA - 09A"},{"$f":"ALUNO_GRAD_TEMPO_INTEGRAL!B84","v":5000613},{"$f":"SUMIFS(Matriculados!E:E,Matriculados!B:B,ALUNO_DE_GRADUAÇÃO!A84,Matriculados!A:A,1)","v":1},{"$f":"SUMIFS(Matriculados!E:E,Matriculados!B:B,ALUNO_DE_GRADUAÇÃO!A84,Matriculados!A:A,2)","v":2},1.5]
[{"$f":"ALUNO_GRAD_TEMPO_INTEGRAL!A85","v":"FÍSICA - 65E"},{"$f":"ALUNO_GRAD_TEMPO_INTEGRAL!B85","v":313098},{"$f":"SUMIFS(Matriculados!E:E,Matriculados!B:B,ALUNO_DE_GRADUAÇÃO!A85,Matriculados!A:A,1)","v":102},{"$f":"SUMIFS(Matriculados!E:E,Matriculados!B:B,ALUNO_DE_GRADUAÇÃO!A85,Matriculados!A:A,2)","v":91},96.5]
[{"$f":"ALUNO_GRAD_TEMPO_INTEGRAL!A86","v":"FÍSICA - 65EL"},{"$f":"ALUNO_GRAD_TEMPO_INTEGRAL!B86","v":13098},{"$f":"SUMIFS(Matriculados!E:E,Matriculados!B:B,ALUNO_DE_GRADUAÇÃO!A86,Matriculados!A:A,1)","v":3},{"$f":"SUMIFS(Matriculados!E:E,Matriculados!B:B,ALUNO_DE_GRADUAÇÃO!A86,Matriculados!A:A,2)","v":5},4]
[{"$f":"ALUNO_GRAD_TEMPO_INTEGRAL!A87","v":"FÍSICA - 81A"},{"$f":"ALUNO_GRAD_TEMPO_INTEGRAL!B87","v":1166037},{"$f":"SUMIFS(Matriculados!E:E,Matriculados!B:B,ALUNO_DE_GRADUAÇÃO!A87,Matriculados!A:A,1)","v":61},{"$f":"SUMIFS(Matriculados!E:E,Matriculados!B:B,ALUNO_DE_GRADUAÇÃO!A87,Matriculados!A:A,2)","v":70},65.5]
[{"$f":"ALUNO_GRAD_TEMPO_INTEGRAL!A88","v":"FISIOTERAPIA - 06GV"},{"$f":"ALUNO_GRAD_TEMPO_INTEGRAL!B88","v":1178689},{"$f":"SUMIFS(Matriculados!E:E,Matriculados!B:B,ALUNO_DE_GRADUAÇÃO!A88,Matriculados!A:A,1)","v":236},{"$f":"SUMIFS(Matriculados!E:E,Matriculados!B:B,ALUNO_DE_GRADUAÇÃO!A88,Matriculados!A:A,2)","v":261},248.5]
[{"$f":"ALUNO_GRAD_TEMPO_INTEGRAL!A89","v":"FISIOTERAPIA - 20A"},{"$f":"ALUNO_GRAD_TEMPO_INTEGRAL!B89","v":13118},{"$f":"SUMIFS(Matriculados!E:E,Matriculados!B:B,ALUNO_DE_GRADUAÇÃO!A89,Matriculados!A:A,1)","v":379},{"$f":"SUMIFS(Matriculados!E:E,Matriculados!B:B,ALUNO_DE_GRADUAÇÃO!A89,Matriculados!A:A,2)","v":181},280]
[{"$f":"ALUNO_GRAD_TEMPO_INTEGRAL!A90","v":"GEOGRAFIA - 10B"},{"$f":"ALUNO_GRAD_TEMPO_INTEGRAL!B90","v":313099},{"$f":"SUMIFS(Matriculados!E:E,Matriculados!B:B,ALUNO_DE_GRADUAÇÃO!A90,Matriculados!A:A,1)","v":125},{"$f":"SUMIFS(Matriculados!E:E,Matriculados!B:B,ALUNO_DE_GRADUAÇÃO!A90,Matriculados!A:A,2)","v":123},124]
[{"$f":"ALUNO_GRAD_TEMPO_INTEGRAL!A91","v":"GEOGRAFIA - 10L"},{"$f":"ALUNO_GRAD_TEMPO_INTEGRAL!B91","v":13099},{"$f":"SUMIFS(Matriculados!E:E,Matriculados!B:B,ALUNO_DE_GRADUAÇÃO!A91,Matriculados!A:A,1)","v":111},{"$f":"SUMIFS(Matriculados!E:E,Matriculados!B:B,ALUNO_DE_GRADUAÇÃO!A91,Matriculados!A:A,2)","v":105},108]
[{"$f":"ALUNO_GRAD_TEMPO_INTEGRAL!A92","v":"GEOGRAFIA - 27A"},{"$f":"ALUNO_GRAD_TEMPO_INTEGRAL!B92","v":5000615},{"$f":"SUMIFS(Matriculados!E:E,Matriculados!B:B,ALUNO_DE_GRADUAÇÃO!A92,Matriculados!A:A,1)","v":1},{"$f":"SUMIFS(Matriculados!E:E,Matriculados!B:B,ALUNO_DE_GRADUAÇÃO!A92,Matriculados!A:A,2)","v":1},1]
[{"$f":"ALUNO_GRAD_TEMPO_INTEGRAL!A93","v":"GEOGRAFIA - 27L"},{"$f":"ALUNO_GRAD_TEMPO_INTEGRAL!B93","v":13099},{"$f":"SUMIFS(Matriculados!E:E,Matriculados!B:B,ALUNO_DE_GRADUAÇÃO!A93,Matriculados!A:A,1)","v":166},{"$f":"SUMIFS(Matriculados!E:E,Matriculados!B:B,ALUNO_DE_GRADUAÇÃO!A93,Matriculados!A:A,2)","v":141},153.5]
[{"$f":"ALUNO_GRAD_TEMPO_INTEGRAL!A94","v":"HISTÓRIA - 11A"},{"$f":"ALUNO_GRAD_TEMPO_INTEGRAL!B94","v":5000616},{"$f":"SUMIFS(Matriculados!E:E,Matriculados!B:B,ALUNO_DE_GRADUAÇÃO!A94,Matriculados!A:A,1)","v":1},{"$f":"SUMIFS(Matriculados!E:E,Matriculados!B:B,ALUNO_DE_GRADUAÇÃO!A94,Matriculados!A:A,2)","v":2},1.5]
[{"$f":"ALUNO_GRAD_TEMPO_INTEGRAL!A95","v":"HISTÓRIA - 11B"},{"$f":"ALUNO_GRAD_TEMPO_INTEGRAL!B95","v":313100},{"$f":"SUMIFS(Matriculados!E:E,Matriculados!B:B,ALUNO_DE_GRADUAÇÃO!A95,Matriculados!A:A,1)","v":70},{"$f":"SUMIFS(Matriculados!E:E,Matriculados!B:B,ALUNO_DE_GRADUAÇÃO!A95,Matriculados!A:A,2)","v":65},67.5]
[{"$f":"ALUNO_GRAD_TEMPO_INTEGRAL!A96","v":"HISTÓRIA - 11L"},{"$f":"ALUNO_GRAD_TEMPO_INTEGRAL!B96","v":13100},{"$f":"SUMIFS(Matriculados!E:E,Matriculados!B:B,ALUNO_DE_GRADUAÇÃO!A96,Matriculados!A:A,1)","v":150},{"$f":"SUMIFS(Matriculados!E:E,Matriculados!B:B,ALUNO_DE_GRADUAÇÃO!A96,Matriculados!A:A,2)","v":140},145]
[{"$f":"ALUNO_GRAD_TEMPO_INTEGRAL!A97","v":"HISTÓRIA - 28A"},{"$f":"ALUNO_GRAD_TEMPO_INTEGRAL!B97","v":5000616},{"$f":"SUMIFS(Matriculados!E:E,Matriculados!B:B,ALUNO_DE_GRADUAÇÃO!A97,Matriculados!A:A,1)","v":0},{"$f":"SUMIFS(Matriculados!E:E,Matriculados!B:B,ALUNO_DE_GRADUAÇÃO!A97,Matriculados!A:A,2)","v":2},1]
[{"$f":"ALUNO_GRAD_TEMPO_INTEGRAL!A98","v":"HISTÓRIA - 28B"},{"$f":"ALUNO_GRAD_TEMPO_INTEGRAL!B98","v":313100},{"$f":"SUMIFS(Matriculados!E:E,Matriculados!B:B,ALUNO_DE_GRADUAÇÃO!A98,Matriculados!A:A,1)","v":54},{"$f":"SUMIFS(Matriculados!E:E,Matriculados!B:B,ALUNO_DE_GRADUAÇÃO!A98,Matriculados!A:A,2)","v":49},51.5]
[{"$f":"ALUNO_GRAD_TEMPO_INTEGRAL!A99","v":"HISTÓRIA - 28L"},{"$f":"ALUNO_GRAD_TEMPO_INTEGRAL!B99","v":13100},{"$f":"SUMIFS(Matriculados!E:E,Matriculados!B:B,ALUNO_DE_GRADUAÇÃO!A99,Matriculados!A:A,1)","v":140},{"$f":"SUMIFS(Matriculados!E:E,Matriculados!B:B,ALUNO_DE_GRADUAÇÃO!A99,Matriculados!A:A,2)","v":128},134]
[{"$f":"ALUNO_GRAD_TEMPO_INTEGRAL!A100","v":"JORNALISMO - 84A"},{"$f":"ALUNO_GRAD_TEMPO_INTEGRAL!B100","v":27657},{"$f":"SUMIFS(Matriculados!E:E,Matriculados!B:B,ALUNO_DE_GRADUAÇÃO!A100,Matriculados!A:A,1)","v":144},{"$f":"SUMIFS(Matriculados!E:E,Matriculados!B:B,ALUNO_DE_GRADUAÇÃO!A100,Matriculados!A:A,2)","v":157},150.5]
[{"$f":"ALUNO_GRAD_TEMPO_INTEGRAL!A101","v":"JORNALISMO - 85A"},{"$f":"ALUNO_GRAD_TEMPO_INTEGRAL!B101","v":36356},{"$f":"SUMIFS(Matriculados!E:E,Matriculados!B:B,ALUNO_DE_GRADUAÇÃO!A101,Matriculados!A:A,1)","v":191},{"$f":"SUMIFS(Matriculados!E:E,Matriculados!B:B,ALUNO_DE_GRADUAÇÃO!A101,Matriculados!A:A,2)","v":156},173.5]
[{"$f":"ALUNO_GRAD_TEMPO_INTEGRAL!A102","v":"LETRAS - 13A"},{"$f":"ALUNO_GRAD_TEMPO_INTEGRAL!B102","v":5000617},{"$f":"SUMIFS(Matriculados!E:E,Matriculados!B:B,ALUNO_DE_GRADUAÇÃO!A102,Matriculados!A:A,1)","v":5},{"$f":"SUMIFS(Matriculados!E:E,Matriculados!B:B,ALUNO_DE_GRADUAÇÃO!A102,Matriculados!A:A,2)","v":3},4]
[{"$f":"ALUNO_GRAD_TEMPO_INTEGRAL!A103","v":"LETRAS - 13B"},{"$f":"ALUNO_GRAD_TEMPO_INTEGRAL!B103","v":313101},{"$f":"SUMIFS(Matriculados!E:E,Matriculados!B:B,ALUNO_DE_GRADUAÇÃO!A103,Matriculados!A:A,1)","v":102},{"$f":"SUMIFS(Matriculados!E:E,Matriculados!B:B,ALUNO_DE_GRADUAÇÃO!A103,Matriculados!A:A,2)","v":101},101.5]
[{"$f":"ALUNO_GRAD_TEMPO_INTEGRAL!A104","v":"LETRAS - 13L"},{"$f":"ALUNO_GRAD_TEMPO_INTEGRAL!B104","v":13101},{"$f":"SUMIFS(Matriculados!E:E,Matriculados!B:B,ALUNO_DE_GRADUAÇÃO!A104,Matriculados!A:A,1)","v":254},{"$f":"SUMIFS(Matriculados!E:E,Matriculados!B:B,ALUNO_DE_GRADUAÇÃO!A104,Matriculados!A:A,2)","v":218},236]
[{"$f":"ALUNO_GRAD_TEMPO_INTEGRAL!A105","v":"LETRAS - 29A"},{"$f":"ALUNO_GRAD_TEMPO_INTEGRAL!B105","v":5000617},{"$f":"SUMIFS(Matriculados!E:E,Matriculados!B:B,ALUNO_DE_GRADUAÇÃO!A105,Matriculados!A:A,1)","v":10},{"$f":"SUMIFS(Matriculados!E:E,Matriculados!B:B,ALUNO_DE_GRADUAÇÃO!A105,Matriculados!A:A,2)","v":7},8.5]
[{"$f":"ALUNO_GRAD_TEMPO_INTEGRAL!A106","v":"LETRAS - 29B"},{"$f":"ALUNO_GRAD_TEMPO_INTEGRAL!B106","v":313101},{"$f":"SUMIFS(Matriculados!E:E,Matriculados!B:B,ALUNO_DE_GRADUAÇÃO!A106,Matriculados!A:A,1)","v":0},{"$f":"SUMIFS(Matriculados!E:E,Matriculados!B:B,ALUNO_DE_GRADUAÇÃO!A106,Matriculados!A:A,2)","v":0},0]
[{"$f":"ALUNO_GRAD_TEMPO_INTEGRAL!A107","v":"LETRAS - 29L"},{"$f":"ALUNO_GRAD_TEMPO_INTEGRAL!B107","v":13101},{"$f":"SUMIFS(Matriculados!E:E,Matriculados!B:B,ALUNO_DE_GRADUAÇÃO!A107,Matriculados!A:A,1)","v":146},{"$f":"SUMIFS(Matriculados!E:E,Matriculados!B:B,ALUNO_DE_GRADUAÇÃO!A107,Matriculados!A:A,2)","v":165},155.5]
[{"$f":"ALUNO_GRAD_TEMPO_INTEGRAL!A108","v":"LICENCIATURA EM ARTES VISUAIS - 66F"},{"$f":"ALUNO_GRAD_TEMPO_INTEGRAL!B108","v":1153951},{"$f":"SUMIFS(Matriculados!E:E,Matriculados!B:B,ALUNO_DE_GRADUAÇÃO!A108,Matriculados!A:A,1)","v":150},{"$f":"SUMIFS(Matriculados!E:E,Matriculados!B:B,ALUNO_DE_GRADUAÇÃO!A108,Matriculados!A:A,2)","v":121},135.5]
[{"$f":"ALUNO_GRAD_TEMPO_INTEGRAL!A109","v":"LICENCIATURA EM LETRAS - LIBRAS - 88A"},{"$f":"ALUNO_GRAD_TEMPO_INTEGRAL!B109","v":1268983},{"$f":"SUMIFS(Matriculados!E:E,Matriculados!B:B,ALUNO_DE_GRADUAÇÃO!A109,Matriculados!A:A,1)","v":130},{"$f":"SUMIFS(Matriculados!E:E,Matriculados!B:B,ALUNO_DE_GRADUAÇÃO!A109,Matriculados!A:A,2)","v":138},134]
[{"$f":"ALUNO_GRAD_TEMPO_INTEGRAL!A110","v":"LICENCIATURA EM MÚSICA - 89A"},{"$f":"ALUNO_GRAD_TEMPO_INTEGRAL!B110","v":"1278855 "},{"$f":"SUMIFS(Matriculados!E:E,Matriculados!B:B,ALUNO_DE_GRADUAÇÃO!A110,Matriculados!A:A,1)","v":69},{"$f":"SUMIFS(Matriculados!E:E,Matriculados!B:B,ALUNO_DE_GRADUAÇÃO!A110,Matriculados!A:A,2)","v":65},67]
[{"$f":"ALUNO_GRAD_TEMPO_INTEGRAL!A111","v":"MATEMÁTICA - 65F"},{"$f":"ALUNO_GRAD_TEMPO_INTEGRAL!B111","v":313102},{"$f":"SUMIFS(Matriculados!E:E,Matriculados!B:B,ALUNO_DE_GRADUAÇÃO!A111,Matriculados!A:A,1)","v":92},{"$f":"SUMIFS(Matriculados!E:E,Matriculados!B:B,ALUNO_DE_GRADUAÇÃO!A111,Matriculados!A:A,2)","v":78},85]
[{"$f":"ALUNO_GRAD_TEMPO_INTEGRAL!A112","v":"MATEMÁTICA - 65FL"},{"$f":"ALUNO_GRAD_TEMPO_INTEGRAL!B112","v":13102},{"$f":"SUMIFS(Matriculados!E:E,Matriculados!B:B,ALUNO_DE_GRADUAÇÃO!A112,Matriculados!A:A,1)","v":14},{"$f":"SUMIFS(Matriculados!E:E,Matriculados!B:B,ALUNO_DE_GRADUAÇÃO!A112,Matriculados!A:A,2)","v":14},14]
[{"$f":"ALUNO_GRAD_TEMPO_INTEGRAL!A113","v":"MATEMÁTICA - 82A"},{"$f":"ALUNO_GRAD_TEMPO_INTEGRAL!B113","v":1166038},{"$f":"SUMIFS(Matriculados!E:E,Matriculados!B:B,ALUNO_DE_GRADUAÇÃO!A113,Matriculados!A:A,1)","v":66},{"$f":"SUMIFS(Matriculados!E:E,Matriculados!B:B,ALUNO_DE_GRADUAÇÃO!A113,Matriculados!A:A,2)","v":72},69]
[{"$f":"ALUNO_GRAD_TEMPO_INTEGRAL!A114","v":"MEDICINA - 07GV"},{"$f":"ALUNO_GRAD_TEMPO_INTEGRAL!B114","v":5001167},{"$f":"SUMIFS(Matriculados!E:E,Matriculados!B:B,ALUNO_DE_GRADUAÇÃO!A114,Matriculados!A:A,1)","v":826},{"$f":"SUMIFS(Matriculados!E:E,Matriculados!B:B,ALUNO_DE_GRADUAÇÃO!A114,Matriculados!A:A,2)","v":348},587]
[{"$f":"ALUNO_GRAD_TEMPO_INTEGRAL!A115","v":"MEDICINA - 15A"},{"$f":"ALUNO_GRAD_TEMPO_INTEGRAL!B115","v":13103},{"$f":"SUMIFS(Matriculados!E:E,Matriculados!B:B,ALUNO_DE_GRADUAÇÃO!A115,Matriculados!A:A,1)","v":929},{"$f":"SUMIFS(Matriculados!E:E,Matriculados!B:B,ALUNO_DE_GRADUAÇÃO!A115,Matriculados!A:A,2)","v":260},594.5]
[{"$f":"ALUNO_GRAD_TEMPO_INTEGRAL!A116","v":"MEDICINA VETERINÁRIA - 87A"},{"$f":"ALUNO_GRAD_TEMPO_INTEGRAL!B116","v":1268972},{"$f":"SUMIFS(Matriculados!E:E,Matriculados!B:B,ALUNO_DE_GRADUAÇÃO!A116,Matriculados!A:A,1)","v":504},{"$f":"SUMIFS(Matriculados!E:E,Matriculados!B:B,ALUNO_DE_GRADUAÇÃO!A116,Matriculados!A:A,2)","v":756},630]
[{"$f":"ALUNO_GRAD_TEMPO_INTEGRAL!A117","v":"MÚSICA - CANTO - 63A"},{"$f":"ALUNO_GRAD_TEMPO_INTEGRAL!B117","v":116490},{"$f":"SUMIFS(Matriculados!E:E,Matriculados!B:B,ALUNO_DE_GRADUAÇÃO!A117,Matriculados!A:A,1)","v":8},{"$f":"SUMIFS(Matriculados!E:E,Matriculados!B:B,ALUNO_DE_GRADUAÇÃO!A117,Matriculados!A:A,2)","v":5},6.5]
[{"$f":"ALUNO_GRAD_TEMPO_INTEGRAL!A118","v":"MÚSICA - MODALIDADE COMPOSIÇÃO - 63G"},{"$f":"ALUNO_GRAD_TEMPO_INTEGRAL!B118","v":1271995},{"$f":"SUMIFS(Matriculados!E:E,Matriculados!B:B,ALUNO_DE_GRADUAÇÃO!A118,Matriculados!A:A,1)","v":58},{"$f":"SUMIFS(Matriculados!E:E,Matriculados!B:B,ALUNO_DE_GRADUAÇÃO!A118,Matriculados!A:A,2)","v":52},55]
[{"$f":"ALUNO_GRAD_TEMPO_INTEGRAL!A119","v":"MÚSICA - MODALIDADE FLAUTA TRANSVERSAL - 63B"},{"$f":"ALUNO_GRAD_TEMPO_INTEGRAL!B119","v":116491},{"$f":"SUMIFS(Matriculados!E:E,Matriculados!B:B,ALUNO_DE_GRADUAÇÃO!A119,Matriculados!A:A,1)","v":12},{"$f":"SUMIFS(Matriculados!E:E,Matriculados!B:B,ALUNO_DE_GRADUAÇÃO!A119,Matriculados!A:A,2)","v":8},10]
[{"$f":"ALUNO_GRAD_TEMPO_INTEGRAL!A120","v":"MÚSICA - MODALIDADE PIANO - 63C"},{"$f":"ALUNO_GRAD_TEMPO_INTEGRAL!B120","v":116492},{"$f":"SUMIFS(Matriculados!E:E,Matriculados!B:B,ALUNO_DE_GRADUAÇÃO!A120,Matriculados!A:A,1)","v":10},{"$f":"SUMIFS(Matriculados!E:E,Matriculados!B:B,ALUNO_DE_GRADUAÇÃO!A120,Matriculados!A:A,2)","v":10},10]
[{"$f":"ALUNO_GRAD_TEMPO_INTEGRAL!A121","v":"MÚSICA - MODALIDADE VIOLÃO - 63D"},{"$f":"ALUNO_GRAD_TEMPO_INTEGRAL!B121","v":116493},{"$f":"SUMIFS(Matriculados!E:E,Matriculados!B:B,ALUNO_DE_GRADUAÇÃO!A121,Matriculados!A:A,1)","v":14},{"$f":"SUMIFS(Matriculados!E:E,Matriculados!B:B,ALUNO_DE_GRADUAÇÃO!A121,Matriculados!A:A,2)","v":10},12]
[{"$f":"ALUNO_GRAD_TEMPO_INTEGRAL!A122","v":"MÚSICA - MODALIDADE VIOLINO - 63E"},{"$f":"ALUNO_GRAD_TEMPO_INTEGRAL!B122","v":116494},{"$f":"SUMIFS(Matriculados!E:E,Matriculados!B:B,ALUNO_DE_GRADUAÇÃO!A122,Matriculados!A:A,1)","v":6},{"$f":"SUMIFS(Matriculados!E:E,Matriculados!B:B,ALUNO_DE_GRADUAÇÃO!A122,Matriculados!A:A,2)","v":6},6]
[{"$f":"ALUNO_GRAD_TEMPO_INTEGRAL!A123","v":"MÚSICA - MODALIDADE VIOLONCELO - 63F"},{"$f":"ALUNO_GRAD_TEMPO_INTEGRAL!B123","v":116495},{"$f":"SUMIFS(Matriculados!E:E,Matriculados!B:B,ALUNO_DE_GRADUAÇÃO!A123,Matriculados!A:A,1)","v":6},{"$f":"SUMIFS(Matriculados!E:E,Matriculados!B:B,ALUNO_DE_GRADUAÇÃO!A123,Matriculados!A:A,2)","v":6},6]
[{"$f":"ALUNO_GRAD_TEMPO_INTEGRAL!A124","v":"NUTRIÇÃO - 08GV"},{"$f":"ALUNO_GRAD_TEMPO_INTEGRAL!B124","v":1178688},{"$f":"SUMIFS(Matriculados!E:E,Matriculados!B:B,ALUNO_DE_GRADUAÇÃO!A124,Matriculados!A:A,1)","v":457},{"$f":"SUMIFS(Matriculados!E:E,Matriculados!B:B,ALUNO_DE_GRADUAÇÃO!A124,Matriculados!A:A,2)","v":234},345.5]
[{"$f":"ALUNO_GRAD_TEMPO_INTEGRAL!A125","v":"NUTRIÇÃO - 64A"},{"$f":"ALUNO_GRAD_TEMPO_INTEGRAL!B125","v":116498},{"$f":"SUMIFS(Matriculados!E:E,Matriculados!B:B,ALUNO_DE_GRADUAÇÃO!A125,Matriculados!A:A,1)","v":523},{"$f":"SUMIFS(Matriculados!E:E,Matriculados!B:B,ALUNO_DE_GRADUAÇÃO!A125,Matriculados!A:A,2)","v":501},512]
[{"$f":"ALUNO_GRAD_TEMPO_INTEGRAL!A126","v":"ODONTOLOGIA - 09GV"},{"$f":"ALUNO_GRAD_TEMPO_INTEGRAL!B126","v":5001168},{"$f":"SUMIFS(Matriculados!E:E,Matriculados!B:B,ALUNO_DE_GRADUAÇÃO!A126,Matriculados!A:A,1)","v":663},{"$f":"SUMIFS(Matriculados!E:E,Matriculados!B:B,ALUNO_DE_GRADUAÇÃO!A126,Matriculados!A:A,2)","v":10},336.5]
[{"$f":"ALUNO_GRAD_TEMPO_INTEGRAL!A127","v":"ODONTOLOGIA - 16A"},{"$f":"ALUNO_GRAD_TEMPO_INTEGRAL!B127","v":13104},{"$f":"SUMIFS(Matriculados!E:E,Matriculados!B:B,ALUNO_DE_GRADUAÇÃO!A127,Matriculados!A:A,1)","v":407},{"$f":"SUMIFS(Matriculados!E:E,Matriculados!B:B,ALUNO_DE_GRADUAÇÃO!A127,Matriculados!A:A,2)","v":77},242]
[{"$f":"ALUNO_GRAD_TEMPO_INTEGRAL!A128","v":"PEDAGOGIA - 17A"},{"$f":"ALUNO_GRAD_TEMPO_INTEGRAL!B128","v":13105},{"$f":"SUMIFS(Matriculados!E:E,Matriculados!B:B,ALUNO_DE_GRADUAÇÃO!A128,Matriculados!A:A,1)","v":183},{"$f":"SUMIFS(Matriculados!E:E,Matriculados!B:B,ALUNO_DE_GRADUAÇÃO!A128,Matriculados!A:A,2)","v":149},166]
[{"$f":"ALUNO_GRAD_TEMPO_INTEGRAL!A129","v":"PEDAGOGIA - 30A"},{"$f":"ALUNO_GRAD_TEMPO_INTEGRAL!B129","v":13105},{"$f":"SUMIFS(Matriculados!E:E,Matriculados!B:B,ALUNO_DE_GRADUAÇÃO!A129,Matriculados!A:A,1)","v":182},{"$f":"SUMIFS(Matriculados!E:E,Matriculados!B:B,ALUNO_DE_GRADUAÇÃO!A129,Matriculados!A:A,2)","v":203},192.5]
[{"$f":"ALUNO_GRAD_TEMPO_INTEGRAL!A130","v":"PSICOLOGIA - 32A"},{"$f":"ALUNO_GRAD_TEMPO_INTEGRAL!B130","v":13113},{"$f":"SUMIFS(Matriculados!E:E,Matriculados!B:B,ALUNO_DE_GRADUAÇÃO!A130,Matriculados!A:A,1)","v":288},{"$f":"SUMIFS(Matriculados!E:E,Matriculados!B:B,ALUNO_DE_GRADUAÇÃO!A130,Matriculados!A:A,2)","v":271},279.5]
[{"$f":"ALUNO_GRAD_TEMPO_INTEGRAL!A131","v":"QUÍMICA - 65GB"},{"$f":"ALUNO_GRAD_TEMPO_INTEGRAL!B131","v":313106},{"$f":"SUMIFS(Matriculados!E:E,Matriculados!B:B,ALUNO_DE_GRADUAÇÃO!A131,Matriculados!A:A,1)","v":193},{"$f":"SUMIFS(Matriculados!E:E,Matriculados!B:B,ALUNO_DE_GRADUAÇÃO!A131,Matriculados!A:A,2)","v":169},181]
[{"$f":"ALUNO_GRAD_TEMPO_INTEGRAL!A132","v":"QUÍMICA - 65GL"},{"$f":"ALUNO_GRAD_TEMPO_INTEGRAL!B132","v":13106},{"$f":"SUMIFS(Matriculados!E:E,Matriculados!B:B,ALUNO_DE_GRADUAÇÃO!A132,Matriculados!A:A,1)","v":55},{"$f":"SUMIFS(Matriculados!E:E,Matriculados!B:B,ALUNO_DE_GRADUAÇÃO!A132,Matriculados!A:A,2)","v":53},54]
[{"$f":"ALUNO_GRAD_TEMPO_INTEGRAL!A133","v":"QUÍMICA - 83A"},{"$f":"ALUNO_GRAD_TEMPO_INTEGRAL!B133","v":1166039},{"$f":"SUMIFS(Matriculados!E:E,Matriculados!B:B,ALUNO_DE_GRADUAÇÃO!A133,Matriculados!A:A,1)","v":73},{"$f":"SUMIFS(Matriculados!E:E,Matriculados!B:B,ALUNO_DE_GRADUAÇÃO!A133,Matriculados!A:A,2)","v":81},{"$f":"AVERAGE(C133:D133)","v":77}]
[{"$f":"ALUNO_GRAD_TEMPO_INTEGRAL!A134","v":"RÁDIO, TV E INTERNET - 91A"},{"$f":"ALUNO_GRAD_TEMPO_INTEGRAL!B134","v":1374873},{"$f":"SUMIFS(Matriculados!E:E,Matriculados!B:B,ALUNO_DE_GRADUAÇÃO!A134,Matriculados!A:A,1)","v":136},{"$f":"SUMIFS(Matriculados!E:E,Matriculados!B:B,ALUNO_DE_GRADUAÇÃO!A134,Matriculados!A:A,2)","v":121},128.5]
[{"$f":"ALUNO_GRAD_TEMPO_INTEGRAL!A135","v":"SERVIÇO SOCIAL - 19A"},{"$f":"ALUNO_GRAD_TEMPO_INTEGRAL!B135","v":13107},{"$f":"SUMIFS(Matriculados!E:E,Matriculados!B:B,ALUNO_DE_GRADUAÇÃO!A135,Matriculados!A:A,1)","v":159},{"$f":"SUMIFS(Matriculados!E:E,Matriculados!B:B,ALUNO_DE_GRADUAÇÃO!A135,Matriculados!A:A,2)","v":155},157]
[{"$f":"ALUNO_GRAD_TEMPO_INTEGRAL!A136","v":"SERVIÇO SOCIAL - 68A"},{"$f":"ALUNO_GRAD_TEMPO_INTEGRAL!B136","v":13107},{"$f":"SUMIFS(Matriculados!E:E,Matriculados!B:B,ALUNO_DE_GRADUAÇÃO!A136,Matriculados!A:A,1)","v":159},{"$f":"SUMIFS(Matriculados!E:E,Matriculados!B:B,ALUNO_DE_GRADUAÇÃO!A136,Matriculados!A:A,2)","v":182},170.5]
[{"$f":"ALUNO_GRAD_TEMPO_INTEGRAL!A137","v":"SISTEMAS DE INFORMAÇÃO - 76A"},{"$f":"ALUNO_GRAD_TEMPO_INTEGRAL!B137","v":1128364},{"$f":"SUMIFS(Matriculados!E:E,Matriculados!B:B,ALUNO_DE_GRADUAÇÃO!A137,Matriculados!A:A,1)","v":156},{"$f":"SUMIFS(Matriculados!E:E,Matriculados!B:B,ALUNO_DE_GRADUAÇÃO!A137,Matriculados!A:A,2)","v":181},168.5]
[{"$f":"ALUNO_GRAD_TEMPO_INTEGRAL!A138","v":"TURISMO - 72D"},{"$f":"ALUNO_GRAD_TEMPO_INTEGRAL!B138","v":21589},{"$f":"SUMIFS(Matriculados!E:E,Matriculados!B:B,ALUNO_DE_GRADUAÇÃO!A138,Matriculados!A:A,1)","v":19},{"$f":"SUMIFS(Matriculados!E:E,Matriculados!B:B,ALUNO_DE_GRADUAÇÃO!A138,Matriculados!A:A,2)","v":13},16]
[{"$f":"ALUNO_GRAD_TEMPO_INTEGRAL!A139","v":"TURISMO - 73D"},{"$f":"ALUNO_GRAD_TEMPO_INTEGRAL!B139","v":21589},{"$f":"SUMIFS(Matriculados!E:E,Matriculados!B:B,ALUNO_DE_GRADUAÇÃO!A139,Matriculados!A:A,1)","v":22},{"$f":"SUMIFS(Matriculados!E:E,Matriculados!B:B,ALUNO_DE_GRADUAÇÃO!A139,Matriculados!A:A,2)","v":15},18.5]
[{"$f":"ALUNO_GRAD_TEMPO_INTEGRAL!A140","v":"TURISMO - 92A"},{"$f":"ALUNO_GRAD_TEMPO_INTEGRAL!B140","v":21589},{"$f":"SUMIFS(Matriculados!E:E,Matriculados!B:B,ALUNO_DE_GRADUAÇÃO!A140,Matriculados!A:A,1)","v":140},{"$f":"SUMIFS(Matriculados!E:E,Matriculados!B:B,ALUNO_DE_GRADUAÇÃO!A140,Matriculados!A:A,2)","v":108},124]
[{"$f":"ALUNO_GRAD_TEMPO_INTEGRAL!A141","v":"TURISMO - 93A"},{"$f":"ALUNO_GRAD_TEMPO_INTEGRAL!B141","v":21589},{"$f":"SUMIFS(Matriculados!E:E,Matriculados!B:B,ALUNO_DE_GRADUAÇÃO!A141,Matriculados!A:A,1)","v":100},{"$f":"SUMIFS(Matriculados!E:E,Matriculados!B:B,ALUNO_DE_GRADUAÇÃO!A141,Matriculados!A:A,2)","v":122},111]
[null,null,{"$f":"SUM(C4:C141)","v":23176},{"$f":"SUM(D4:D141)","v":19221},21198.5]

{"sheet":"ALUNO_EQUIV_GRADUAÇÃO","index":10,"n_rows":142,"n_cols":14,"rows_kept":142,"cut":false,"hidden":false,"merged":[[0,0,0,6],[1,0,1,6],[51,10,51,11],[6,9,6,11],[51,12,51,13],[49,21,49,27],[33,9,33,19],[42,21,42,27],[43,21,43,27],[46,21,46,27],[47,21,47,27],[34,9,34,19],[48,21,48,27],[80,12,80,13],[79,12,79,13],[52,12,52,13],[84,10,84,13],[79,10,79,11],[52,10,52,11],[81,10,81,11],[78,10,78,13],[81,12,81,13],[80,10,80,11],[85,10,85,11],[82,10,82,11],[82,12,82,13],[106,13,106,21],[102,13,102,21],[103,13,103,21],[104,13,104,21],[105,13,105,21],[88,10,88,11],[88,12,88,13],[87,12,87,13],[87,10,87,11],[86,12,86,13],[85,12,85,13],[86,10,86,11]]}
["COMPONENTE ",null,null,null,null,null,null,null,null,2017,2018,2019,2020,2021]
["ALUNO EQUIVALENTE DE GRADUAÇÃO",null,null,null,null,null,null,null,null,24860,25188,27646.524999999991,29985.690999999992,{"$f":"G142","v":27663.625999999989}]
["CURSO","NÚMERO DE DIPLOMADOS  (NDI)","DURAÇÃO DO CURSO  (DPC)","FATOR DE RETENÇÃO ","INGRESSANTES NO ANO (NI)","PESO DO GRUPO ","AEG"]
[{"$f":"ALUNO_GRAD_TEMPO_INTEGRAL!A4","v":"ABI - CIÊNCIAS BIOLÓGICAS - 01ABI"},{"$f":"ALUNO_GRAD_TEMPO_INTEGRAL!C4","v":0},{"$f":"ALUNO_GRAD_TEMPO_INTEGRAL!D4","v":4},{"$f":"ALUNO_GRAD_TEMPO_INTEGRAL!E4","v":0.125},{"$f":"ALUNO_GRAD_TEMPO_INTEGRAL!F4","v":60},{"$f":"VLOOKUP(A4,Parametros!A:E,5,0)","v":2},{"$f":"IFERROR(SUM(((B4*C4)*(1+D4)+((E4-B4)/4)*C4)*F4),0)","v":120}]
[{"$f":"ALUNO_GRAD_TEMPO_INTEGRAL!A5","v":"ABI - EDUCAÇÃO FÍSICA - 21ABI"},{"$f":"ALUNO_GRAD_TEMPO_INTEGRAL!C5","v":0},{"$f":"ALUNO_GRAD_TEMPO_INTEGRAL!D5","v":5},{"$f":"ALUNO_GRAD_TEMPO_INTEGRAL!E5","v":6.6000000000000003E-2},{"$f":"ALUNO_GRAD_TEMPO_INTEGRAL!F5","v":99},{"$f":"VLOOKUP(A5,Parametros!A:E,5,0)","v":1.5},{"$f":"IFERROR(SUM(((B5*C5)*(1+D5)+((E5-B5)/4)*C5)*F5),0)","v":185.625}]
[{"$f":"ALUNO_GRAD_TEMPO_INTEGRAL!A6","v":"ABI - FILOSOFIA - 08ABI"},{"$f":"ALUNO_GRAD_TEMPO_INTEGRAL!C6","v":0},{"$f":"ALUNO_GRAD_TEMPO_INTEGRAL!D6","v":4},{"$f":"ALUNO_GRAD_TEMPO_INTEGRAL!E6","v":0.1},{"$f":"ALUNO_GRAD_TEMPO_INTEGRAL!F6","v":30},{"$f":"VLOOKUP(A6,Parametros!A:E,5,0)","v":1},30]
[{"$f":"ALUNO_GRAD_TEMPO_INTEGRAL!A7","v":"ABI - GEOGRAFIA - 10ABI"},{"$f":"ALUNO_GRAD_TEMPO_INTEGRAL!C7","v":0},{"$f":"ALUNO_GRAD_TEMPO_INTEGRAL!D7","v":4},{"$f":"ALUNO_GRAD_TEMPO_INTEGRAL!E7","v":0.1},{"$f":"ALUNO_GRAD_TEMPO_INTEGRAL!F7","v":43},{"$f":"VLOOKUP(A7,Parametros!A:E,5,0)","v":1},43,null,null," "]
[{"$f":"ALUNO_GRAD_TEMPO_INTEGRAL!A8","v":"ABI - GEOGRAFIA - 27ABI"},{"$f":"ALUNO_GRAD_TEMPO_INTEGRAL!C8","v":0},{"$f":"ALUNO_GRAD_TEMPO_INTEGRAL!D8","v":4},{"$f":"ALUNO_GRAD_TEMPO_INTEGRAL!E8","v":0.1},{"$f":"ALUNO_GRAD_TEMPO_INTEGRAL!F8","v":0},{"$f":"VLOOKUP(A8,Parametros!A:E,5,0)","v":1},0,null,null," ",null," "]
[{"$f":"ALUNO_GRAD_TEMPO_INTEGRAL!A9","v":"ABI - HISTÓRIA - 11ABI"},{"$f":"ALUNO_GRAD_TEMPO_INTEGRAL!C9","v":0},{"$f":"ALUNO_GRAD_TEMPO_INTEGRAL!D9","v":4},{"$f":"ALUNO_GRAD_TEMPO_INTEGRAL!E9","v":0.1},{"$f":"ALUNO_GRAD_TEMPO_INTEGRAL!F9","v":48},{"$f":"VLOOKUP(A9,Parametros!A:E,5,0)","v":1},48]
[{"$f":"ALUNO_GRAD_TEMPO_INTEGRAL!A10","v":"ABI - HISTÓRIA - 28ABI"},{"$f":"ALUNO_GRAD_TEMPO_INTEGRAL!C10","v":0},{"$f":"ALUNO_GRAD_TEMPO_INTEGRAL!D10","v":4},{"$f":"ALUNO_GRAD_TEMPO_INTEGRAL!E10","v":0.1},{"$f":"ALUNO_GRAD_TEMPO_INTEGRAL!F10","v":48},{"$f":"VLOOKUP(A10,Parametros!A:E,5,0)","v":1},48]
[{"$f":"ALUNO_GRAD_TEMPO_INTEGRAL!A11","v":"ABI - LETRAS - 13ABI"},{"$f":"ALUNO_GRAD_TEMPO_INTEGRAL!C11","v":0},{"$f":"ALUNO_GRAD_TEMPO_INTEGRAL!D11","v":4},{"$f":"ALUNO_GRAD_TEMPO_INTEGRAL!E11","v":0.115},{"$f":"ALUNO_GRAD_TEMPO_INTEGRAL!F11","v":44},{"$f":"VLOOKUP(A11,Parametros!A:E,5,0)","v":1},44]
[{"$f":"ALUNO_GRAD_TEMPO_INTEGRAL!A12","v":"ABI - LETRAS - 29ABI"},{"$f":"ALUNO_GRAD_TEMPO_INTEGRAL!C12","v":0},{"$f":"ALUNO_GRAD_TEMPO_INTEGRAL!D12","v":4},{"$f":"ALUNO_GRAD_TEMPO_INTEGRAL!E12","v":0.115},{"$f":"ALUNO_GRAD_TEMPO_INTEGRAL!F12","v":1},{"$f":"VLOOKUP(A12,Parametros!A:E,5,0)","v":1},1]
[{"$f":"ALUNO_GRAD_TEMPO_INTEGRAL!A13","v":"ADMINISTRAÇÃO - 01GV"},{"$f":"ALUNO_GRAD_TEMPO_INTEGRAL!C13","v":14},{"$f":"ALUNO_GRAD_TEMPO_INTEGRAL!D13","v":4},{"$f":"ALUNO_GRAD_TEMPO_INTEGRAL!E13","v":0.12},{"$f":"ALUNO_GRAD_TEMPO_INTEGRAL!F13","v":73},{"$f":"VLOOKUP(A13,Parametros!A:E,5,0)","v":1},121.72]
[{"$f":"ALUNO_GRAD_TEMPO_INTEGRAL!A14","v":"ADMINISTRAÇÃO - 26A"},{"$f":"ALUNO_GRAD_TEMPO_INTEGRAL!C14","v":20},{"$f":"ALUNO_GRAD_TEMPO_INTEGRAL!D14","v":4},{"$f":"ALUNO_GRAD_TEMPO_INTEGRAL!E14","v":0.12},{"$f":"ALUNO_GRAD_TEMPO_INTEGRAL!F14","v":43},{"$f":"VLOOKUP(A14,Parametros!A:E,5,0)","v":1},112.60000000000001]
[{"$f":"ALUNO_GRAD_TEMPO_INTEGRAL!A15","v":"ADMINISTRAÇÃO - 46A"},{"$f":"ALUNO_GRAD_TEMPO_INTEGRAL!C15","v":17},{"$f":"ALUNO_GRAD_TEMPO_INTEGRAL!D15","v":4},{"$f":"ALUNO_GRAD_TEMPO_INTEGRAL!E15","v":0.12},{"$f":"ALUNO_GRAD_TEMPO_INTEGRAL!F15","v":41},{"$f":"VLOOKUP(A15,Parametros!A:E,5,0)","v":1},100.16000000000001]
[{"$f":"ALUNO_GRAD_TEMPO_INTEGRAL!A16","v":"ARQUITETURA E URBANISMO - 33A"},{"$f":"ALUNO_GRAD_TEMPO_INTEGRAL!C16","v":52},{"$f":"ALUNO_GRAD_TEMPO_INTEGRAL!D16","v":4},{"$f":"ALUNO_GRAD_TEMPO_INTEGRAL!E16","v":0.12},{"$f":"ALUNO_GRAD_TEMPO_INTEGRAL!F16","v":84},{"$f":"VLOOKUP(A16,Parametros!A:E,5,0)","v":1.5},397.44000000000005]
[{"$f":"ALUNO_GRAD_TEMPO_INTEGRAL!A17","v":"BACHARELADO EM ARTES VISUAIS - 66C"},{"$f":"ALUNO_GRAD_TEMPO_INTEGRAL!C17","v":5},{"$f":"ALUNO_GRAD_TEMPO_INTEGRAL!D17","v":2},{"$f":"ALUNO_GRAD_TEMPO_INTEGRAL!E17","v":0.1},{"$f":"ALUNO_GRAD_TEMPO_INTEGRAL!F17","v":52},{"$f":"VLOOKUP(A17,Parametros!A:E,5,0)","v":1.5},51.75]
[{"$f":"ALUNO_GRAD_TEMPO_INTEGRAL!A18","v":"BACHARELADO EM CINEMA E AUDIOVISUAL - 66B"},{"$f":"ALUNO_GRAD_TEMPO_INTEGRAL!C18","v":18},{"$f":"ALUNO_GRAD_TEMPO_INTEGRAL!D18","v":2},{"$f":"ALUNO_GRAD_TEMPO_INTEGRAL!E18","v":0.1},{"$f":"ALUNO_GRAD_TEMPO_INTEGRAL!F18","v":52},{"$f":"VLOOKUP(A18,Parametros!A:E,5,0)","v":1.5},84.9]
[{"$f":"ALUNO_GRAD_TEMPO_INTEGRAL!A19","v":"BACHARELADO EM DESIGN - 66D"},{"$f":"ALUNO_GRAD_TEMPO_INTEGRAL!C19","v":15},{"$f":"ALUNO_GRAD_TEMPO_INTEGRAL!D19","v":2},{"$f":"ALUNO_GRAD_TEMPO_INTEGRAL!E19","v":0.1},{"$f":"ALUNO_GRAD_TEMPO_INTEGRAL!F19","v":49},{"$f":"VLOOKUP(A19,Parametros!A:E,5,0)","v":1.5},75]
[{"$f":"ALUNO_GRAD_TEMPO_INTEGRAL!A20","v":"BACHARELADO EM MODA - 66E"},{"$f":"ALUNO_GRAD_TEMPO_INTEGRAL!C20","v":12},{"$f":"ALUNO_GRAD_TEMPO_INTEGRAL!D20","v":2},{"$f":"ALUNO_GRAD_TEMPO_INTEGRAL!E20","v":0.1},{"$f":"ALUNO_GRAD_TEMPO_INTEGRAL!F20","v":48},{"$f":"VLOOKUP(A20,Parametros!A:E,5,0)","v":1.5},66.600000000000009]
[{"$f":"ALUNO_GRAD_TEMPO_INTEGRAL!A21","v":"BACHARELADO INTERDISCIPLINAR EM ARTES E DESIGN - 66A"},{"$f":"ALUNO_GRAD_TEMPO_INTEGRAL!C21","v":114},{"$f":"ALUNO_GRAD_TEMPO_INTEGRAL!D21","v":3},{"$f":"ALUNO_GRAD_TEMPO_INTEGRAL!E21","v":0.1},{"$f":"ALUNO_GRAD_TEMPO_INTEGRAL!F21","v":0},{"$f":"VLOOKUP(A21,Parametros!A:E,5,0)","v":1.5},436.05000000000007]
[{"$f":"ALUNO_GRAD_TEMPO_INTEGRAL!A22","v":"BACHARELADO INTERDISCIPLINAR EM CIÊNCIAS HUMANAS - 72A"},{"$f":"ALUNO_GRAD_TEMPO_INTEGRAL!C22","v":39},{"$f":"ALUNO_GRAD_TEMPO_INTEGRAL!D22","v":3},{"$f":"ALUNO_GRAD_TEMPO_INTEGRAL!E22","v":0.1},{"$f":"ALUNO_GRAD_TEMPO_INTEGRAL!F22","v":157},{"$f":"VLOOKUP(A22,Parametros!A:E,5,0)","v":1},217.20000000000002]
[{"$f":"ALUNO_GRAD_TEMPO_INTEGRAL!A23","v":"BACHARELADO INTERDISCIPLINAR EM CIÊNCIAS HUMANAS - 73A"},{"$f":"ALUNO_GRAD_TEMPO_INTEGRAL!C23","v":37},{"$f":"ALUNO_GRAD_TEMPO_INTEGRAL!D23","v":3},{"$f":"ALUNO_GRAD_TEMPO_INTEGRAL!E23","v":0.1},{"$f":"ALUNO_GRAD_TEMPO_INTEGRAL!F23","v":151},{"$f":"VLOOKUP(A23,Parametros!A:E,5,0)","v":1},207.60000000000002]
[{"$f":"ALUNO_GRAD_TEMPO_INTEGRAL!A24","v":"CIÊNCIA DA COMPUTAÇÃO - 35A"},{"$f":"ALUNO_GRAD_TEMPO_INTEGRAL!C24","v":5},{"$f":"ALUNO_GRAD_TEMPO_INTEGRAL!D24","v":4},{"$f":"ALUNO_GRAD_TEMPO_INTEGRAL!E24","v":0.13250000000000001},{"$f":"ALUNO_GRAD_TEMPO_INTEGRAL!F24","v":41},{"$f":"VLOOKUP(A24,Parametros!A:E,5,0)","v":1.5},87.975000000000009]
[{"$f":"ALUNO_GRAD_TEMPO_INTEGRAL!A25","v":"CIÊNCIA DA COMPUTAÇÃO - 65C"},{"$f":"ALUNO_GRAD_TEMPO_INTEGRAL!C25","v":12},{"$f":"ALUNO_GRAD_TEMPO_INTEGRAL!D25","v":2},{"$f":"ALUNO_GRAD_TEMPO_INTEGRAL!E25","v":0.13250000000000001},{"$f":"ALUNO_GRAD_TEMPO_INTEGRAL!F25","v":22},{"$f":"VLOOKUP(A25,Parametros!A:E,5,0)","v":1.5},48.269999999999996]
[{"$f":"ALUNO_GRAD_TEMPO_INTEGRAL!A26","v":"CIÊNCIA DA RELIGIÃO - 72B"},{"$f":"ALUNO_GRAD_TEMPO_INTEGRAL!C26","v":1},{"$f":"ALUNO_GRAD_TEMPO_INTEGRAL!D26","v":2},{"$f":"ALUNO_GRAD_TEMPO_INTEGRAL!E26","v":0.1},{"$f":"ALUNO_GRAD_TEMPO_INTEGRAL!F26","v":0},{"$f":"VLOOKUP(A26,Parametros!A:E,5,0)","v":1},1.7000000000000002]
[{"$f":"ALUNO_GRAD_TEMPO_INTEGRAL!A27","v":"CIÊNCIA DA RELIGIÃO - 72BL"},{"$f":"ALUNO_GRAD_TEMPO_INTEGRAL!C27","v":1},{"$f":"ALUNO_GRAD_TEMPO_INTEGRAL!D27","v":2},{"$f":"ALUNO_GRAD_TEMPO_INTEGRAL!E27","v":0.1},{"$f":"ALUNO_GRAD_TEMPO_INTEGRAL!F27","v":0},{"$f":"VLOOKUP(A27,Parametros!A:E,5,0)","v":1},1.7000000000000002]
[{"$f":"ALUNO_GRAD_TEMPO_INTEGRAL!A28","v":"CIÊNCIA DA RELIGIÃO - 73B"},{"$f":"ALUNO_GRAD_TEMPO_INTEGRAL!C28","v":5},{"$f":"ALUNO_GRAD_TEMPO_INTEGRAL!D28","v":2},{"$f":"ALUNO_GRAD_TEMPO_INTEGRAL!E28","v":0.1},{"$f":"ALUNO_GRAD_TEMPO_INTEGRAL!F28","v":1},{"$f":"VLOOKUP(A28,Parametros!A:E,5,0)","v":1},9]
[{"$f":"ALUNO_GRAD_TEMPO_INTEGRAL!A29","v":"CIÊNCIA DA RELIGIÃO - 73BL"},{"$f":"ALUNO_GRAD_TEMPO_INTEGRAL!C29","v":1},{"$f":"ALUNO_GRAD_TEMPO_INTEGRAL!D29","v":2},{"$f":"ALUNO_GRAD_TEMPO_INTEGRAL!E29","v":0.1},{"$f":"ALUNO_GRAD_TEMPO_INTEGRAL!F29","v":0},{"$f":"VLOOKUP(A29,Parametros!A:E,5,0)","v":1},1.7000000000000002]
[{"$f":"ALUNO_GRAD_TEMPO_INTEGRAL!A30","v":"CIÊNCIAS BIOLÓGICAS - 01A"},{"$f":"ALUNO_GRAD_TEMPO_INTEGRAL!C30","v":0},{"$f":"ALUNO_GRAD_TEMPO_INTEGRAL!D30","v":4},{"$f":"ALUNO_GRAD_TEMPO_INTEGRAL!E30","v":0.125},{"$f":"ALUNO_GRAD_TEMPO_INTEGRAL!F30","v":0},{"$f":"VLOOKUP(A30,Parametros!A:E,5,0)","v":2},0]
[{"$f":"ALUNO_GRAD_TEMPO_INTEGRAL!A31","v":"CIÊNCIAS BIOLÓGICAS - 01B"},{"$f":"ALUNO_GRAD_TEMPO_INTEGRAL!C31","v":13},{"$f":"ALUNO_GRAD_TEMPO_INTEGRAL!D31","v":4},{"$f":"ALUNO_GRAD_TEMPO_INTEGRAL!E31","v":0.125},{"$f":"ALUNO_GRAD_TEMPO_INTEGRAL!F31","v":1},{"$f":"VLOOKUP(A31,Parametros!A:E,5,0)","v":2},93]
[{"$f":"ALUNO_GRAD_TEMPO_INTEGRAL!A32","v":"CIÊNCIAS BIOLÓGICAS - 01L"},{"$f":"ALUNO_GRAD_TEMPO_INTEGRAL!C32","v":34},{"$f":"ALUNO_GRAD_TEMPO_INTEGRAL!D32","v":4},{"$f":"ALUNO_GRAD_TEMPO_INTEGRAL!E32","v":0.125},{"$f":"ALUNO_GRAD_TEMPO_INTEGRAL!F32","v":0},{"$f":"VLOOKUP(A32,Parametros!A:E,5,0)","v":2},238]
[{"$f":"ALUNO_GRAD_TEMPO_INTEGRAL!A33","v":"CIÊNCIAS CONTÁBEIS - 02GV"},{"$f":"ALUNO_GRAD_TEMPO_INTEGRAL!C33","v":10},{"$f":"ALUNO_GRAD_TEMPO_INTEGRAL!D33","v":4},{"$f":"ALUNO_GRAD_TEMPO_INTEGRAL!E33","v":0.12},{"$f":"ALUNO_GRAD_TEMPO_INTEGRAL!F33","v":44},{"$f":"VLOOKUP(A33,Parametros!A:E,5,0)","v":1},78.800000000000011]
[{"$f":"ALUNO_GRAD_TEMPO_INTEGRAL!A34","v":"CIÊNCIAS CONTÁBEIS - 77A"},{"$f":"ALUNO_GRAD_TEMPO_INTEGRAL!C34","v":22},{"$f":"ALUNO_GRAD_TEMPO_INTEGRAL!D34","v":4},{"$f":"ALUNO_GRAD_TEMPO_INTEGRAL!E34","v":0.12},{"$f":"ALUNO_GRAD_TEMPO_INTEGRAL!F34","v":44},{"$f":"VLOOKUP(A34,Parametros!A:E,5,0)","v":1},120.56,null,null,"FÓRMULA PARA CÁLCULO DO ALUNO EQUIVALENTE DE CADA CURSO (AGE  TOTAL= SOMA DE AGE DE TODOS OS CURSOS)"]
[{"$f":"ALUNO_GRAD_TEMPO_INTEGRAL!A35","v":"CIÊNCIAS CONTÁBEIS - 78A"},{"$f":"ALUNO_GRAD_TEMPO_INTEGRAL!C35","v":18},{"$f":"ALUNO_GRAD_TEMPO_INTEGRAL!D35","v":4},{"$f":"ALUNO_GRAD_TEMPO_INTEGRAL!E35","v":0.12},{"$f":"ALUNO_GRAD_TEMPO_INTEGRAL!F35","v":43},{"$f":"VLOOKUP(A35,Parametros!A:E,5,0)","v":1},105.64000000000001,null,null,"AGE = { (NDI  DPC)(1+ [Fator de Retenção]) + ((NI - NDI)/4)  DPC}* [Peso do grupo em que se insere o curso]"]
[{"$f":"ALUNO_GRAD_TEMPO_INTEGRAL!A36","v":"CIÊNCIAS ECONÔMICAS - 03GV"},{"$f":"ALUNO_GRAD_TEMPO_INTEGRAL!C36","v":14},{"$f":"ALUNO_GRAD_TEMPO_INTEGRAL!D36","v":4},{"$f":"ALUNO_GRAD_TEMPO_INTEGRAL!E36","v":0.12},{"$f":"ALUNO_GRAD_TEMPO_INTEGRAL!F36","v":66},{"$f":"VLOOKUP(A36,Parametros!A:E,5,0)","v":1},114.72]
[{"$f":"ALUNO_GRAD_TEMPO_INTEGRAL!A37","v":"CIÊNCIAS ECONÔMICAS - 05A"},{"$f":"ALUNO_GRAD_TEMPO_INTEGRAL!C37","v":19},{"$f":"ALUNO_GRAD_TEMPO_INTEGRAL!D37","v":4},{"$f":"ALUNO_GRAD_TEMPO_INTEGRAL!E37","v":0.12},{"$f":"ALUNO_GRAD_TEMPO_INTEGRAL!F37","v":56},{"$f":"VLOOKUP(A37,Parametros!A:E,5,0)","v":1},122.12,null,null,"NDI = Número de diplomados, no ano letivo referente ao exercício, em cada curso"]
[{"$f":"ALUNO_GRAD_TEMPO_INTEGRAL!A38","v":"CIÊNCIAS ECONÔMICAS - 51A"},{"$f":"ALUNO_GRAD_TEMPO_INTEGRAL!C38","v":27},{"$f":"ALUNO_GRAD_TEMPO_INTEGRAL!D38","v":4},{"$f":"ALUNO_GRAD_TEMPO_INTEGRAL!E38","v":0.12},{"$f":"ALUNO_GRAD_TEMPO_INTEGRAL!F38","v":53},{"$f":"VLOOKUP(A38,Parametros!A:E,5,0)","v":1},146.96]
[{"$f":"ALUNO_GRAD_TEMPO_INTEGRAL!A39","v":"CIÊNCIAS EXATAS - 65A"},{"$f":"ALUNO_GRAD_TEMPO_INTEGRAL!C39","v":81},{"$f":"ALUNO_GRAD_TEMPO_INTEGRAL!D39","v":3},{"$f":"ALUNO_GRAD_TEMPO_INTEGRAL!E39","v":0.1},{"$f":"ALUNO_GRAD_TEMPO_INTEGRAL!F39","v":253},{"$f":"VLOOKUP(A39,Parametros!A:E,5,0)","v":2},792.6,null,null,"DPC = Duração padrão do curso de acordo com a tabela da SESu"]
[{"$f":"ALUNO_GRAD_TEMPO_INTEGRAL!A40","v":"CIÊNCIAS SOCIAIS - 31B"},{"$f":"ALUNO_GRAD_TEMPO_INTEGRAL!C40","v":0},{"$f":"ALUNO_GRAD_TEMPO_INTEGRAL!D40","v":2},{"$f":"ALUNO_GRAD_TEMPO_INTEGRAL!E40","v":0.1},{"$f":"ALUNO_GRAD_TEMPO_INTEGRAL!F40","v":0},{"$f":"VLOOKUP(A40,Parametros!A:E,5,0)","v":1},0,null,null,"NI = Número de alunos que ingressaram , no ano letivo relativo ao exercício, em cada curso"]
[{"$f":"ALUNO_GRAD_TEMPO_INTEGRAL!A41","v":"CIÊNCIAS SOCIAIS - 31L"},{"$f":"ALUNO_GRAD_TEMPO_INTEGRAL!C41","v":0},{"$f":"ALUNO_GRAD_TEMPO_INTEGRAL!D41","v":2},{"$f":"ALUNO_GRAD_TEMPO_INTEGRAL!E41","v":0.1},{"$f":"ALUNO_GRAD_TEMPO_INTEGRAL!F41","v":0},{"$f":"VLOOKUP(A41,Parametros!A:E,5,0)","v":1},0,null,null,"Fator de Retenção e Peso do grupo calculados de acordo com metodologia da SESu"]
[{"$f":"ALUNO_GRAD_TEMPO_INTEGRAL!A42","v":"CIÊNCIAS SOCIAIS - 72C"},{"$f":"ALUNO_GRAD_TEMPO_INTEGRAL!C42","v":0},{"$f":"ALUNO_GRAD_TEMPO_INTEGRAL!D42","v":2},{"$f":"ALUNO_GRAD_TEMPO_INTEGRAL!E42","v":0.1},{"$f":"ALUNO_GRAD_TEMPO_INTEGRAL!F42","v":0},{"$f":"VLOOKUP(A42,Parametros!A:E,5,0)","v":1},0]
[{"$f":"ALUNO_GRAD_TEMPO_INTEGRAL!A43","v":"CIÊNCIAS SOCIAIS - 72CB"},{"$f":"ALUNO_GRAD_TEMPO_INTEGRAL!C43","v":1},{"$f":"ALUNO_GRAD_TEMPO_INTEGRAL!D43","v":2},{"$f":"ALUNO_GRAD_TEMPO_INTEGRAL!E43","v":0.1},{"$f":"ALUNO_GRAD_TEMPO_INTEGRAL!F43","v":0},{"$f":"VLOOKUP(A43,Parametros!A:E,5,0)","v":1},1.7000000000000002]
[{"$f":"ALUNO_GRAD_TEMPO_INTEGRAL!A44","v":"CIÊNCIAS SOCIAIS - 72CL"},{"$f":"ALUNO_GRAD_TEMPO_INTEGRAL!C44","v":1},{"$f":"ALUNO_GRAD_TEMPO_INTEGRAL!D44","v":2},{"$f":"ALUNO_GRAD_TEMPO_INTEGRAL!E44","v":0.1},{"$f":"ALUNO_GRAD_TEMPO_INTEGRAL!F44","v":0},{"$f":"VLOOKUP(A44,Parametros!A:E,5,0)","v":1},1.7000000000000002]
[{"$f":"ALUNO_GRAD_TEMPO_INTEGRAL!A45","v":"CIÊNCIAS SOCIAIS - 73C"},{"$f":"ALUNO_GRAD_TEMPO_INTEGRAL!C45","v":0},{"$f":"ALUNO_GRAD_TEMPO_INTEGRAL!D45","v":2},{"$f":"ALUNO_GRAD_TEMPO_INTEGRAL!E45","v":0.1},{"$f":"ALUNO_GRAD_TEMPO_INTEGRAL!F45","v":0},{"$f":"VLOOKUP(A45,Parametros!A:E,5,0)","v":1},0]
[{"$f":"ALUNO_GRAD_TEMPO_INTEGRAL!A46","v":"CIÊNCIAS SOCIAIS - 73CB"},{"$f":"ALUNO_GRAD_TEMPO_INTEGRAL!C46","v":13},{"$f":"ALUNO_GRAD_TEMPO_INTEGRAL!D46","v":2},{"$f":"ALUNO_GRAD_TEMPO_INTEGRAL!E46","v":0.1},{"$f":"ALUNO_GRAD_TEMPO_INTEGRAL!F46","v":0},{"$f":"VLOOKUP(A46,Parametros!A:E,5,0)","v":1},22.1]
[{"$f":"ALUNO_GRAD_TEMPO_INTEGRAL!A47","v":"CIÊNCIAS SOCIAIS - 73CL"},{"$f":"ALUNO_GRAD_TEMPO_INTEGRAL!C47","v":9},{"$f":"ALUNO_GRAD_TEMPO_INTEGRAL!D47","v":2},{"$f":"ALUNO_GRAD_TEMPO_INTEGRAL!E47","v":0.1},{"$f":"ALUNO_GRAD_TEMPO_INTEGRAL!F47","v":0},{"$f":"VLOOKUP(A47,Parametros!A:E,5,0)","v":1},15.3]
[{"$f":"ALUNO_GRAD_TEMPO_INTEGRAL!A48","v":"DIREITO - 04A"},{"$f":"ALUNO_GRAD_TEMPO_INTEGRAL!C48","v":96},{"$f":"ALUNO_GRAD_TEMPO_INTEGRAL!D48","v":5},{"$f":"ALUNO_GRAD_TEMPO_INTEGRAL!E48","v":0.12},{"$f":"ALUNO_GRAD_TEMPO_INTEGRAL!F48","v":108},{"$f":"VLOOKUP(A48,Parametros!A:E,5,0)","v":1},552.6]
[{"$f":"ALUNO_GRAD_TEMPO_INTEGRAL!A49","v":"DIREITO - 04GV"},{"$f":"ALUNO_GRAD_TEMPO_INTEGRAL!C49","v":88},{"$f":"ALUNO_GRAD_TEMPO_INTEGRAL!D49","v":5},{"$f":"ALUNO_GRAD_TEMPO_INTEGRAL!E49","v":0.12},{"$f":"ALUNO_GRAD_TEMPO_INTEGRAL!F49","v":108},{"$f":"VLOOKUP(A49,Parametros!A:E,5,0)","v":1},517.80000000000007]
[{"$f":"ALUNO_GRAD_TEMPO_INTEGRAL!A50","v":"DIREITO - 34A"},{"$f":"ALUNO_GRAD_TEMPO_INTEGRAL!C50","v":82},{"$f":"ALUNO_GRAD_TEMPO_INTEGRAL!D50","v":5},{"$f":"ALUNO_GRAD_TEMPO_INTEGRAL!E50","v":0.12},{"$f":"ALUNO_GRAD_TEMPO_INTEGRAL!F50","v":107},{"$f":"VLOOKUP(A50,Parametros!A:E,5,0)","v":1},490.45000000000005]
[{"$f":"ALUNO_GRAD_TEMPO_INTEGRAL!A51","v":"EDUCAÇÃO ARTÍSTICA - 03A"},{"$f":"ALUNO_GRAD_TEMPO_INTEGRAL!C51","v":0},{"$f":"ALUNO_GRAD_TEMPO_INTEGRAL!D51","v":4},{"$f":"ALUNO_GRAD_TEMPO_INTEGRAL!E51","v":0.115},{"$f":"ALUNO_GRAD_TEMPO_INTEGRAL!F51","v":0},{"$f":"VLOOKUP(A51,Parametros!A:E,5,0)","v":1.5},0]
[{"$f":"ALUNO_GRAD_TEMPO_INTEGRAL!A52","v":"EDUCAÇÃO FÍSICA - 10GV"},{"$f":"ALUNO_GRAD_TEMPO_INTEGRAL!C52","v":11},{"$f":"ALUNO_GRAD_TEMPO_INTEGRAL!D52","v":5},{"$f":"ALUNO_GRAD_TEMPO_INTEGRAL!E52","v":6.6000000000000003E-2},{"$f":"ALUNO_GRAD_TEMPO_INTEGRAL!F52","v":66},{"$f":"VLOOKUP(A52,Parametros!A:E,5,0)","v":1.5},191.07]
[{"$f":"ALUNO_GRAD_TEMPO_INTEGRAL!A53","v":"EDUCAÇÃO FÍSICA - 21B"},{"$f":"ALUNO_GRAD_TEMPO_INTEGRAL!C53","v":26},{"$f":"ALUNO_GRAD_TEMPO_INTEGRAL!D53","v":5},{"$f":"ALUNO_GRAD_TEMPO_INTEGRAL!E53","v":6.6000000000000003E-2},{"$f":"ALUNO_GRAD_TEMPO_INTEGRAL!F53","v":0},{"$f":"VLOOKUP(A53,Parametros!A:E,5,0)","v":1.5},159.12]
[{"$f":"ALUNO_GRAD_TEMPO_INTEGRAL!A54","v":"EDUCAÇÃO FÍSICA - 21L"},{"$f":"ALUNO_GRAD_TEMPO_INTEGRAL!C54","v":22},{"$f":"ALUNO_GRAD_TEMPO_INTEGRAL!D54","v":5},{"$f":"ALUNO_GRAD_TEMPO_INTEGRAL!E54","v":6.6000000000000003E-2},{"$f":"ALUNO_GRAD_TEMPO_INTEGRAL!F54","v":4},{"$f":"VLOOKUP(A54,Parametros!A:E,5,0)","v":1.5},142.14000000000001]
[{"$f":"ALUNO_GRAD_TEMPO_INTEGRAL!A55","v":"ENFERMAGEM - 23A"},{"$f":"ALUNO_GRAD_TEMPO_INTEGRAL!C55","v":37},{"$f":"ALUNO_GRAD_TEMPO_INTEGRAL!D55","v":5},{"$f":"ALUNO_GRAD_TEMPO_INTEGRAL!E55","v":6.6000000000000003E-2},{"$f":"ALUNO_GRAD_TEMPO_INTEGRAL!F55","v":88},{"$f":"VLOOKUP(A55,Parametros!A:E,5,0)","v":1.5},391.44000000000005]
[{"$f":"ALUNO_GRAD_TEMPO_INTEGRAL!A56","v":"ENFERMAGEM - 23L"},{"$f":"ALUNO_GRAD_TEMPO_INTEGRAL!C56","v":7},{"$f":"ALUNO_GRAD_TEMPO_INTEGRAL!D56","v":5},{"$f":"ALUNO_GRAD_TEMPO_INTEGRAL!E56","v":6.6000000000000003E-2},{"$f":"ALUNO_GRAD_TEMPO_INTEGRAL!F56","v":0},{"$f":"VLOOKUP(A56,Parametros!A:E,5,0)","v":1.5},42.84]
[{"$f":"ALUNO_GRAD_TEMPO_INTEGRAL!A57","v":"ENGENHARIA AMBIENTAL E SANITÁRIA - 67A"},{"$f":"ALUNO_GRAD_TEMPO_INTEGRAL!C57","v":16},{"$f":"ALUNO_GRAD_TEMPO_INTEGRAL!D57","v":5},{"$f":"ALUNO_GRAD_TEMPO_INTEGRAL!E57","v":8.2000000000000003E-2},{"$f":"ALUNO_GRAD_TEMPO_INTEGRAL!F57","v":52},{"$f":"VLOOKUP(A57,Parametros!A:E,5,0)","v":2},263.12]
[{"$f":"ALUNO_GRAD_TEMPO_INTEGRAL!A58","v":"ENGENHARIA CIVIL - 24A"},{"$f":"ALUNO_GRAD_TEMPO_INTEGRAL!C58","v":65},{"$f":"ALUNO_GRAD_TEMPO_INTEGRAL!D58","v":5},{"$f":"ALUNO_GRAD_TEMPO_INTEGRAL!E58","v":8.2000000000000003E-2},{"$f":"ALUNO_GRAD_TEMPO_INTEGRAL!F58","v":100},{"$f":"VLOOKUP(A58,Parametros!A:E,5,0)","v":2},790.80000000000007]
[{"$f":"ALUNO_GRAD_TEMPO_INTEGRAL!A59","v":"ENGENHARIA COMPUTACIONAL - 65B"},{"$f":"ALUNO_GRAD_TEMPO_INTEGRAL!C59","v":8},{"$f":"ALUNO_GRAD_TEMPO_INTEGRAL!D59","v":2},{"$f":"ALUNO_GRAD_TEMPO_INTEGRAL!E59","v":8.2000000000000003E-2},{"$f":"ALUNO_GRAD_TEMPO_INTEGRAL!F59","v":19},{"$f":"VLOOKUP(A59,Parametros!A:E,5,0)","v":2},45.624000000000002]
[{"$f":"ALUNO_GRAD_TEMPO_INTEGRAL!A60","v":"ENGENHARIA DE PRODUÇÃO - 49A"},{"$f":"ALUNO_GRAD_TEMPO_INTEGRAL!C60","v":46},{"$f":"ALUNO_GRAD_TEMPO_INTEGRAL!D60","v":5},{"$f":"ALUNO_GRAD_TEMPO_INTEGRAL!E60","v":8.2000000000000003E-2},{"$f":"ALUNO_GRAD_TEMPO_INTEGRAL!F60","v":59},{"$f":"VLOOKUP(A60,Parametros!A:E,5,0)","v":2},530.22]
[{"$f":"ALUNO_GRAD_TEMPO_INTEGRAL!A61","v":"ENGENHARIA ELÉTRICA - 25A"},{"$f":"ALUNO_GRAD_TEMPO_INTEGRAL!C61","v":0},{"$f":"ALUNO_GRAD_TEMPO_INTEGRAL!D61","v":5},{"$f":"ALUNO_GRAD_TEMPO_INTEGRAL!E61","v":8.2000000000000003E-2},{"$f":"ALUNO_GRAD_TEMPO_INTEGRAL!F61","v":0},{"$f":"VLOOKUP(A61,Parametros!A:E,5,0)","v":2},0]
[{"$f":"ALUNO_GRAD_TEMPO_INTEGRAL!A62","v":"ENGENHARIA ELÉTRICA - 50A"},{"$f":"ALUNO_GRAD_TEMPO_INTEGRAL!C62","v":0},{"$f":"ALUNO_GRAD_TEMPO_INTEGRAL!D62","v":5},{"$f":"ALUNO_GRAD_TEMPO_INTEGRAL!E62","v":8.2000000000000003E-2},{"$f":"ALUNO_GRAD_TEMPO_INTEGRAL!F62","v":0},{"$f":"VLOOKUP(A62,Parametros!A:E,5,0)","v":2},0]
[{"$f":"ALUNO_GRAD_TEMPO_INTEGRAL!A63","v":"ENGENHARIA ELÉTRICA - HAB. EM ROBÓTICA E AUTOMAÇÃO INDUSTRIAL - 65I"},{"$f":"ALUNO_GRAD_TEMPO_INTEGRAL!C63","v":1},{"$f":"ALUNO_GRAD_TEMPO_INTEGRAL!D63","v":2},{"$f":"ALUNO_GRAD_TEMPO_INTEGRAL!E63","v":8.2000000000000003E-2},{"$f":"ALUNO_GRAD_TEMPO_INTEGRAL!F63","v":0},{"$f":"VLOOKUP(A63,Parametros!A:E,5,0)","v":2},3.3280000000000003]
[{"$f":"ALUNO_GRAD_TEMPO_INTEGRAL!A64","v":"ENGENHARIA ELÉTRICA - HAB. EM ROBÓTICA E AUTOMAÇÃO INDUSTRIAL - 69B"},{"$f":"ALUNO_GRAD_TEMPO_INTEGRAL!C64","v":17},{"$f":"ALUNO_GRAD_TEMPO_INTEGRAL!D64","v":5},{"$f":"ALUNO_GRAD_TEMPO_INTEGRAL!E64","v":8.2000000000000003E-2},{"$f":"ALUNO_GRAD_TEMPO_INTEGRAL!F64","v":40},{"$f":"VLOOKUP(A64,Parametros!A:E,5,0)","v":2},241.44000000000003]
[{"$f":"ALUNO_GRAD_TEMPO_INTEGRAL!A65","v":"ENGENHARIA ELÉTRICA - HABILITAÇÃO EM ENERGIA - 65H"},{"$f":"ALUNO_GRAD_TEMPO_INTEGRAL!C65","v":2},{"$f":"ALUNO_GRAD_TEMPO_INTEGRAL!D65","v":2},{"$f":"ALUNO_GRAD_TEMPO_INTEGRAL!E65","v":8.2000000000000003E-2},{"$f":"ALUNO_GRAD_TEMPO_INTEGRAL!F65","v":0},{"$f":"VLOOKUP(A65,Parametros!A:E,5,0)","v":2},6.6560000000000006]
[{"$f":"ALUNO_GRAD_TEMPO_INTEGRAL!A66","v":"ENGENHARIA ELÉTRICA - HABILITAÇÃO EM ENERGIA - 70A"},{"$f":"ALUNO_GRAD_TEMPO_INTEGRAL!C66","v":20},{"$f":"ALUNO_GRAD_TEMPO_INTEGRAL!D66","v":5},{"$f":"ALUNO_GRAD_TEMPO_INTEGRAL!E66","v":8.2000000000000003E-2},{"$f":"ALUNO_GRAD_TEMPO_INTEGRAL!F66","v":45},{"$f":"VLOOKUP(A66,Parametros!A:E,5,0)","v":2},278.89999999999998]
[{"$f":"ALUNO_GRAD_TEMPO_INTEGRAL!A67","v":"ENGENHARIA ELÉTRICA - HABILITAÇÃO EM SISTEMAS DE POTÊNCIA - 65J"},{"$f":"ALUNO_GRAD_TEMPO_INTEGRAL!C67","v":4},{"$f":"ALUNO_GRAD_TEMPO_INTEGRAL!D67","v":2},{"$f":"ALUNO_GRAD_TEMPO_INTEGRAL!E67","v":8.2000000000000003E-2},{"$f":"ALUNO_GRAD_TEMPO_INTEGRAL!F67","v":0},{"$f":"VLOOKUP(A67,Parametros!A:E,5,0)","v":2},13.312000000000001]
[{"$f":"ALUNO_GRAD_TEMPO_INTEGRAL!A68","v":"ENGENHARIA ELÉTRICA - HABILITAÇÃO EM SISTEMAS DE POTÊNCIA - 69C"},{"$f":"ALUNO_GRAD_TEMPO_INTEGRAL!C68","v":26},{"$f":"ALUNO_GRAD_TEMPO_INTEGRAL!D68","v":5},{"$f":"ALUNO_GRAD_TEMPO_INTEGRAL!E68","v":8.2000000000000003E-2},{"$f":"ALUNO_GRAD_TEMPO_INTEGRAL!F68","v":46},{"$f":"VLOOKUP(A68,Parametros!A:E,5,0)","v":2},331.32]
[{"$f":"ALUNO_GRAD_TEMPO_INTEGRAL!A69","v":"ENGENHARIA ELÉTRICA - HABILITAÇÃO EM SISTEMAS ELETRÔNICOS - 65K"},{"$f":"ALUNO_GRAD_TEMPO_INTEGRAL!C69","v":2},{"$f":"ALUNO_GRAD_TEMPO_INTEGRAL!D69","v":2},{"$f":"ALUNO_GRAD_TEMPO_INTEGRAL!E69","v":8.2000000000000003E-2},{"$f":"ALUNO_GRAD_TEMPO_INTEGRAL!F69","v":0},{"$f":"VLOOKUP(A69,Parametros!A:E,5,0)","v":2},{"$f":"IFERROR(SUM(((B69*C69)*(1+D69)+((E69-B69)/4)*C69)*F69),0)","v":6.6560000000000006}]
[{"$f":"ALUNO_GRAD_TEMPO_INTEGRAL!A70","v":"ENGENHARIA ELÉTRICA - HABILITAÇÃO EM SISTEMAS ELETRÔNICOS - 69A"},{"$f":"ALUNO_GRAD_TEMPO_INTEGRAL!C70","v":17},{"$f":"ALUNO_GRAD_TEMPO_INTEGRAL!D70","v":5},{"$f":"ALUNO_GRAD_TEMPO_INTEGRAL!E70","v":8.2000000000000003E-2},{"$f":"ALUNO_GRAD_TEMPO_INTEGRAL!F70","v":38},{"$f":"VLOOKUP(A70,Parametros!A:E,5,0)","v":2},236.44000000000003]
[{"$f":"ALUNO_GRAD_TEMPO_INTEGRAL!A71","v":"ENGENHARIA ELÉTRICA - HABILITAÇÃO EM TELECOMUNICAÇÕES - 65L"},{"$f":"ALUNO_GRAD_TEMPO_INTEGRAL!C71","v":1},{"$f":"ALUNO_GRAD_TEMPO_INTEGRAL!D71","v":2},{"$f":"ALUNO_GRAD_TEMPO_INTEGRAL!E71","v":8.2000000000000003E-2},{"$f":"ALUNO_GRAD_TEMPO_INTEGRAL!F71","v":0},{"$f":"VLOOKUP(A71,Parametros!A:E,5,0)","v":2},3.3280000000000003]
[{"$f":"ALUNO_GRAD_TEMPO_INTEGRAL!A72","v":"ENGENHARIA ELÉTRICA - HABILITAÇÃO EM TELECOMUNICAÇÕES - 69D"},{"$f":"ALUNO_GRAD_TEMPO_INTEGRAL!C72","v":12},{"$f":"ALUNO_GRAD_TEMPO_INTEGRAL!D72","v":5},{"$f":"ALUNO_GRAD_TEMPO_INTEGRAL!E72","v":8.2000000000000003E-2},{"$f":"ALUNO_GRAD_TEMPO_INTEGRAL!F72","v":49},{"$f":"VLOOKUP(A72,Parametros!A:E,5,0)","v":2},222.34]
[{"$f":"ALUNO_GRAD_TEMPO_INTEGRAL!A73","v":"ENGENHARIA MECÂNICA - 65M"},{"$f":"ALUNO_GRAD_TEMPO_INTEGRAL!C73","v":9},{"$f":"ALUNO_GRAD_TEMPO_INTEGRAL!D73","v":2},{"$f":"ALUNO_GRAD_TEMPO_INTEGRAL!E73","v":8.2000000000000003E-2},{"$f":"ALUNO_GRAD_TEMPO_INTEGRAL!F73","v":2},{"$f":"VLOOKUP(A73,Parametros!A:E,5,0)","v":2},31.952000000000005]
[{"$f":"ALUNO_GRAD_TEMPO_INTEGRAL!A74","v":"ENGENHARIA MECÂNICA - 71A"},{"$f":"ALUNO_GRAD_TEMPO_INTEGRAL!C74","v":20},{"$f":"ALUNO_GRAD_TEMPO_INTEGRAL!D74","v":5},{"$f":"ALUNO_GRAD_TEMPO_INTEGRAL!E74","v":8.2000000000000003E-2},{"$f":"ALUNO_GRAD_TEMPO_INTEGRAL!F74","v":46},{"$f":"VLOOKUP(A74,Parametros!A:E,5,0)","v":2},281.39999999999998]
[{"$f":"ALUNO_GRAD_TEMPO_INTEGRAL!A75","v":"ESTATÍSTICA - 65D"},{"$f":"ALUNO_GRAD_TEMPO_INTEGRAL!C75","v":9},{"$f":"ALUNO_GRAD_TEMPO_INTEGRAL!D75","v":2},{"$f":"ALUNO_GRAD_TEMPO_INTEGRAL!E75","v":0.13250000000000001},{"$f":"ALUNO_GRAD_TEMPO_INTEGRAL!F75","v":16},{"$f":"VLOOKUP(A75,Parametros!A:E,5,0)","v":1.5},35.827500000000001]
[{"$f":"ALUNO_GRAD_TEMPO_INTEGRAL!A76","v":"FARMÁCIA - 05GV"},{"$f":"ALUNO_GRAD_TEMPO_INTEGRAL!C76","v":3},{"$f":"ALUNO_GRAD_TEMPO_INTEGRAL!D76","v":5},{"$f":"ALUNO_GRAD_TEMPO_INTEGRAL!E76","v":6.6000000000000003E-2},{"$f":"ALUNO_GRAD_TEMPO_INTEGRAL!F76","v":80},{"$f":"VLOOKUP(A76,Parametros!A:E,5,0)","v":2},224.48]
[{"$f":"ALUNO_GRAD_TEMPO_INTEGRAL!A77","v":"FARMÁCIA - 07A"},{"$f":"ALUNO_GRAD_TEMPO_INTEGRAL!C77","v":28},{"$f":"ALUNO_GRAD_TEMPO_INTEGRAL!D77","v":5},{"$f":"ALUNO_GRAD_TEMPO_INTEGRAL!E77","v":6.6000000000000003E-2},{"$f":"ALUNO_GRAD_TEMPO_INTEGRAL!F77","v":108},{"$f":"VLOOKUP(A77,Parametros!A:E,5,0)","v":2},498.48]
[{"$f":"ALUNO_GRAD_TEMPO_INTEGRAL!A78","v":"FILOSOFIA - 08A"},{"$f":"ALUNO_GRAD_TEMPO_INTEGRAL!C78","v":0},{"$f":"ALUNO_GRAD_TEMPO_INTEGRAL!D78","v":4},{"$f":"ALUNO_GRAD_TEMPO_INTEGRAL!E78","v":0.1},{"$f":"ALUNO_GRAD_TEMPO_INTEGRAL!F78","v":0},{"$f":"VLOOKUP(A78,Parametros!A:E,5,0)","v":1},0]
[{"$f":"ALUNO_GRAD_TEMPO_INTEGRAL!A79","v":"FILOSOFIA - 08B"},{"$f":"ALUNO_GRAD_TEMPO_INTEGRAL!C79","v":11},{"$f":"ALUNO_GRAD_TEMPO_INTEGRAL!D79","v":4},{"$f":"ALUNO_GRAD_TEMPO_INTEGRAL!E79","v":0.1},{"$f":"ALUNO_GRAD_TEMPO_INTEGRAL!F79","v":3},{"$f":"VLOOKUP(A79,Parametros!A:E,5,0)","v":1},40.400000000000006]
[{"$f":"ALUNO_GRAD_TEMPO_INTEGRAL!A80","v":"FILOSOFIA - 08L"},{"$f":"ALUNO_GRAD_TEMPO_INTEGRAL!C80","v":7},{"$f":"ALUNO_GRAD_TEMPO_INTEGRAL!D80","v":4},{"$f":"ALUNO_GRAD_TEMPO_INTEGRAL!E80","v":0.1},{"$f":"ALUNO_GRAD_TEMPO_INTEGRAL!F80","v":7},{"$f":"VLOOKUP(A80,Parametros!A:E,5,0)","v":1},30.800000000000004]
[{"$f":"ALUNO_GRAD_TEMPO_INTEGRAL!A81","v":"FILOSOFIA - 72EB"},{"$f":"ALUNO_GRAD_TEMPO_INTEGRAL!C81","v":1},{"$f":"ALUNO_GRAD_TEMPO_INTEGRAL!D81","v":2},{"$f":"ALUNO_GRAD_TEMPO_INTEGRAL!E81","v":0.1},{"$f":"ALUNO_GRAD_TEMPO_INTEGRAL!F81","v":1},{"$f":"VLOOKUP(A81,Parametros!A:E,5,0)","v":1},2.2000000000000002]
[{"$f":"ALUNO_GRAD_TEMPO_INTEGRAL!A82","v":"FILOSOFIA - 72EL"},{"$f":"ALUNO_GRAD_TEMPO_INTEGRAL!C82","v":2},{"$f":"ALUNO_GRAD_TEMPO_INTEGRAL!D82","v":2},{"$f":"ALUNO_GRAD_TEMPO_INTEGRAL!E82","v":0.1},{"$f":"ALUNO_GRAD_TEMPO_INTEGRAL!F82","v":0},{"$f":"VLOOKUP(A82,Parametros!A:E,5,0)","v":1},3.4000000000000004]
[{"$f":"ALUNO_GRAD_TEMPO_INTEGRAL!A83","v":"FILOSOFIA - 73E"},{"$f":"ALUNO_GRAD_TEMPO_INTEGRAL!C83","v":0},{"$f":"ALUNO_GRAD_TEMPO_INTEGRAL!D83","v":2},{"$f":"ALUNO_GRAD_TEMPO_INTEGRAL!E83","v":0.1},{"$f":"ALUNO_GRAD_TEMPO_INTEGRAL!F83","v":0},{"$f":"VLOOKUP(A83,Parametros!A:E,5,0)","v":1},0]
[{"$f":"ALUNO_GRAD_TEMPO_INTEGRAL!A84","v":"FÍSICA - 09A"},{"$f":"ALUNO_GRAD_TEMPO_INTEGRAL!C84","v":0},{"$f":"ALUNO_GRAD_TEMPO_INTEGRAL!D84","v":4},{"$f":"ALUNO_GRAD_TEMPO_INTEGRAL!E84","v":0.13250000000000001},{"$f":"ALUNO_GRAD_TEMPO_INTEGRAL!F84","v":0},{"$f":"VLOOKUP(A84,Parametros!A:E,5,0)","v":1.5},0]
[{"$f":"ALUNO_GRAD_TEMPO_INTEGRAL!A85","v":"FÍSICA - 65E"},{"$f":"ALUNO_GRAD_TEMPO_INTEGRAL!C85","v":7},{"$f":"ALUNO_GRAD_TEMPO_INTEGRAL!D85","v":2},{"$f":"ALUNO_GRAD_TEMPO_INTEGRAL!E85","v":0.13250000000000001},{"$f":"ALUNO_GRAD_TEMPO_INTEGRAL!F85","v":19},{"$f":"VLOOKUP(A85,Parametros!A:E,5,0)","v":1.5},32.782499999999999]
[{"$f":"ALUNO_GRAD_TEMPO_INTEGRAL!A86","v":"FÍSICA - 65EL"},{"$f":"ALUNO_GRAD_TEMPO_INTEGRAL!C86","v":1},{"$f":"ALUNO_GRAD_TEMPO_INTEGRAL!D86","v":2},{"$f":"ALUNO_GRAD_TEMPO_INTEGRAL!E86","v":0.13250000000000001},{"$f":"ALUNO_GRAD_TEMPO_INTEGRAL!F86","v":0},{"$f":"VLOOKUP(A86,Parametros!A:E,5,0)","v":1.5},2.6475]
[{"$f":"ALUNO_GRAD_TEMPO_INTEGRAL!A87","v":"FÍSICA - 81A"},{"$f":"ALUNO_GRAD_TEMPO_INTEGRAL!C87","v":4},{"$f":"ALUNO_GRAD_TEMPO_INTEGRAL!D87","v":4},{"$f":"ALUNO_GRAD_TEMPO_INTEGRAL!E87","v":0.13250000000000001},{"$f":"ALUNO_GRAD_TEMPO_INTEGRAL!F87","v":18},{"$f":"VLOOKUP(A87,Parametros!A:E,5,0)","v":1.5},48.180000000000007]
[{"$f":"ALUNO_GRAD_TEMPO_INTEGRAL!A88","v":"FISIOTERAPIA - 06GV"},{"$f":"ALUNO_GRAD_TEMPO_INTEGRAL!C88","v":15},{"$f":"ALUNO_GRAD_TEMPO_INTEGRAL!D88","v":5},{"$f":"ALUNO_GRAD_TEMPO_INTEGRAL!E88","v":6.6000000000000003E-2},{"$f":"ALUNO_GRAD_TEMPO_INTEGRAL!F88","v":33},{"$f":"VLOOKUP(A88,Parametros!A:E,5,0)","v":1.5},153.67500000000001]
[{"$f":"ALUNO_GRAD_TEMPO_INTEGRAL!A89","v":"FISIOTERAPIA - 20A"},{"$f":"ALUNO_GRAD_TEMPO_INTEGRAL!C89","v":27},{"$f":"ALUNO_GRAD_TEMPO_INTEGRAL!D89","v":5},{"$f":"ALUNO_GRAD_TEMPO_INTEGRAL!E89","v":6.6000000000000003E-2},{"$f":"ALUNO_GRAD_TEMPO_INTEGRAL!F89","v":50},{"$f":"VLOOKUP(A89,Parametros!A:E,5,0)","v":1.5},258.99]
[{"$f":"ALUNO_GRAD_TEMPO_INTEGRAL!A90","v":"GEOGRAFIA - 10B"},{"$f":"ALUNO_GRAD_TEMPO_INTEGRAL!C90","v":13},{"$f":"ALUNO_GRAD_TEMPO_INTEGRAL!D90","v":4},{"$f":"ALUNO_GRAD_TEMPO_INTEGRAL!E90","v":0.1},{"$f":"ALUNO_GRAD_TEMPO_INTEGRAL!F90","v":1},{"$f":"VLOOKUP(A90,Parametros!A:E,5,0)","v":1},45.2]
[{"$f":"ALUNO_GRAD_TEMPO_INTEGRAL!A91","v":"GEOGRAFIA - 10L"},{"$f":"ALUNO_GRAD_TEMPO_INTEGRAL!C91","v":19},{"$f":"ALUNO_GRAD_TEMPO_INTEGRAL!D91","v":4},{"$f":"ALUNO_GRAD_TEMPO_INTEGRAL!E91","v":0.1},{"$f":"ALUNO_GRAD_TEMPO_INTEGRAL!F91","v":0},{"$f":"VLOOKUP(A91,Parametros!A:E,5,0)","v":1},64.600000000000009]
[{"$f":"ALUNO_GRAD_TEMPO_INTEGRAL!A92","v":"GEOGRAFIA - 27A"},{"$f":"ALUNO_GRAD_TEMPO_INTEGRAL!C92","v":0},{"$f":"ALUNO_GRAD_TEMPO_INTEGRAL!D92","v":4},{"$f":"ALUNO_GRAD_TEMPO_INTEGRAL!E92","v":0.1},{"$f":"ALUNO_GRAD_TEMPO_INTEGRAL!F92","v":0},{"$f":"VLOOKUP(A92,Parametros!A:E,5,0)","v":1},0]
[{"$f":"ALUNO_GRAD_TEMPO_INTEGRAL!A93","v":"GEOGRAFIA - 27L"},{"$f":"ALUNO_GRAD_TEMPO_INTEGRAL!C93","v":19},{"$f":"ALUNO_GRAD_TEMPO_INTEGRAL!D93","v":4},{"$f":"ALUNO_GRAD_TEMPO_INTEGRAL!E93","v":0.1},{"$f":"ALUNO_GRAD_TEMPO_INTEGRAL!F93","v":44},{"$f":"VLOOKUP(A93,Parametros!A:E,5,0)","v":1},108.60000000000001]
[{"$f":"ALUNO_GRAD_TEMPO_INTEGRAL!A94","v":"HISTÓRIA - 11A"},{"$f":"ALUNO_GRAD_TEMPO_INTEGRAL!C94","v":0},{"$f":"ALUNO_GRAD_TEMPO_INTEGRAL!D94","v":4},{"$f":"ALUNO_GRAD_TEMPO_INTEGRAL!E94","v":0.1},{"$f":"ALUNO_GRAD_TEMPO_INTEGRAL!F94","v":0},{"$f":"VLOOKUP(A94,Parametros!A:E,5,0)","v":1},0]
[{"$f":"ALUNO_GRAD_TEMPO_INTEGRAL!A95","v":"HISTÓRIA - 11B"},{"$f":"ALUNO_GRAD_TEMPO_INTEGRAL!C95","v":5},{"$f":"ALUNO_GRAD_TEMPO_INTEGRAL!D95","v":4},{"$f":"ALUNO_GRAD_TEMPO_INTEGRAL!E95","v":0.1},{"$f":"ALUNO_GRAD_TEMPO_INTEGRAL!F95","v":0},{"$f":"VLOOKUP(A95,Parametros!A:E,5,0)","v":1},17]
[{"$f":"ALUNO_GRAD_TEMPO_INTEGRAL!A96","v":"HISTÓRIA - 11L"},{"$f":"ALUNO_GRAD_TEMPO_INTEGRAL!C96","v":32},{"$f":"ALUNO_GRAD_TEMPO_INTEGRAL!D96","v":4},{"$f":"ALUNO_GRAD_TEMPO_INTEGRAL!E96","v":0.1},{"$f":"ALUNO_GRAD_TEMPO_INTEGRAL!F96","v":0},{"$f":"VLOOKUP(A96,Parametros!A:E,5,0)","v":1},108.80000000000001]
[{"$f":"ALUNO_GRAD_TEMPO_INTEGRAL!A97","v":"HISTÓRIA - 28A"},{"$f":"ALUNO_GRAD_TEMPO_INTEGRAL!C97","v":0},{"$f":"ALUNO_GRAD_TEMPO_INTEGRAL!D97","v":4},{"$f":"ALUNO_GRAD_TEMPO_INTEGRAL!E97","v":0.1},{"$f":"ALUNO_GRAD_TEMPO_INTEGRAL!F97","v":0},{"$f":"VLOOKUP(A97,Parametros!A:E,5,0)","v":1},0]
[{"$f":"ALUNO_GRAD_TEMPO_INTEGRAL!A98","v":"HISTÓRIA - 28B"},{"$f":"ALUNO_GRAD_TEMPO_INTEGRAL!C98","v":4},{"$f":"ALUNO_GRAD_TEMPO_INTEGRAL!D98","v":4},{"$f":"ALUNO_GRAD_TEMPO_INTEGRAL!E98","v":0.1},{"$f":"ALUNO_GRAD_TEMPO_INTEGRAL!F98","v":0},{"$f":"VLOOKUP(A98,Parametros!A:E,5,0)","v":1},13.600000000000001]
[{"$f":"ALUNO_GRAD_TEMPO_INTEGRAL!A99","v":"HISTÓRIA - 28L"},{"$f":"ALUNO_GRAD_TEMPO_INTEGRAL!C99","v":22},{"$f":"ALUNO_GRAD_TEMPO_INTEGRAL!D99","v":4},{"$f":"ALUNO_GRAD_TEMPO_INTEGRAL!E99","v":0.1},{"$f":"ALUNO_GRAD_TEMPO_INTEGRAL!F99","v":0},{"$f":"VLOOKUP(A99,Parametros!A:E,5,0)","v":1},74.800000000000011]
[{"$f":"ALUNO_GRAD_TEMPO_INTEGRAL!A100","v":"JORNALISMO - 84A"},{"$f":"ALUNO_GRAD_TEMPO_INTEGRAL!C100","v":11},{"$f":"ALUNO_GRAD_TEMPO_INTEGRAL!D100","v":4},{"$f":"ALUNO_GRAD_TEMPO_INTEGRAL!E100","v":0.12},{"$f":"ALUNO_GRAD_TEMPO_INTEGRAL!F100","v":42},{"$f":"VLOOKUP(A100,Parametros!A:E,5,0)","v":1},80.28]
[{"$f":"ALUNO_GRAD_TEMPO_INTEGRAL!A101","v":"JORNALISMO - 85A"},{"$f":"ALUNO_GRAD_TEMPO_INTEGRAL!C101","v":12},{"$f":"ALUNO_GRAD_TEMPO_INTEGRAL!D101","v":4},{"$f":"ALUNO_GRAD_TEMPO_INTEGRAL!E101","v":0.12},{"$f":"ALUNO_GRAD_TEMPO_INTEGRAL!F101","v":36},{"$f":"VLOOKUP(A101,Parametros!A:E,5,0)","v":1},77.760000000000005]
[{"$f":"ALUNO_GRAD_TEMPO_INTEGRAL!A102","v":"LETRAS - 13A"},{"$f":"ALUNO_GRAD_TEMPO_INTEGRAL!C102","v":0},{"$f":"ALUNO_GRAD_TEMPO_INTEGRAL!D102","v":4},{"$f":"ALUNO_GRAD_TEMPO_INTEGRAL!E102","v":0.115},{"$f":"ALUNO_GRAD_TEMPO_INTEGRAL!F102","v":0},{"$f":"VLOOKUP(A102,Parametros!A:E,5,0)","v":1},0]
[{"$f":"ALUNO_GRAD_TEMPO_INTEGRAL!A103","v":"LETRAS - 13B"},{"$f":"ALUNO_GRAD_TEMPO_INTEGRAL!C103","v":7},{"$f":"ALUNO_GRAD_TEMPO_INTEGRAL!D103","v":4},{"$f":"ALUNO_GRAD_TEMPO_INTEGRAL!E103","v":0.115},{"$f":"ALUNO_GRAD_TEMPO_INTEGRAL!F103","v":10},{"$f":"VLOOKUP(A103,Parametros!A:E,5,0)","v":1},34.22]
[{"$f":"ALUNO_GRAD_TEMPO_INTEGRAL!A104","v":"LETRAS - 13L"},{"$f":"ALUNO_GRAD_TEMPO_INTEGRAL!C104","v":36},{"$f":"ALUNO_GRAD_TEMPO_INTEGRAL!D104","v":4},{"$f":"ALUNO_GRAD_TEMPO_INTEGRAL!E104","v":0.115},{"$f":"ALUNO_GRAD_TEMPO_INTEGRAL!F104","v":12},{"$f":"VLOOKUP(A104,Parametros!A:E,5,0)","v":1},136.56]
[{"$f":"ALUNO_GRAD_TEMPO_INTEGRAL!A105","v":"LETRAS - 29A"},{"$f":"ALUNO_GRAD_TEMPO_INTEGRAL!C105","v":0},{"$f":"ALUNO_GRAD_TEMPO_INTEGRAL!D105","v":4},{"$f":"ALUNO_GRAD_TEMPO_INTEGRAL!E105","v":0.115},{"$f":"ALUNO_GRAD_TEMPO_INTEGRAL!F105","v":0},{"$f":"VLOOKUP(A105,Parametros!A:E,5,0)","v":1},0]
[{"$f":"ALUNO_GRAD_TEMPO_INTEGRAL!A106","v":"LETRAS - 29B"},{"$f":"ALUNO_GRAD_TEMPO_INTEGRAL!C106","v":0},{"$f":"ALUNO_GRAD_TEMPO_INTEGRAL!D106","v":4},{"$f":"ALUNO_GRAD_TEMPO_INTEGRAL!E106","v":0.115},{"$f":"ALUNO_GRAD_TEMPO_INTEGRAL!F106","v":0},{"$f":"VLOOKUP(A106,Parametros!A:E,5,0)","v":1},0]
[{"$f":"ALUNO_GRAD_TEMPO_INTEGRAL!A107","v":"LETRAS - 29L"},{"$f":"ALUNO_GRAD_TEMPO_INTEGRAL!C107","v":20},{"$f":"ALUNO_GRAD_TEMPO_INTEGRAL!D107","v":4},{"$f":"ALUNO_GRAD_TEMPO_INTEGRAL!E107","v":0.115},{"$f":"ALUNO_GRAD_TEMPO_INTEGRAL!F107","v":51},{"$f":"VLOOKUP(A107,Parametros!A:E,5,0)","v":1},120.2]
[{"$f":"ALUNO_GRAD_TEMPO_INTEGRAL!A108","v":"LICENCIATURA EM ARTES VISUAIS - 66F"},{"$f":"ALUNO_GRAD_TEMPO_INTEGRAL!C108","v":16},{"$f":"ALUNO_GRAD_TEMPO_INTEGRAL!D108","v":2},{"$f":"ALUNO_GRAD_TEMPO_INTEGRAL!E108","v":0.1},{"$f":"ALUNO_GRAD_TEMPO_INTEGRAL!F108","v":52},{"$f":"VLOOKUP(A108,Parametros!A:E,5,0)","v":1.5},79.800000000000011]
[{"$f":"ALUNO_GRAD_TEMPO_INTEGRAL!A109","v":"LICENCIATURA EM LETRAS - LIBRAS - 88A"},{"$f":"ALUNO_GRAD_TEMPO_INTEGRAL!C109","v":11},{"$f":"ALUNO_GRAD_TEMPO_INTEGRAL!D109","v":4},{"$f":"ALUNO_GRAD_TEMPO_INTEGRAL!E109","v":0.115},{"$f":"ALUNO_GRAD_TEMPO_INTEGRAL!F109","v":23},{"$f":"VLOOKUP(A109,Parametros!A:E,5,0)","v":1},61.06]
[{"$f":"ALUNO_GRAD_TEMPO_INTEGRAL!A110","v":"LICENCIATURA EM MÚSICA - 89A"},{"$f":"ALUNO_GRAD_TEMPO_INTEGRAL!C110","v":9},{"$f":"ALUNO_GRAD_TEMPO_INTEGRAL!D110","v":4},{"$f":"ALUNO_GRAD_TEMPO_INTEGRAL!E110","v":0.115},{"$f":"ALUNO_GRAD_TEMPO_INTEGRAL!F110","v":10},{"$f":"VLOOKUP(A110,Parametros!A:E,5,0)","v":1.5},61.71]
[{"$f":"ALUNO_GRAD_TEMPO_INTEGRAL!A111","v":"MATEMÁTICA - 65F"},{"$f":"ALUNO_GRAD_TEMPO_INTEGRAL!C111","v":2},{"$f":"ALUNO_GRAD_TEMPO_INTEGRAL!D111","v":2},{"$f":"ALUNO_GRAD_TEMPO_INTEGRAL!E111","v":0.13250000000000001},{"$f":"ALUNO_GRAD_TEMPO_INTEGRAL!F111","v":23},{"$f":"VLOOKUP(A111,Parametros!A:E,5,0)","v":1.5},22.545000000000002]
[{"$f":"ALUNO_GRAD_TEMPO_INTEGRAL!A112","v":"MATEMÁTICA - 65FL"},{"$f":"ALUNO_GRAD_TEMPO_INTEGRAL!C112","v":3},{"$f":"ALUNO_GRAD_TEMPO_INTEGRAL!D112","v":2},{"$f":"ALUNO_GRAD_TEMPO_INTEGRAL!E112","v":0.13250000000000001},{"$f":"ALUNO_GRAD_TEMPO_INTEGRAL!F112","v":2},{"$f":"VLOOKUP(A112,Parametros!A:E,5,0)","v":1.5},9.442499999999999]
[{"$f":"ALUNO_GRAD_TEMPO_INTEGRAL!A113","v":"MATEMÁTICA - 82A"},{"$f":"ALUNO_GRAD_TEMPO_INTEGRAL!C113","v":6},{"$f":"ALUNO_GRAD_TEMPO_INTEGRAL!D113","v":4},{"$f":"ALUNO_GRAD_TEMPO_INTEGRAL!E113","v":0.13250000000000001},{"$f":"ALUNO_GRAD_TEMPO_INTEGRAL!F113","v":18},{"$f":"VLOOKUP(A113,Parametros!A:E,5,0)","v":1.5},58.769999999999996]
[{"$f":"ALUNO_GRAD_TEMPO_INTEGRAL!A114","v":"MEDICINA - 07GV"},{"$f":"ALUNO_GRAD_TEMPO_INTEGRAL!C114","v":71},{"$f":"ALUNO_GRAD_TEMPO_INTEGRAL!D114","v":6},{"$f":"ALUNO_GRAD_TEMPO_INTEGRAL!E114","v":6.5000000000000002E-2},{"$f":"ALUNO_GRAD_TEMPO_INTEGRAL!F114","v":105},{"$f":"VLOOKUP(A114,Parametros!A:E,5,0)","v":4.5},2271.105]
[{"$f":"ALUNO_GRAD_TEMPO_INTEGRAL!A115","v":"MEDICINA - 15A"},{"$f":"ALUNO_GRAD_TEMPO_INTEGRAL!C115","v":149},{"$f":"ALUNO_GRAD_TEMPO_INTEGRAL!D115","v":6},{"$f":"ALUNO_GRAD_TEMPO_INTEGRAL!E115","v":6.5000000000000002E-2},{"$f":"ALUNO_GRAD_TEMPO_INTEGRAL!F115","v":192},{"$f":"VLOOKUP(A115,Parametros!A:E,5,0)","v":4.5},4574.7449999999999]
[{"$f":"ALUNO_GRAD_TEMPO_INTEGRAL!A116","v":"MEDICINA VETERINÁRIA - 87A"},{"$f":"ALUNO_GRAD_TEMPO_INTEGRAL!C116","v":33},{"$f":"ALUNO_GRAD_TEMPO_INTEGRAL!D116","v":5},{"$f":"ALUNO_GRAD_TEMPO_INTEGRAL!E116","v":0.65},{"$f":"ALUNO_GRAD_TEMPO_INTEGRAL!F116","v":113},{"$f":"VLOOKUP(A116,Parametros!A:E,5,0)","v":4.5},1675.125]
[{"$f":"ALUNO_GRAD_TEMPO_INTEGRAL!A117","v":"MÚSICA - CANTO - 63A"},{"$f":"ALUNO_GRAD_TEMPO_INTEGRAL!C117","v":2},{"$f":"ALUNO_GRAD_TEMPO_INTEGRAL!D117","v":4},{"$f":"ALUNO_GRAD_TEMPO_INTEGRAL!E117","v":0.115},{"$f":"ALUNO_GRAD_TEMPO_INTEGRAL!F117","v":0},{"$f":"VLOOKUP(A117,Parametros!A:E,5,0)","v":1},6.92]
[{"$f":"ALUNO_GRAD_TEMPO_INTEGRAL!A118","v":"MÚSICA - MODALIDADE COMPOSIÇÃO - 63G"},{"$f":"ALUNO_GRAD_TEMPO_INTEGRAL!C118","v":4},{"$f":"ALUNO_GRAD_TEMPO_INTEGRAL!D118","v":4},{"$f":"ALUNO_GRAD_TEMPO_INTEGRAL!E118","v":0.115},{"$f":"ALUNO_GRAD_TEMPO_INTEGRAL!F118","v":14},{"$f":"VLOOKUP(A118,Parametros!A:E,5,0)","v":1},27.84]
[{"$f":"ALUNO_GRAD_TEMPO_INTEGRAL!A119","v":"MÚSICA - MODALIDADE FLAUTA TRANSVERSAL - 63B"},{"$f":"ALUNO_GRAD_TEMPO_INTEGRAL!C119","v":2},{"$f":"ALUNO_GRAD_TEMPO_INTEGRAL!D119","v":4},{"$f":"ALUNO_GRAD_TEMPO_INTEGRAL!E119","v":0.115},{"$f":"ALUNO_GRAD_TEMPO_INTEGRAL!F119","v":4},{"$f":"VLOOKUP(A119,Parametros!A:E,5,0)","v":1},10.92]
[{"$f":"ALUNO_GRAD_TEMPO_INTEGRAL!A120","v":"MÚSICA - MODALIDADE PIANO - 63C"},{"$f":"ALUNO_GRAD_TEMPO_INTEGRAL!C120","v":0},{"$f":"ALUNO_GRAD_TEMPO_INTEGRAL!D120","v":4},{"$f":"ALUNO_GRAD_TEMPO_INTEGRAL!E120","v":0.115},{"$f":"ALUNO_GRAD_TEMPO_INTEGRAL!F120","v":2},{"$f":"VLOOKUP(A120,Parametros!A:E,5,0)","v":1},2]
[{"$f":"ALUNO_GRAD_TEMPO_INTEGRAL!A121","v":"MÚSICA - MODALIDADE VIOLÃO - 63D"},{"$f":"ALUNO_GRAD_TEMPO_INTEGRAL!C121","v":2},{"$f":"ALUNO_GRAD_TEMPO_INTEGRAL!D121","v":4},{"$f":"ALUNO_GRAD_TEMPO_INTEGRAL!E121","v":0.115},{"$f":"ALUNO_GRAD_TEMPO_INTEGRAL!F121","v":4},{"$f":"VLOOKUP(A121,Parametros!A:E,5,0)","v":1},10.92]
[{"$f":"ALUNO_GRAD_TEMPO_INTEGRAL!A122","v":"MÚSICA - MODALIDADE VIOLINO - 63E"},{"$f":"ALUNO_GRAD_TEMPO_INTEGRAL!C122","v":2},{"$f":"ALUNO_GRAD_TEMPO_INTEGRAL!D122","v":4},{"$f":"ALUNO_GRAD_TEMPO_INTEGRAL!E122","v":0.115},{"$f":"ALUNO_GRAD_TEMPO_INTEGRAL!F122","v":0},{"$f":"VLOOKUP(A122,Parametros!A:E,5,0)","v":1},6.92]
[{"$f":"ALUNO_GRAD_TEMPO_INTEGRAL!A123","v":"MÚSICA - MODALIDADE VIOLONCELO - 63F"},{"$f":"ALUNO_GRAD_TEMPO_INTEGRAL!C123","v":0},{"$f":"ALUNO_GRAD_TEMPO_INTEGRAL!D123","v":4},{"$f":"ALUNO_GRAD_TEMPO_INTEGRAL!E123","v":0.115},{"$f":"ALUNO_GRAD_TEMPO_INTEGRAL!F123","v":0},{"$f":"VLOOKUP(A123,Parametros!A:E,5,0)","v":1},0]
[{"$f":"ALUNO_GRAD_TEMPO_INTEGRAL!A124","v":"NUTRIÇÃO - 08GV"},{"$f":"ALUNO_GRAD_TEMPO_INTEGRAL!C124","v":17},{"$f":"ALUNO_GRAD_TEMPO_INTEGRAL!D124","v":5},{"$f":"ALUNO_GRAD_TEMPO_INTEGRAL!E124","v":0.66},{"$f":"ALUNO_GRAD_TEMPO_INTEGRAL!F124","v":76},{"$f":"VLOOKUP(A124,Parametros!A:E,5,0)","v":2},429.70000000000005]
[{"$f":"ALUNO_GRAD_TEMPO_INTEGRAL!A125","v":"NUTRIÇÃO - 64A"},{"$f":"ALUNO_GRAD_TEMPO_INTEGRAL!C125","v":78},{"$f":"ALUNO_GRAD_TEMPO_INTEGRAL!D125","v":5},{"$f":"ALUNO_GRAD_TEMPO_INTEGRAL!E125","v":6.6000000000000003E-2},{"$f":"ALUNO_GRAD_TEMPO_INTEGRAL!F125","v":106},{"$f":"VLOOKUP(A125,Parametros!A:E,5,0)","v":2},901.48]
[{"$f":"ALUNO_GRAD_TEMPO_INTEGRAL!A126","v":"ODONTOLOGIA - 09GV"},{"$f":"ALUNO_GRAD_TEMPO_INTEGRAL!C126","v":53},{"$f":"ALUNO_GRAD_TEMPO_INTEGRAL!D126","v":5},{"$f":"ALUNO_GRAD_TEMPO_INTEGRAL!E126","v":0.65},{"$f":"ALUNO_GRAD_TEMPO_INTEGRAL!F126","v":88},{"$f":"VLOOKUP(A126,Parametros!A:E,5,0)","v":4.5},2164.5]
[{"$f":"ALUNO_GRAD_TEMPO_INTEGRAL!A127","v":"ODONTOLOGIA - 16A"},{"$f":"ALUNO_GRAD_TEMPO_INTEGRAL!C127","v":69},{"$f":"ALUNO_GRAD_TEMPO_INTEGRAL!D127","v":5},{"$f":"ALUNO_GRAD_TEMPO_INTEGRAL!E127","v":6.5000000000000002E-2},{"$f":"ALUNO_GRAD_TEMPO_INTEGRAL!F127","v":107},{"$f":"VLOOKUP(A127,Parametros!A:E,5,0)","v":4.5},1867.1624999999999]
[{"$f":"ALUNO_GRAD_TEMPO_INTEGRAL!A128","v":"PEDAGOGIA - 17A"},{"$f":"ALUNO_GRAD_TEMPO_INTEGRAL!C128","v":28},{"$f":"ALUNO_GRAD_TEMPO_INTEGRAL!D128","v":4},{"$f":"ALUNO_GRAD_TEMPO_INTEGRAL!E128","v":0.1},{"$f":"ALUNO_GRAD_TEMPO_INTEGRAL!F128","v":41},{"$f":"VLOOKUP(A128,Parametros!A:E,5,0)","v":1},136.20000000000002]
[{"$f":"ALUNO_GRAD_TEMPO_INTEGRAL!A129","v":"PEDAGOGIA - 30A"},{"$f":"ALUNO_GRAD_TEMPO_INTEGRAL!C129","v":19},{"$f":"ALUNO_GRAD_TEMPO_INTEGRAL!D129","v":4},{"$f":"ALUNO_GRAD_TEMPO_INTEGRAL!E129","v":0.1},{"$f":"ALUNO_GRAD_TEMPO_INTEGRAL!F129","v":43},{"$f":"VLOOKUP(A129,Parametros!A:E,5,0)","v":1},107.60000000000001]
[{"$f":"ALUNO_GRAD_TEMPO_INTEGRAL!A130","v":"PSICOLOGIA - 32A"},{"$f":"ALUNO_GRAD_TEMPO_INTEGRAL!C130","v":36},{"$f":"ALUNO_GRAD_TEMPO_INTEGRAL!D130","v":5},{"$f":"ALUNO_GRAD_TEMPO_INTEGRAL!E130","v":0.1},{"$f":"ALUNO_GRAD_TEMPO_INTEGRAL!F130","v":52},{"$f":"VLOOKUP(A130,Parametros!A:E,5,0)","v":1},218.00000000000003]
[{"$f":"ALUNO_GRAD_TEMPO_INTEGRAL!A131","v":"QUÍMICA - 65GB"},{"$f":"ALUNO_GRAD_TEMPO_INTEGRAL!C131","v":8},{"$f":"ALUNO_GRAD_TEMPO_INTEGRAL!D131","v":2},{"$f":"ALUNO_GRAD_TEMPO_INTEGRAL!E131","v":0.13250000000000001},{"$f":"ALUNO_GRAD_TEMPO_INTEGRAL!F131","v":40},{"$f":"VLOOKUP(A131,Parametros!A:E,5,0)","v":1.5},51.180000000000007]
[{"$f":"ALUNO_GRAD_TEMPO_INTEGRAL!A132","v":"QUÍMICA - 65GL"},{"$f":"ALUNO_GRAD_TEMPO_INTEGRAL!C132","v":15},{"$f":"ALUNO_GRAD_TEMPO_INTEGRAL!D132","v":2},{"$f":"ALUNO_GRAD_TEMPO_INTEGRAL!E132","v":0.13250000000000001},{"$f":"ALUNO_GRAD_TEMPO_INTEGRAL!F132","v":0},{"$f":"VLOOKUP(A132,Parametros!A:E,5,0)","v":1.5},39.712500000000006]
[{"$f":"ALUNO_GRAD_TEMPO_INTEGRAL!A133","v":"QUÍMICA - 83A"},{"$f":"ALUNO_GRAD_TEMPO_INTEGRAL!C133","v":4},{"$f":"ALUNO_GRAD_TEMPO_INTEGRAL!D133","v":4},{"$f":"ALUNO_GRAD_TEMPO_INTEGRAL!E133","v":0.13250000000000001},{"$f":"ALUNO_GRAD_TEMPO_INTEGRAL!F133","v":14},{"$f":"VLOOKUP(A133,Parametros!A:E,5,0)","v":1.5},{"$f":"IFERROR(SUM(((B133*C133)*(1+D133)+((E133-B133)/4)*C133)*F133),0)","v":42.18}]
[{"$f":"ALUNO_GRAD_TEMPO_INTEGRAL!A134","v":"RÁDIO, TV E INTERNET - 91A"},{"$f":"ALUNO_GRAD_TEMPO_INTEGRAL!C134","v":6},{"$f":"ALUNO_GRAD_TEMPO_INTEGRAL!D134","v":4},{"$f":"ALUNO_GRAD_TEMPO_INTEGRAL!E134","v":0.12},{"$f":"ALUNO_GRAD_TEMPO_INTEGRAL!F134","v":31},{"$f":"VLOOKUP(A134,Parametros!A:E,5,0)","v":1},51.88]
[{"$f":"ALUNO_GRAD_TEMPO_INTEGRAL!A135","v":"SERVIÇO SOCIAL - 19A"},{"$f":"ALUNO_GRAD_TEMPO_INTEGRAL!C135","v":6},{"$f":"ALUNO_GRAD_TEMPO_INTEGRAL!D135","v":4},{"$f":"ALUNO_GRAD_TEMPO_INTEGRAL!E135","v":0.12},{"$f":"ALUNO_GRAD_TEMPO_INTEGRAL!F135","v":37},{"$f":"VLOOKUP(A135,Parametros!A:E,5,0)","v":1},57.88]
[{"$f":"ALUNO_GRAD_TEMPO_INTEGRAL!A136","v":"SERVIÇO SOCIAL - 68A"},{"$f":"ALUNO_GRAD_TEMPO_INTEGRAL!C136","v":9},{"$f":"ALUNO_GRAD_TEMPO_INTEGRAL!D136","v":4},{"$f":"ALUNO_GRAD_TEMPO_INTEGRAL!E136","v":0.12},{"$f":"ALUNO_GRAD_TEMPO_INTEGRAL!F136","v":44},{"$f":"VLOOKUP(A136,Parametros!A:E,5,0)","v":1},75.320000000000007]
[{"$f":"ALUNO_GRAD_TEMPO_INTEGRAL!A137","v":"SISTEMAS DE INFORMAÇÃO - 76A"},{"$f":"ALUNO_GRAD_TEMPO_INTEGRAL!C137","v":12},{"$f":"ALUNO_GRAD_TEMPO_INTEGRAL!D137","v":4},{"$f":"ALUNO_GRAD_TEMPO_INTEGRAL!E137","v":0.13250000000000001},{"$f":"ALUNO_GRAD_TEMPO_INTEGRAL!F137","v":44},{"$f":"VLOOKUP(A137,Parametros!A:E,5,0)","v":1.5},129.54]
[{"$f":"ALUNO_GRAD_TEMPO_INTEGRAL!A138","v":"TURISMO - 72D"},{"$f":"ALUNO_GRAD_TEMPO_INTEGRAL!C138","v":6},{"$f":"ALUNO_GRAD_TEMPO_INTEGRAL!D138","v":2},{"$f":"ALUNO_GRAD_TEMPO_INTEGRAL!E138","v":0.1},{"$f":"ALUNO_GRAD_TEMPO_INTEGRAL!F138","v":0},{"$f":"VLOOKUP(A138,Parametros!A:E,5,0)","v":1},10.200000000000001]
[{"$f":"ALUNO_GRAD_TEMPO_INTEGRAL!A139","v":"TURISMO - 73D"},{"$f":"ALUNO_GRAD_TEMPO_INTEGRAL!C139","v":7},{"$f":"ALUNO_GRAD_TEMPO_INTEGRAL!D139","v":2},{"$f":"ALUNO_GRAD_TEMPO_INTEGRAL!E139","v":0.1},{"$f":"ALUNO_GRAD_TEMPO_INTEGRAL!F139","v":0},{"$f":"VLOOKUP(A139,Parametros!A:E,5,0)","v":1},11.900000000000002]
[{"$f":"ALUNO_GRAD_TEMPO_INTEGRAL!A140","v":"TURISMO - 92A"},{"$f":"ALUNO_GRAD_TEMPO_INTEGRAL!C140","v":4},{"$f":"ALUNO_GRAD_TEMPO_INTEGRAL!D140","v":4},{"$f":"ALUNO_GRAD_TEMPO_INTEGRAL!E140","v":0.12},{"$f":"ALUNO_GRAD_TEMPO_INTEGRAL!F140","v":49},{"$f":"VLOOKUP(A140,Parametros!A:E,5,0)","v":1},62.92]
[{"$f":"ALUNO_GRAD_TEMPO_INTEGRAL!A141","v":"TURISMO - 93A"},{"$f":"ALUNO_GRAD_TEMPO_INTEGRAL!C141","v":1},{"$f":"ALUNO_GRAD_TEMPO_INTEGRAL!D141","v":4},{"$f":"ALUNO_GRAD_TEMPO_INTEGRAL!E141","v":0.12},{"$f":"ALUNO_GRAD_TEMPO_INTEGRAL!F141","v":41},{"$f":"VLOOKUP(A141,Parametros!A:E,5,0)","v":1},44.480000000000004]
[null,{"$f":"SUM(B4:B141)","v":2270},null,null,{"$f":"SUM(E4:E141)","v":4630},null,{"$f":"SUM(G4:G141)","v":27663.625999999989}]

{"sheet":"APGTI","index":11,"n_rows":77,"n_cols":12,"rows_kept":77,"cut":false,"hidden":false,"merged":[[63,6,66,11],[0,3,2,3],[48,8,48,11],[4,6,4,7],[54,8,54,11],[41,8,41,11],[8,5,10,5],[0,1,2,1],[0,2,2,2],[56,6,56,11],[57,6,57,11],[55,8,55,11],[40,6,40,11],[54,6,54,7],[8,4,10,4]]}
["COMPONENTE ","1º SEM","2º SEM","MATRICULAS",null,null,"ANO",2017,2018,2019,2020,2021]
["ALUNO DE PÓS-GRADUAÇÃO TEMPO INTEGRAL ",null,null,null,null,null,"APG (MATRICULAS)",2333.08,2815.5,2791.5,2482.5,{"$f":"D76","v":2907}]
["CURSO",null,null,null,null,null,"APGTI",4666.17,5631,5583,4965,{"$f":"D77","v":5814}]
["DISCIPLINA ISOLADA",47,45,{"$f":"AVERAGE(B4:C4)","v":46}]
["DOUTORADO EM ARTES, CULTURA E LINGUAGENS",25,23,{"$f":"AVERAGE(B5:C5)","v":24}]
["DOUTORADO EM BIODIVERSIDADE E CONSERVAÇÃO DA NATUREZA",37,28,32.5]
["DOUTORADO EM BIOQUÍMICA E BIOLOGIA MOLECULAR",13,12,12.5]
["DOUTORADO EM CIÊNCIA DA RELIGIÃO",65,61,63]
["DOUTORADO EM CIÊNCIAS BIOLÓGICAS (COMPORTAMENTO E BIOLOGIA ANIMAL)",3,3,3]
["DOUTORADO EM CIÊNCIAS BIOLÓGICAS(IMUNOLOGIA E DOENÇAS INFECTO-PARASITÁRIAS/GENÉTICA E BIOTECNOLOGIA",33,37,35]
["DOUTORADO EM CIÊNCIAS FARMACÊUTICAS",17,20,18.5]
["DOUTORADO EM CIÊNCIAS SOCIAIS",56,56,56]
["DOUTORADO EM COMUNICAÇÃO",36,37,36.5]
["DOUTORADO EM ECONOMIA",45,43,44]
["DOUTORADO EM EDUCAÇÃO",89,92,90.5]
["DOUTORADO EM EDUCAÇÃO FÍSICA",37,41,39]
["DOUTORADO EM ENGENHARIA ELÉTRICA",88,94,91]
["DOUTORADO EM FÍSICA",47,38,42.5]
["DOUTORADO EM HISTÓRIA",68,63,65.5]
["DOUTORADO EM LETRAS: ESTUDOS LITERÁRIOS",81,79,80]
["DOUTORADO EM LINGUÍSTICA",50,48,49]
["DOUTORADO EM MODELAGEM COMPUTACIONAL",51,44,47.5]
["DOUTORADO EM ODONTOLOGIA",29,29,29]
["DOUTORADO EM PSICOLOGIA",65,64,64.5]
["DOUTORADO EM QUÍMICA",62,61,61.5]
["DOUTORADO EM SAÚDE",51,49,50]
["DOUTORADO EM SAÚDE COLETIVA",47,41,44]
["DOUTORADO EM SERVIÇO SOCIAL",27,28,27.5]
["DISCIPLINA ISOLADA",284,333,308.5]
["MESTRADO ACADÊMICO EM ADMINISTRAÇÃO",39,30,34.5]
["MESTRADO ACADÊMICO EM CIÊNCIAS APLICADAS À SAÚDE",25,31,28]
["MESTRADO ACADÊMICO EM CIÊNCIAS FARMACÊUTICAS",24,34,29]
["MESTRADO ACADÊMICO EM ENFERMAGEM",47,29,38]
["MESTRADO ACADÊMICO EM ENGENHARIA CIVIL",58,45,51.5]
["MESTRADO ACADÊMICO EM MATEMÁTICA",24,24,24]
["MESTRADO EM AMBIENTE CONSTRUÍDO",64,50,57]
["MESTRADO EM ARTES, CULTURA E LINGUAGENS",56,50,53]
["MESTRADO EM BIODIVERSIDADE E CONSERVAÇÃO DA NATUREZA",65,50,57.5]
["MESTRADO EM BIOQUÍMICA E BIOLOGIA MOLECULAR",5,4,4.5]
["MESTRADO EM CIÊNCIA DA COMPUTAÇÃO",72,60,66]
["MESTRADO EM CIÊNCIA DA RELIGIÃO",43,35,39]
["MESTRADO EM CIÊNCIAS BIOLÓGICAS(COMPORTAMENTO E BIOLOGIA ANIMAL)",2,0,1]
["MESTRADO EM CIÊNCIAS BIOLÓGICAS(IMUNOLOGIA/GENÉTICA E BIOTECNOLOGIA)",32,32,32]
["MESTRADO EM CIÊNCIAS DA REABILITAÇÃO E DESEMPENHO FÍSICO-FUNCIONAL",34,40,37]
["MESTRADO EM CIÊNCIAS SOCIAIS",65,54,59.5]
["MESTRADO EM CLÍNICA ODONTOLÓGICA",22,20,21]
["MESTRADO EM COMUNICAÇÃO",46,38,42]
["MESTRADO EM DIREITO",57,39,48]
["MESTRADO EM ECONOMIA APLICADA",37,31,34]
["MESTRADO EM EDUCAÇÃO",58,82,70]
["MESTRADO EM EDUCAÇÃO FÍSICA",19,28,23.5]
["MESTRADO EM ENGENHARIA ELÉTRICA",99,98,98.5]
["MESTRADO EM FILOSOFIA",13,23,18]
["MESTRADO EM FÍSICA",26,21,23.5]
["MESTRADO EM GEOGRAFIA",49,48,48.5]
["MESTRADO EM HISTÓRIA",68,65,66.5]
["MESTRADO EM LETRAS: ESTUDOS LITERÁRIOS",38,34,36,null,null,"FÓRMULAS PARA CÁLCULO DE APGTI"]
["MESTRADO EM LINGUÍSTICA",35,31,33,null,null,"APGTI = 2  x  MATRÍCULAS"]
["MESTRADO EM MODELAGEM COMPUTACIONAL",26,27,26.5]
["MESTRADO EM ODONTOLOGIA",35,35,35,null,null,"OBS. Não devem ser considerados alunos de Mestrado profissionalizante"]
["MESTRADO EM PSICOLOGIA",31,36,33.5]
["MESTRADO EM QUÍMICA",38,42,40,null,null,"Esclarecimentos da Pró-Reitoria de Pós-Graduação:"]
["MESTRADO EM SAÚDE",52,45,48.5]
["MESTRADO EM SAÚDE COLETIVA",56,44,50,null,null,"Citamos o número de matrículas isoladas porque na UFJF estes alunos são considerados matriculados na pós-graduação. Muitos optam por matrículas isoladas enquanto aguardam bolsas ou melhores condições para cumprir todas as exigências do curso."]
["MESTRADO EM SERVIÇO SOCIAL",38,39,38.5]
["MESTRADO NACIONAL PROFISSIONAL EM ENSINO DE FÍSICA",25,11]
["MESTRADO PROFISSIONAL EM ADMINISTRAÇÃO PÚBLICA EM REDE NACIONAL - PROFIAP",15,14]
["MESTRADO PROFISSIONAL EM CIÊNCIA E TECNOLOGIA DO LEITE E DERIVADOS",52,50]
["MESTRADO PROFISSIONAL EM EDUCAÇÃO MATEMÁTICA",49,36]
["MESTRADO PROFISSIONAL EM ENSINO DE BIOLOGIA EM REDE NACIONAL (PROFBIO)",20,18]
["MESTRADO PROFISSIONAL EM ENSINO DE BIOLOGIA EM REDE NACIONAL(PROFBIO)",13,11]
["MESTRADO PROFISSIONAL EM GESTÃO E AVALIAÇÃO DA EDUCAÇÃO PÚBLICA",114,83]
["MESTRADO PROFISSIONAL EM LETRAS",20,11]
["MESTRADO PROFISSIONAL EM MATEMÁTICA EM REDE NACIONAL - PROFMAT",23,21]
["MESTRADO PROFISSIONAL EM SAÚDE DA FAMÍLIA - PROFSAÚDE",12,6]
[null,null,"TOTAL APG",{"$f":"SUM(D4:D75)","v":2907}]
[null,null,"APGTI",{"$f":"D76*2","v":5814}]

{"sheet":"ALUNO_RESIDENTE","index":12,"n_rows":49,"n_cols":12,"rows_kept":49,"cut":false,"hidden":false,"merged":[[42,0,42,2],[0,3,2,3],[2,7,2,9],[0,1,2,1],[0,2,2,2]]}
["COMPONENTE ","1º SEM","2º SEM","Alunos Matriculados",null,null,null,2017,2018,2019,2020,2021]
["NÚMERO DE ALUNOS TEMPO INTEGRAL DE RESIDÊNCIA (ARTI)",null,null,null,null,null,null,549,533,547,529,{"$f":"D43","v":541}]
["RESIDÊNCIA"]
["ANÁLISES CLÍNICAS*",0,0,0,null,null,null,"FÓRMULA PARA CÁLCULO ARTI",null,null,null,"ARTI = 2  AR"]
["ANESTESIOLOGIA",11,11,{"$f":"(B5+C5)/2","v":11}]
["CARDIOLOGIA",3,3,3]
["CIRURGIA E TRAUMATOLOGIA  BUCOMAXILOFACIAL  - ODONTOLOGIA *",0,0,0]
["CIRURGIA GERAL",10,9,9.5]
["CIRURGIA PLÁSTICA",3,3,3]
["CLÍNICA MÉDICA",16,16,16]
["DERMATOLOGIA",6,6,6]
["ECOCARDIOGRAFIA",3,3,3]
["ECONOMIA E ADMINISTRAÇÃO - GESTÃO HOSPITALAR ",8,8,8]
["ENDOCRINOLOGIA E METABOLOGIA",4,4,4]
["ENDOSCOPIA DIGESTIVA",4,2,3]
["FARMÁCIA *",4,4,4]
["GASTROENTEROLOGIA",8,8,8]
["GASTROENTEROLOGIA (PEDIÁTRICA)",0,0,0]
["HEMATOLOGIA E HEMOTERAPIA",4,4,4]
["HEPATOLOGIA",1,1,1]
["INFECTOLOGIA",2,2,2]
["MEDICINA DA FAMÍLIA E COMUNIDADE",3,3,3]
["INTEGRADA MULTIPROFISSIONAL EM ATENÇÃO HOSPITALAR",34,34,34]
["MULTIPROFISSIONAL EM SAÚDE DO ADULTO com enfase em doenças crônico-degenerativas",31,31,31]
["MULTIPROFISSIONAL EM SAÚDE MENTAL ",0,0,0]
["NEFROLOGIA",4,4,4]
["NEONATOLOGIA",2,1,1.5]
["NEUROLOGIA",12,12,12]
["OBSTETRÍCIA E GINECOLOGIA",12,11,11.5]
["OFTALMOLOGIA",4,4,4]
["ORTOPEDIA E TRAUMATOLOGIA",9,9,9]
["OTORRINOLARINGOLOGIA",6,6,6]
["PATOLOGIA",4,4,4]
["PEDIATRIA",18,18,18]
["PNEUMOLOGIA",3,3,3]
["MULTIPROFISSIONAL EM SAÚDE DA FAMÍLIA",20,20,20]
["PSIQUIATRIA",11,11,11]
["PSIQUIATRIA DA INFÂNCIA E ADOLESCÊNCIA ",0,0,0]
["RADIOLOGIA E DIAGNÓSTICO POR IMAGEM",6,6,6]
["REUMATOLOGIA",4,4,4]
["UROLOGIA",3,3,3]
["TOTAIS",{"$f":"SUM(B4:B41)","v":273},{"$f":"SUM(C4:C41)","v":268},{"$f":"(B42+C42)/2","v":270.5}]
["ARTI",null,null,{"$f":"D42*2","v":541}]
[]
["* Residência área Profissional da Saúde"]
[]
[]
[]
[" "]

{"sheet":"ALUNO_TEMPO_INTEGRAL","index":13,"n_rows":12,"n_cols":8,"rows_kept":12,"cut":false,"hidden":false,"merged":[[9,0,9,3],[10,0,10,3],[0,0,0,5],[1,0,1,5]]}
["COMPONENTE "]
["ALUNO TEMPO INTEGRAL"]
["ANO",2017,2018,2019,2020,2021]
["AGTI",{"$f":"ALUNO_GRAD_TEMPO_INTEGRAL!J2","v":13163},{"$f":"ALUNO_GRAD_TEMPO_INTEGRAL!K2","v":14314},{"$f":"ALUNO_GRAD_TEMPO_INTEGRAL!L2","v":15858.460000000001},{"$f":"ALUNO_GRAD_TEMPO_INTEGRAL!M2","v":15230.957999999995},{"$f":"ALUNO_GRAD_TEMPO_INTEGRAL!N2","v":13479.108000000002}]
["APGTI",{"$f":"APGTI!H3","v":4666.17},{"$f":"APGTI!I3","v":5631},{"$f":"APGTI!J3","v":5583},{"$f":"APGTI!K3","v":4965},{"$f":"APGTI!L3","v":5814}]
["ARTI",{"$f":"ALUNO_RESIDENTE!H2","v":549},{"$f":"ALUNO_RESIDENTE!I2","v":533},{"$f":"ALUNO_RESIDENTE!J2","v":547},{"$f":"ALUNO_RESIDENTE!K2","v":529},{"$f":"ALUNO_RESIDENTE!L2","v":541}]
["ATI",{"$f":"SUM(B4:B6)","v":18378.169999999998},{"$f":"SUM(C4:C6)","v":20478},{"$f":"SUM(D4:D6)","v":21988.46},{"$f":"SUM(E4:E6)","v":20724.957999999995},{"$f":"SUM(F4:F6)","v":19834.108}]
[]
[]
["FÓRMULA PARA CÁLCULO ATI"]
["ATI  = AGTI + APGTI + ARTI "]
[null,null,null,null,null,null,null," "]

{"sheet":"ALUNO_EQUIVALENTE","index":14,"n_rows":12,"n_cols":6,"rows_kept":12,"cut":false,"hidden":false,"merged":[[10,0,10,3],[0,0,0,5],[1,0,1,5],[11,0,11,3]]}
["COMPONENTE "]
["ALUNO EQUIVALENTE"]
[null,2017,2018,2019,2020,2021]
["AGE (GRADUAÇÃO)",{"$f":"ALUNO_EQUIV_GRADUAÇÃO!J2","v":24860},{"$f":"ALUNO_EQUIV_GRADUAÇÃO!K2","v":25188},{"$f":"ALUNO_EQUIV_GRADUAÇÃO!L2","v":27646.524999999991},{"$f":"ALUNO_EQUIV_GRADUAÇÃO!M2","v":29985.690999999992},{"$f":"ALUNO_EQUIV_GRADUAÇÃO!N2","v":27663.625999999989}]
["APGTI",{"$f":"APGTI!H3","v":4666.17},{"$f":"APGTI!I3","v":5631},{"$f":"APGTI!J3","v":5583},{"$f":"APGTI!K3","v":4965},{"$f":"APGTI!L3","v":5814}]
["ARTI",{"$f":"ALUNO_RESIDENTE!H2","v":549},{"$f":"ALUNO_RESIDENTE!I2","v":533},{"$f":"ALUNO_RESIDENTE!J2","v":547},{"$f":"ALUNO_RESIDENTE!K2","v":529},{"$f":"ALUNO_RESIDENTE!L2","v":541}]
["AE",{"$f":"SUM(B4:B6)","v":30075.17},{"$f":"SUM(C4:C6)","v":31352},{"$f":"SUM(D4:D6)","v":33776.524999999994},{"$f":"SUM(E4:E6)","v":35479.690999999992},{"$f":"SUM(F4:F6)","v":34018.625999999989}]
[]
[]
[]
["FÓRMULA"]
["AE = AGE + APGTI + ARTI"]

{"sheet":"PROFESSOR_EQUIVALENTE","index":15,"n_rows":20,"n_cols":12,"rows_kept":20,"cut":false,"hidden":false,"merged":[[0,0,0,4],[1,0,1,4],[2,0,2,4],[18,0,18,2],[19,0,19,2],[17,0,17,2],[16,0,16,2],[13,0,13,3],[14,0,15,3]]}
["COMPONENTE",null,null,null,null,null,null,2017,2018,2019,2020,2021]
["PROFESSOR EQUIVALENTE",null,null,null,null,null,null,1490,1546,1550.5,1530.5,{"$f":"E8","v":1540.5}]
["REGIME DE TRABALHO"]
[null,"20 HORAS","40 HORAS + DE","PROFESSORES","EQUIVALENTE"]
["EM EXERCÍCIO EFETIVO ",110,1406,{"$f":"SUM(B5:C5)","v":1516},{"$f":"SUM(B5*$D$18+C5*$D$19)","v":1461}]
["SUBSTITUTOS E VISITANTES",22,137,{"$f":"SUM(B6:C6)","v":159},{"$f":"SUM(B6*$D$18+C6*$D$19)","v":148}]
["PROFESSORES AFASTADOS",3,67,{"$f":"SUM(B7:C7)","v":70},{"$f":"SUM(B7*$D$18+C7*$D$19)","v":68.5}]
["TOTAL PROFESSORES",{"$f":"SUM(B5:B6)-B7","v":129},{"$f":"SUM(C5:C6)-C7","v":1476},{"$f":"SUM(D5:D6)-D7","v":1605},{"$f":"SUM(B8*$D$18+C8*$D$19)","v":1540.5}]
[]
[]
[]
[]
[]
["FÓRMULA PARA CÁLCULO PROFESSOR EQUIVALENTE"]
["Professores Efetivos de 3º grau + Professores Visitantes e Substitutos de 3º - Professores afastados de 3º grau(considerados os regimes de dedicação)."]
[]
["REGIME  DE DEDICAÇÃO",null,null,"PESO"]
["20 horas/semana",null,null,0.5]
["40 horas/semana",null,null,1,null,null," "]
["Dedicação Exclusiva",null,null,1]

{"sheet":"FUNCIONÁRIO_EQUIVALENTE_HU","index":16,"n_rows":31,"n_cols":17,"rows_kept":31,"cut":false,"hidden":false,"merged":[[0,0,0,8],[1,0,1,8],[29,0,29,4],[30,0,31,4],[26,0,26,4],[27,0,28,4],[2,7,3,8],[13,0,16,0],[18,0,23,0],[2,1,2,6]]}
["COMPONENTE PARCIALMENTE AJUSTADO",null,null,null,null,null,null,null,null,null,null,null,2017,2018,2019,2020,2021]
["FUNCIONÁRIO EQUIVALENTE ",null,null,null,null,null,null,null,null,null,null,"COM_HU",2646,2711,2692.95,2674.2,{"$f":"I10","v":2481.8000000000002}]
[" ","TOTAL DE FUNCIONÁRIOS",null,null,null,null,null,"FUNC. EQUIVALENTE",null,null,null,"SEM_H.U.",2370,2453,2457.25,2446.5,{"$f":"I11","v":2272.2000000000003}]
["REGIME DE TRABALHO","12h","20 h","24 h","30 h","40 h","44h"]
["PROFESSORES ENSINO MÉDIO",0,0,0,0,111,0,{"$f":"SUM(B5:G5)","v":111},{"$f":"SUM(B5*0.3+C5*0.5+D5*0.6+E5*0.75+F5+G5*1.1)","v":111}]
["QUADRO PERMANENTE_UFJF",0,6,20,20,1232,0,{"$f":"SUM(B6:G6)","v":1278},1262]
["QUADRO PERMANENTE_HU",0,1,6,6,201,0,214,209.6]
["CONTRATADOS UFJF",0,0,0,21,244,613,878,934.05000000000007]
["FUNCIONÁRIOS CEDIDOS/ AFASTADOS",0,1,1,1,33,0,36,34.85]
["FUNCIONÁRIO-EQUIVALENTE_HU",{"$f":"SUM(B5:B8)-B9","v":0},6,25,46,1755,613,{"$f":"SUM(B10:G10)","v":2445},{"$f":"SUM(B10*0.3+C10*0.5+D10*0.6+E10*0.75+F10+G10*1.1)","v":2481.8000000000002}]
["FUNCIONÁRIO-EQUIVALENTE_ S_H.U.",{"$f":"B5+B6+B8-B9","v":0},5,19,40,1554,613,2231,2272.2000000000003]
["ÍNDICES",{"$f":"12/40","v":0.3},{"$f":"20/40","v":0.5},{"$f":"24/40","v":0.6},{"$f":"30/40","v":0.75},{"$f":"40/40","v":1},{"$f":"44/40","v":1.1000000000000001}]
["Obs. O regime 12x36 foi considerado como 40h semanais"]
["No anos anteriores estavam sendo considerados nos cálculos de Func_Equiv_HU os funcionários contrados do hospital, sendo que segundo o manual estes não devem ser contabilizados."]
[]
[]
[]
[null,null,null,null," "]
["Contratados sob a forma de serviços terceirizados (limpeza, vigilância, etc), contabilizados em postos de trabalho de 8 horas diárias ou de 6 horas , em caso de exigência legal, excluídos postos de trabalho nos hospitais universitários e maternidade."]
[]
[]
[]
[]
[]
[]
[]
["FÓRMULA PARA CÁLCULO FUNCIONÁRIO_EQUIVALENTE COM HU"]
["Professores Nível Médio+Servidores Técnicos Efetivos com os do HU+ Terceirizados sem os do HU - Servidores Técnicos afastados * regime de dedicação"]
[]
["FÓRMULA PARA CÁLCULO FUNCIONÁRIO_EQUIVALENTE CSEM  HU"]
["Professores Nível Médio+Servidoress Técnicos Efetivos sem os do HU+ Terceirizados sem os do HU - Servidores Técnicos afastados"]

{"sheet":"CUSTO_HU_AE","index":17,"n_rows":16,"n_cols":6,"rows_kept":16,"cut":false,"hidden":false,"merged":[[11,0,11,2],[14,1,14,3],[15,1,15,3],[13,0,13,3],[0,0,0,5],[1,0,1,5]]}
["INDICADOR"]
["CUSTO CORRENTE COM E SEM HU"]
[null,2017,2018,2019,2020,2021]
["AE",{"$f":"ALUNO_EQUIVALENTE!B7","v":30075.17},{"$f":"ALUNO_EQUIVALENTE!C7","v":31352},{"$f":"ALUNO_EQUIVALENTE!D7","v":33776.524999999994},{"$f":"ALUNO_EQUIVALENTE!E7","v":35479.690999999992},{"$f":"ALUNO_EQUIVALENTE!F7","v":34018.625999999989}]
["CUSTO CORRENTE C_HU",{"$f":"'C_CORR_COM_HU S_HU'!B4","v":628553903.16999996},{"$f":"'C_CORR_COM_HU S_HU'!C4","v":666190973.75},{"$f":"'C_CORR_COM_HU S_HU'!D4","v":682548236.1400001},{"$f":"'C_CORR_COM_HU S_HU'!E4","v":727731710.80000007},{"$f":"'C_CORR_COM_HU S_HU'!F4","v":754224765.39999998}]
["CUSTO CORRENTE S_HU",{"$f":"'C_CORR_COM_HU S_HU'!B3","v":604855746.72000003},{"$f":"'C_CORR_COM_HU S_HU'!C3","v":644483392.75},{"$f":"'C_CORR_COM_HU S_HU'!D3","v":661885338.28999996},{"$f":"'C_CORR_COM_HU S_HU'!E3","v":707077157.49000001},{"$f":"'C_CORR_COM_HU S_HU'!F3","v":733675198.40999997}]
[]
["CUSTO CORRENTE_AE",2017,2018,2019,2020,2021]
["COM HU",{"$f":"SUM(B5/B4)","v":20899.429767811787},{"$f":"SUM(C5/C4)","v":21248.755222952284},{"$f":"SUM(D5/D4)","v":20207.76963112695},{"$f":"SUM(E5/E4)","v":20511.218961856241},{"$f":"SUM(F5/F4)","v":22170.935575117004}]
["SEM HU",{"$f":"SUM(B6/B4)","v":20111.465595040696},{"$f":"SUM(C6/C4)","v":20556.372567938248},{"$f":"SUM(D6/D4)","v":19596.016413470599},{"$f":"SUM(E6/E4)","v":19929.067518936401},{"$f":"SUM(F6/F4)","v":21566.867468721404}]
[]
[]
[]
["FÓRMULA PARA CÁLCULO DO CUSTO CORRENTE COM E SEM HU"]
["COM HU","CUSTO CORRENTE C_HU / ALUNO EQUIVALENTE"]
["SEM HU","CUSTO CORRENTE S_HU / ALUNO EQUIVALENTE"]

{"sheet":"ATI_PROFESSOR_EQUIVALENTE","index":18,"n_rows":11,"n_cols":6,"rows_kept":11,"cut":false,"hidden":false,"merged":[[10,0,10,3],[9,0,9,3],[0,0,0,5],[1,0,1,5]]}
["INDICADOR "]
["ALUNO TEMPO INTEGRAL_PROFESSOR EQUIVALENTE"]
["ANO",2017,2018,2019,2020,2021]
["ATI",{"$f":"ALUNO_TEMPO_INTEGRAL!B7","v":18378.169999999998},{"$f":"ALUNO_TEMPO_INTEGRAL!C7","v":20478},{"$f":"ALUNO_TEMPO_INTEGRAL!D7","v":21988.46},{"$f":"ALUNO_TEMPO_INTEGRAL!E7","v":20724.957999999995},{"$f":"ALUNO_TEMPO_INTEGRAL!F7","v":19834.108}]
["PROFESSOR EQUIVALENTE",{"$f":"PROFESSOR_EQUIVALENTE!H2","v":1490},{"$f":"PROFESSOR_EQUIVALENTE!I2","v":1546},{"$f":"PROFESSOR_EQUIVALENTE!J2","v":1550.5},{"$f":"PROFESSOR_EQUIVALENTE!K2","v":1530.5},{"$f":"PROFESSOR_EQUIVALENTE!L2","v":1540.5}]
["ATI_PROFESSOR_EQUIVALENTE",{"$f":"B4/B5","v":12.334342281879193},{"$f":"C4/C5","v":13.245795601552393},{"$f":"D4/D5","v":14.181528539180908},{"$f":"E4/E5","v":13.541298921920937},{"$f":"F4/F5","v":12.875110678351184}]
[]
[]
[]
["FÓRMULA PARA CÁLCULO ATI_PROFESSOR_EQUIVALENTE"]
["ATI / PROFESSOR EQUIVALENTE"]

{"sheet":"ATI_FUNCIONÁRIO_COM_HU","index":19,"n_rows":14,"n_cols":9,"rows_kept":14,"cut":false,"hidden":false,"merged":[[4,3,4,5],[0,0,0,1],[1,0,1,1],[12,0,12,1],[13,0,13,1]]}
["INDICADOR ATUALIZADO PARCIALMENTE",null,null,null,2017,2018,2019,2020,2021]
["ALUNO TEMPO INTEGRAL FUNCIONÁRIO",null,null,"COM_HU",6.95,7.55,8.2795670175829486,7.7499655971879431,{"$f":"B3/B4","v":7.9918236763639285}]
["ATI",{"$f":"ALUNO_TEMPO_INTEGRAL!F7","v":19834.108},null,"SEM_HU",7.75,8.35,9.0737450401872,8.4712683425301432,{"$f":"B6/B7","v":8.7290326555760931}]
["FUNCIONÁRIO EQUIVALENTE_C_HU",{"$f":"FUNCIONÁRIO_EQUIVALENTE_HU!Q2","v":2481.8000000000002}," "]
[null,null," "]
["ATI",{"$f":"B3","v":19834.108}]
["FUNCIONÁRIO EQUIVALENTE_S_HU",{"$f":"FUNCIONÁRIO_EQUIVALENTE_HU!Q3","v":2272.2000000000003}]
[null,null," "]
[null,null," "]
[]
[]
[]
["FÓRMULA PARA CÁLCULO ATI_FUNCIONÁRIO_EQUIVALENTE"]
["ATI / FUNCIONÁRIO EQUIVALENTE"]

{"sheet":"FUNCIONÁRIO_PROF_EQUIV","index":20,"n_rows":14,"n_cols":9,"rows_kept":14,"cut":false,"hidden":false,"merged":[[0,0,0,1],[1,0,1,1],[11,0,12,1],[13,0,13,1]]}
["INDICADOR ",null,null,null,2017,2018,2019,2020,2021]
["FUNCIONARIO EQUIVALENTE_PROFESSOR EQUIVALENTE",null,null,"COM_HU",1.78,1.75,1.7368268300548209,1.7472721332897745,{"$f":"B3/B4","v":1.6110353781239859}]
["FUNCIONÁRIO EQUIVALENTE_C_HU",{"$f":"FUNCIONÁRIO_EQUIVALENTE_HU!Q2","v":2481.8000000000002},null,"SEM_HU",1.59,1.59,1.5848113511770396,1.5984972231296961,{"$f":"B6/B7","v":1.4749756572541384}]
["PROFESSOR EQUIVALENTE",{"$f":"PROFESSOR_EQUIVALENTE!E8","v":1540.5}]
[]
["FUNCIONÁRIO EQUIVALENTE_S_HU",{"$f":"FUNCIONÁRIO_EQUIVALENTE_HU!Q3","v":2272.2000000000003}]
["PROFESSOR EQUIVALENTE",{"$f":"B4","v":1540.5}]
[]
[]
[]
[]
["FÓRMULA PARA CÁLCULO FUNCIONÁRIO_EQUIVALENTE_PROFESSOR_EQUIVALENTE"]
[]
["FUNCIONÁRIO EQUIVALENTE / PROFESSOR EQUIVALENTE"]

{"sheet":"GRAU_PARTICIPAÇÃO_ESTUDANTIL","index":21,"n_rows":10,"n_cols":9,"rows_kept":10,"cut":false,"hidden":false,"merged":[[0,0,0,1],[1,0,1,1],[7,0,8,1],[9,0,10,1]]}
["INDICADOR",null,null,null,2017,2018,2019,2020,2021]
["GRAU DE PARTICIPAÇÃO ESTUDANTIL",null,null,null,0.67,0.72,0.7627926887926888,0.76006577174509682,{"$f":"B3/B4","v":0.63585197065830135}]
["AGTI",{"$f":"ALUNO_GRAD_TEMPO_INTEGRAL!N2","v":13479.108000000002}]
["AG",{"$f":"ALUNO_DE_GRADUAÇÃO!L2","v":21198.5}]
[]
[]
[]
["FÓRMULA PARA CÁLCULO GRAU DE PARTICIPAÇÃO ESTUDANTIL"]
[]
["ALUNO DE GADUAÇÃO TEMPO INTEGRAL  /  ALUNO DE GRADUAÇÃO"]

{"sheet":"GRAU_ENVOLVIMENTO_ALUNO_POS","index":22,"n_rows":12,"n_cols":9,"rows_kept":12,"cut":false,"hidden":false,"merged":[[0,0,0,1],[1,0,1,1],[9,0,10,1],[11,0,11,1]]}
["INDICADOR ",null,null,null,2017,2018,2019,2020,2021]
["GRAU DE ENVOLVIMENTO DOS ALUNOS DA PÓS",null,null,null,0.11,0.12,0.12409681700406563,0.11022800435139755,{"$f":"B3/(B3+B4)","v":0.12059488498475451}]
["APG",{"$f":"APGTI!L2","v":2907}]
["AG",{"$f":"ALUNO_DE_GRADUAÇÃO!L2","v":21198.5}]
[]
[]
[]
[]
[]
["FÓRMULA PARA CÁLCULO DO GRAU  DE ENVOLVIMENTO DOS ALUNOS DA PÓS"]
[]
["ALUNO DE PÓS / ALUNO DE GRADUAÇÃO + ALUNO DE PÓS"]

{"sheet":"CONCEITO_CAPES","index":23,"n_rows":42,"n_cols":9,"rows_kept":42,"cut":false,"hidden":false,"merged":[[0,0,0,1],[1,0,1,1],[39,5,39,7],[39,8,39,10],[30,4,30,9],[31,4,32,9],[38,5,38,7],[38,8,38,10]]}
["INDICADOR",null,null,null,2017,2018,2019,2020,2021]
["CONCEITO CAPES",null,null,null,3.88,4.03,4,4.0294117647058822,{"$f":"B38","v":4.0294117647058822}]
["CURSO","CONCEITO"]
["PROGRAMA EM ADMINISTRAÇÃO ",3]
["PROGRAMA EM AMBIENTE CONSTRUÍDO",4]
["PROGRAMA EM ARTES, CULTURA E LINGUAGENS",4]
["PROGRAMA EM CIÊNCIA DA COMPUTAÇÃO",3]
["PROGRAMA EM CIÊNCIA DA RELIGIÃO",5]
["PROGRAMA EM CIÊNCIAS BIOLÓGICAS ",4]
["PROGRAMA DE PÓS GRADUAÇÃO EM BIODIVERSIDADE E CONSERVAÇÃO DA NATUREZA",4]
["PROGRAMA EM CIÊNCIAS DA REABILITAÇÃO E DESEMPENHO FÍSICO-FUNCIONAL",3]
["PROGRAMA EM CIÊNCIAS FARMACÊUTICAS",4]
["PROGRAMA EM CIÊNCIAS SOCIAIS",4]
["PROGRAMA EM COMUNICAÇÃO",4]
["PROGRAMA EM DIREITO E INOVAÇÃO",3]
["PROGRAMA EM ECONOMIA ",5]
["PROGRAMA EM EDUCAÇÃO  ",4]
["PROGRAMA EM EDUCAÇÃO FÍSICA (Programa em Rede) parceria UFV",5]
["PROGRAMA EM ENFERMAGEM",3]
["PROGRAMA EM ENGENHARIA CIVIL",3]
["PROGRAMA EM ENGENHARIA ELÉTRICA",5]
["PROGRAMA EM FILOSOFIA",3]
["PROGRAMA EM FISICA ",4]
["PROGRAMA EM GEOGRAFIA ",4]
["PROGRAMA EM HISTÓRIA",5]
["PROGRAMA EM LETRAS: ESTUDOS LITERÁRIOS",4]
["PROGRAMA EM LINGÜÍSTICA",5]
["PROGRAMA EM MATEMÁTICA",3]
["PROGRAMA EM MODELAGEM COMPUTACIONAL",4]
["PROGRAMA EM MULTICÊNTRICO EM BIOQUIMCA E BIOLOGIA MOLECULAR (Programa em Rede) GV",4]
["PROGRAMA EM MULTICÊNTRICO EM QUÍMICA DE MINAS GERAIS",4,null,null,"FÓRMULA PARA CÁLCULO DO CONCEITO CAPES"]
["PROGRAMA EM ODONTOLOGIA",4,null,null,"CONCEITO DE TODOS OS PROGRAMAS DE PÓS-GRAD / NÚMERO DE PROGRAMAS DE PÓS-GRAD"]
["PROGRAMA EM PSICOLOGIA",5]
["PROGRAMA EM QUÍMICA",5]
["PROGRAMA EM SAÚDE ",5]
["PROGRAMA EM SAÚDE COLETIVA",4]
["PROGRAMA EM SERVIÇO SOCIAL",4]
["Fonte: Página Capes",{"$f":"AVERAGE(B4:B37)","v":4.0294117647058822}]
[]
["D - Doutorado"]
["M - Mestrado Acadêmico"]
["F - Mestrado Profissional"]

{"sheet":"QUALIFICAÇÃO DOCENTE","index":24,"n_rows":27,"n_cols":9,"rows_kept":27,"cut":false,"hidden":false,"merged":[[9,4,9,5],[7,0,7,1],[10,0,10,1],[11,0,12,1],[0,0,0,2]]}
["QUALIFICAÇÃO DO CORPO DOCENTE - SOMENTE DEDICAÇÃO EXCLUSIVA",null,null,null,2017,2018,2019,2020,2021]
["TITULAÇÃO","PROFESSORES","QUALIFICAÇÃO",null,4.6500000000000004,4.71,4.7312138728323703,4.7681584739545118,{"$f":"C8","v":4.8133828996282526}]
["DOUTORADO",1226,{"$f":"SUM(B3*B24)","v":6130}]
["MESTRADO",108,{"$f":"SUM(B4*B25)","v":324}]
["ESPECIALIZAÇÃO",9,{"$f":"SUM(B5*B26)","v":18}]
["GRADUAÇÃO",2,{"$f":"SUM(B6*B27)","v":2}]
["TOTAL PROFESSORES",{"$f":"SUM(B3:B6)","v":1345},{"$f":"SUM(C3:C6)","v":6474}]
["IQCD",null,{"$f":"C7/B7","v":4.8133828996282526}]
[]
[]
["FÓRMULA PARA CÁLCULO DA QUALIFICAÇÃO DO CORPO DOCENTE"]
["5*DOUTORES+3*MESTRES+2*ESPECIALISTAS+GRADUADOS / DOUTORES+MESTRES+ESPECIALISTAS+GRADUADOS"]
[]
[]
[]
[]
[]
["Para qualificar o corpo docente, é aplicada, ao número de professores (professores em"]
["exercício efetivo + substitutos + visitantes - professores afastados para capacitação ou cedidos para"]
["outros órgãos e/ou entidades da administração pública em 31/12 do exercício), a seguinte"]
["ponderação, sem considerar o regime de trabalho (20 h ou 40 h semanais):"]
[]
["QUALIFICAÇÃO","PESO"]
["Docentes doutores (D)",5]
["Docentes mestres (M)",3]
["Docentes com especialização (E)",2]
["Docentes graduados (G)",1]

{"sheet":"TAXA_DE_SUCESSO_NA_GRADUAÇÃO","index":25,"n_rows":141,"n_cols":14,"rows_kept":141,"cut":false,"hidden":false,"merged":[[12,9,12,15],[13,9,14,15],[43,9,43,11],[42,9,42,11],[4,9,4,13],[5,9,5,13],[40,9,40,11],[41,9,41,11]]}
[null,null,null,null,null,null,null,null,null,2017,2018,2019,2020,2021]
["CURSO","CÓDIGO INEP","DURAÇÃO DO CURSO","ANO DE INGRESSO","CONCLUINTES","INGRESSANTES ANTERIORES","TSG",null,null,0.49559999999999998,0.47220000000000001,0.56240000000000001,0.49387456573413785,{"$f":"N9","v":0.42122842827982926}]
[{"$f":"ALUNO_GRAD_TEMPO_INTEGRAL!A4","v":"ABI - CIÊNCIAS BIOLÓGICAS - 01ABI"},{"$f":"ALUNO_GRAD_TEMPO_INTEGRAL!B4","v":5000608},{"$f":"ALUNO_GRAD_TEMPO_INTEGRAL!D4","v":4},{"$f":"INÍCIO!$C$4-C3","v":2018},{"$f":"ALUNO_GRAD_TEMPO_INTEGRAL!C4","v":0},{"$f":"SUMIFS(Ingressantes!F:F,Ingressantes!C:C,TAXA_DE_SUCESSO_NA_GRADUAÇÃO!A3,Ingressantes!A:A,TAXA_DE_SUCESSO_NA_GRADUAÇÃO!D3)","v":18},{"$f":"IF(E3=0,,IF(F3=0,,E3/F3))","v":0}]
[{"$f":"ALUNO_GRAD_TEMPO_INTEGRAL!A5","v":"ABI - EDUCAÇÃO FÍSICA - 21ABI"},{"$f":"ALUNO_GRAD_TEMPO_INTEGRAL!B5","v":5000610},{"$f":"ALUNO_GRAD_TEMPO_INTEGRAL!D5","v":5},{"$f":"INÍCIO!$C$4-C4","v":2017},{"$f":"ALUNO_GRAD_TEMPO_INTEGRAL!C5","v":0},{"$f":"SUMIFS(Ingressantes!F:F,Ingressantes!C:C,TAXA_DE_SUCESSO_NA_GRADUAÇÃO!A4,Ingressantes!A:A,TAXA_DE_SUCESSO_NA_GRADUAÇÃO!D4)","v":88},{"$f":"IF(E4=0,,IF(F4=0,,E4/F4))","v":0}]
[{"$f":"ALUNO_GRAD_TEMPO_INTEGRAL!A6","v":"ABI - FILOSOFIA - 08ABI"},{"$f":"ALUNO_GRAD_TEMPO_INTEGRAL!B6","v":5000611},{"$f":"ALUNO_GRAD_TEMPO_INTEGRAL!D6","v":4},{"$f":"INÍCIO!$C$4-C5","v":2018},{"$f":"ALUNO_GRAD_TEMPO_INTEGRAL!C6","v":0},{"$f":"SUMIFS(Ingressantes!F:F,Ingressantes!C:C,TAXA_DE_SUCESSO_NA_GRADUAÇÃO!A5,Ingressantes!A:A,TAXA_DE_SUCESSO_NA_GRADUAÇÃO!D5)","v":26},0,null,null,"INDICADOR "]
[{"$f":"ALUNO_GRAD_TEMPO_INTEGRAL!A7","v":"ABI - GEOGRAFIA - 10ABI"},{"$f":"ALUNO_GRAD_TEMPO_INTEGRAL!B7","v":5000615},{"$f":"ALUNO_GRAD_TEMPO_INTEGRAL!D7","v":4},{"$f":"INÍCIO!$C$4-C6","v":2018},{"$f":"ALUNO_GRAD_TEMPO_INTEGRAL!C7","v":0},{"$f":"SUMIFS(Ingressantes!F:F,Ingressantes!C:C,TAXA_DE_SUCESSO_NA_GRADUAÇÃO!A6,Ingressantes!A:A,TAXA_DE_SUCESSO_NA_GRADUAÇÃO!D6)","v":15},0,null,null,"TAXA DE SUCESSO NA GRADUAÇÃO_2019 (TSG)"]
[{"$f":"ALUNO_GRAD_TEMPO_INTEGRAL!A8","v":"ABI - GEOGRAFIA - 27ABI"},{"$f":"ALUNO_GRAD_TEMPO_INTEGRAL!B8","v":5000615},{"$f":"ALUNO_GRAD_TEMPO_INTEGRAL!D8","v":4},{"$f":"INÍCIO!$C$4-C7","v":2018},{"$f":"ALUNO_GRAD_TEMPO_INTEGRAL!C8","v":0},{"$f":"SUMIFS(Ingressantes!F:F,Ingressantes!C:C,TAXA_DE_SUCESSO_NA_GRADUAÇÃO!A7,Ingressantes!A:A,TAXA_DE_SUCESSO_NA_GRADUAÇÃO!D7)","v":17},0,null,null,"NÚMERO DE DIPLOMADOS  (NDI)",null,null,null,{"$f":"E141","v":2270}]
[{"$f":"ALUNO_GRAD_TEMPO_INTEGRAL!A9","v":"ABI - HISTÓRIA - 11ABI"},{"$f":"ALUNO_GRAD_TEMPO_INTEGRAL!B9","v":5000616},{"$f":"ALUNO_GRAD_TEMPO_INTEGRAL!D9","v":4},{"$f":"INÍCIO!$C$4-C8","v":2018},{"$f":"ALUNO_GRAD_TEMPO_INTEGRAL!C9","v":0},{"$f":"SUMIFS(Ingressantes!F:F,Ingressantes!C:C,TAXA_DE_SUCESSO_NA_GRADUAÇÃO!A8,Ingressantes!A:A,TAXA_DE_SUCESSO_NA_GRADUAÇÃO!D8)","v":21},0,null,null,"INGRESSANTES (NI)",null,null,null,{"$f":"F141","v":5389}]
[{"$f":"ALUNO_GRAD_TEMPO_INTEGRAL!A10","v":"ABI - HISTÓRIA - 28ABI"},{"$f":"ALUNO_GRAD_TEMPO_INTEGRAL!B10","v":5000616},{"$f":"ALUNO_GRAD_TEMPO_INTEGRAL!D10","v":4},{"$f":"INÍCIO!$C$4-C9","v":2018},{"$f":"ALUNO_GRAD_TEMPO_INTEGRAL!C10","v":0},{"$f":"SUMIFS(Ingressantes!F:F,Ingressantes!C:C,TAXA_DE_SUCESSO_NA_GRADUAÇÃO!A9,Ingressantes!A:A,TAXA_DE_SUCESSO_NA_GRADUAÇÃO!D9)","v":25},0,null,null,null,null,null,"TSG",{"$f":"N7/N8","v":0.42122842827982926}]
[{"$f":"ALUNO_GRAD_TEMPO_INTEGRAL!A11","v":"ABI - LETRAS - 13ABI"},{"$f":"ALUNO_GRAD_TEMPO_INTEGRAL!B11","v":5000617},{"$f":"ALUNO_GRAD_TEMPO_INTEGRAL!D11","v":4},{"$f":"INÍCIO!$C$4-C10","v":2018},{"$f":"ALUNO_GRAD_TEMPO_INTEGRAL!C11","v":0},{"$f":"SUMIFS(Ingressantes!F:F,Ingressantes!C:C,TAXA_DE_SUCESSO_NA_GRADUAÇÃO!A10,Ingressantes!A:A,TAXA_DE_SUCESSO_NA_GRADUAÇÃO!D10)","v":16},0]
[{"$f":"ALUNO_GRAD_TEMPO_INTEGRAL!A12","v":"ABI - LETRAS - 29ABI"},{"$f":"ALUNO_GRAD_TEMPO_INTEGRAL!B12","v":5000617},{"$f":"ALUNO_GRAD_TEMPO_INTEGRAL!D12","v":4},{"$f":"INÍCIO!$C$4-C11","v":2018},{"$f":"ALUNO_GRAD_TEMPO_INTEGRAL!C12","v":0},{"$f":"SUMIFS(Ingressantes!F:F,Ingressantes!C:C,TAXA_DE_SUCESSO_NA_GRADUAÇÃO!A11,Ingressantes!A:A,TAXA_DE_SUCESSO_NA_GRADUAÇÃO!D11)","v":42},0]
[{"$f":"ALUNO_GRAD_TEMPO_INTEGRAL!A13","v":"ADMINISTRAÇÃO - 01GV"},{"$f":"ALUNO_GRAD_TEMPO_INTEGRAL!B13","v":1178684},{"$f":"ALUNO_GRAD_TEMPO_INTEGRAL!D13","v":4},{"$f":"INÍCIO!$C$4-C12","v":2018},{"$f":"ALUNO_GRAD_TEMPO_INTEGRAL!C13","v":14},{"$f":"SUMIFS(Ingressantes!F:F,Ingressantes!C:C,TAXA_DE_SUCESSO_NA_GRADUAÇÃO!A12,Ingressantes!A:A,TAXA_DE_SUCESSO_NA_GRADUAÇÃO!D12)","v":68},0.20588235294117646]
[{"$f":"ALUNO_GRAD_TEMPO_INTEGRAL!A14","v":"ADMINISTRAÇÃO - 26A"},{"$f":"ALUNO_GRAD_TEMPO_INTEGRAL!B14","v":22451},{"$f":"ALUNO_GRAD_TEMPO_INTEGRAL!D14","v":4},{"$f":"INÍCIO!$C$4-C13","v":2018},{"$f":"ALUNO_GRAD_TEMPO_INTEGRAL!C14","v":20},{"$f":"SUMIFS(Ingressantes!F:F,Ingressantes!C:C,TAXA_DE_SUCESSO_NA_GRADUAÇÃO!A13,Ingressantes!A:A,TAXA_DE_SUCESSO_NA_GRADUAÇÃO!D13)","v":45},0.44444444444444442,null,null,"TAXA DE SUCESSO"]
[{"$f":"ALUNO_GRAD_TEMPO_INTEGRAL!A15","v":"ADMINISTRAÇÃO - 46A"},{"$f":"ALUNO_GRAD_TEMPO_INTEGRAL!B15","v":22451},{"$f":"ALUNO_GRAD_TEMPO_INTEGRAL!D15","v":4},{"$f":"INÍCIO!$C$4-C14","v":2018},{"$f":"ALUNO_GRAD_TEMPO_INTEGRAL!C15","v":17},{"$f":"SUMIFS(Ingressantes!F:F,Ingressantes!C:C,TAXA_DE_SUCESSO_NA_GRADUAÇÃO!A14,Ingressantes!A:A,TAXA_DE_SUCESSO_NA_GRADUAÇÃO!D14)","v":47},0.36170212765957449,null,null,"NÚMERO DE DIPLOMADOS / NÚMERO DE INGRESSANTES"]
[{"$f":"ALUNO_GRAD_TEMPO_INTEGRAL!A16","v":"ARQUITETURA E URBANISMO - 33A"},{"$f":"ALUNO_GRAD_TEMPO_INTEGRAL!B16","v":13114},{"$f":"ALUNO_GRAD_TEMPO_INTEGRAL!D16","v":4},{"$f":"INÍCIO!$C$4-C15","v":2018},{"$f":"ALUNO_GRAD_TEMPO_INTEGRAL!C16","v":52},{"$f":"SUMIFS(Ingressantes!F:F,Ingressantes!C:C,TAXA_DE_SUCESSO_NA_GRADUAÇÃO!A15,Ingressantes!A:A,TAXA_DE_SUCESSO_NA_GRADUAÇÃO!D15)","v":89},0.5842696629213483]
[{"$f":"ALUNO_GRAD_TEMPO_INTEGRAL!A17","v":"BACHARELADO EM ARTES VISUAIS - 66C"},{"$f":"ALUNO_GRAD_TEMPO_INTEGRAL!B17","v":1153948},{"$f":"ALUNO_GRAD_TEMPO_INTEGRAL!D17","v":2},{"$f":"INÍCIO!$C$4-C16","v":2020},{"$f":"ALUNO_GRAD_TEMPO_INTEGRAL!C17","v":5},{"$f":"SUMIFS(Ingressantes!F:F,Ingressantes!C:C,TAXA_DE_SUCESSO_NA_GRADUAÇÃO!A16,Ingressantes!A:A,TAXA_DE_SUCESSO_NA_GRADUAÇÃO!D16)","v":57},8.771929824561403E-2]
[{"$f":"ALUNO_GRAD_TEMPO_INTEGRAL!A18","v":"BACHARELADO EM CINEMA E AUDIOVISUAL - 66B"},{"$f":"ALUNO_GRAD_TEMPO_INTEGRAL!B18","v":1153947},{"$f":"ALUNO_GRAD_TEMPO_INTEGRAL!D18","v":2},{"$f":"INÍCIO!$C$4-C17","v":2020},{"$f":"ALUNO_GRAD_TEMPO_INTEGRAL!C18","v":18},{"$f":"SUMIFS(Ingressantes!F:F,Ingressantes!C:C,TAXA_DE_SUCESSO_NA_GRADUAÇÃO!A17,Ingressantes!A:A,TAXA_DE_SUCESSO_NA_GRADUAÇÃO!D17)","v":57},0.31578947368421051]
[{"$f":"ALUNO_GRAD_TEMPO_INTEGRAL!A19","v":"BACHARELADO EM DESIGN - 66D"},{"$f":"ALUNO_GRAD_TEMPO_INTEGRAL!B19","v":1153949},{"$f":"ALUNO_GRAD_TEMPO_INTEGRAL!D19","v":2},{"$f":"INÍCIO!$C$4-C18","v":2020},{"$f":"ALUNO_GRAD_TEMPO_INTEGRAL!C19","v":15},{"$f":"SUMIFS(Ingressantes!F:F,Ingressantes!C:C,TAXA_DE_SUCESSO_NA_GRADUAÇÃO!A18,Ingressantes!A:A,TAXA_DE_SUCESSO_NA_GRADUAÇÃO!D18)","v":57},0.26315789473684209]
[{"$f":"ALUNO_GRAD_TEMPO_INTEGRAL!A20","v":"BACHARELADO EM MODA - 66E"},{"$f":"ALUNO_GRAD_TEMPO_INTEGRAL!B20","v":1153950},{"$f":"ALUNO_GRAD_TEMPO_INTEGRAL!D20","v":2},{"$f":"INÍCIO!$C$4-C19","v":2020},{"$f":"ALUNO_GRAD_TEMPO_INTEGRAL!C20","v":12},{"$f":"SUMIFS(Ingressantes!F:F,Ingressantes!C:C,TAXA_DE_SUCESSO_NA_GRADUAÇÃO!A19,Ingressantes!A:A,TAXA_DE_SUCESSO_NA_GRADUAÇÃO!D19)","v":58},0.20689655172413793]
[{"$f":"ALUNO_GRAD_TEMPO_INTEGRAL!A21","v":"BACHARELADO INTERDISCIPLINAR EM ARTES E DESIGN - 66A"},{"$f":"ALUNO_GRAD_TEMPO_INTEGRAL!B21","v":116500},{"$f":"ALUNO_GRAD_TEMPO_INTEGRAL!D21","v":3},{"$f":"INÍCIO!$C$4-C20","v":2019},{"$f":"ALUNO_GRAD_TEMPO_INTEGRAL!C21","v":114},{"$f":"SUMIFS(Ingressantes!F:F,Ingressantes!C:C,TAXA_DE_SUCESSO_NA_GRADUAÇÃO!A20,Ingressantes!A:A,TAXA_DE_SUCESSO_NA_GRADUAÇÃO!D20)","v":261},0.43678160919540232]
[{"$f":"ALUNO_GRAD_TEMPO_INTEGRAL!A22","v":"BACHARELADO INTERDISCIPLINAR EM CIÊNCIAS HUMANAS - 72A"},{"$f":"ALUNO_GRAD_TEMPO_INTEGRAL!B22","v":1120242},{"$f":"ALUNO_GRAD_TEMPO_INTEGRAL!D22","v":3},{"$f":"INÍCIO!$C$4-C21","v":2019},{"$f":"ALUNO_GRAD_TEMPO_INTEGRAL!C22","v":39},{"$f":"SUMIFS(Ingressantes!F:F,Ingressantes!C:C,TAXA_DE_SUCESSO_NA_GRADUAÇÃO!A21,Ingressantes!A:A,TAXA_DE_SUCESSO_NA_GRADUAÇÃO!D21)","v":160},0.24374999999999999]
[{"$f":"ALUNO_GRAD_TEMPO_INTEGRAL!A23","v":"BACHARELADO INTERDISCIPLINAR EM CIÊNCIAS HUMANAS - 73A"},{"$f":"ALUNO_GRAD_TEMPO_INTEGRAL!B23","v":1120242},{"$f":"ALUNO_GRAD_TEMPO_INTEGRAL!D23","v":3},{"$f":"INÍCIO!$C$4-C22","v":2019},{"$f":"ALUNO_GRAD_TEMPO_INTEGRAL!C23","v":37},{"$f":"SUMIFS(Ingressantes!F:F,Ingressantes!C:C,TAXA_DE_SUCESSO_NA_GRADUAÇÃO!A22,Ingressantes!A:A,TAXA_DE_SUCESSO_NA_GRADUAÇÃO!D22)","v":156},0.23717948717948717]
[{"$f":"ALUNO_GRAD_TEMPO_INTEGRAL!A24","v":"CIÊNCIA DA COMPUTAÇÃO - 35A"},{"$f":"ALUNO_GRAD_TEMPO_INTEGRAL!B24","v":18518},{"$f":"ALUNO_GRAD_TEMPO_INTEGRAL!D24","v":4},{"$f":"INÍCIO!$C$4-C23","v":2018},{"$f":"ALUNO_GRAD_TEMPO_INTEGRAL!C24","v":5},{"$f":"SUMIFS(Ingressantes!F:F,Ingressantes!C:C,TAXA_DE_SUCESSO_NA_GRADUAÇÃO!A23,Ingressantes!A:A,TAXA_DE_SUCESSO_NA_GRADUAÇÃO!D23)","v":49},0.10204081632653061]
[{"$f":"ALUNO_GRAD_TEMPO_INTEGRAL!A25","v":"CIÊNCIA DA COMPUTAÇÃO - 65C"},{"$f":"ALUNO_GRAD_TEMPO_INTEGRAL!B25","v":65361},{"$f":"ALUNO_GRAD_TEMPO_INTEGRAL!D25","v":2},{"$f":"INÍCIO!$C$4-C24","v":2020},{"$f":"ALUNO_GRAD_TEMPO_INTEGRAL!C25","v":12},{"$f":"SUMIFS(Ingressantes!F:F,Ingressantes!C:C,TAXA_DE_SUCESSO_NA_GRADUAÇÃO!A24,Ingressantes!A:A,TAXA_DE_SUCESSO_NA_GRADUAÇÃO!D24)","v":24},0.5]
[{"$f":"ALUNO_GRAD_TEMPO_INTEGRAL!A26","v":"CIÊNCIA DA RELIGIÃO - 72B"},{"$f":"ALUNO_GRAD_TEMPO_INTEGRAL!B26","v":1165350},{"$f":"ALUNO_GRAD_TEMPO_INTEGRAL!D26","v":2},{"$f":"INÍCIO!$C$4-C25","v":2020},{"$f":"ALUNO_GRAD_TEMPO_INTEGRAL!C26","v":1},{"$f":"SUMIFS(Ingressantes!F:F,Ingressantes!C:C,TAXA_DE_SUCESSO_NA_GRADUAÇÃO!A25,Ingressantes!A:A,TAXA_DE_SUCESSO_NA_GRADUAÇÃO!D25)","v":0},0]
[{"$f":"ALUNO_GRAD_TEMPO_INTEGRAL!A27","v":"CIÊNCIA DA RELIGIÃO - 72BL"},{"$f":"ALUNO_GRAD_TEMPO_INTEGRAL!B27","v":1165686},{"$f":"ALUNO_GRAD_TEMPO_INTEGRAL!D27","v":2},{"$f":"INÍCIO!$C$4-C26","v":2020},{"$f":"ALUNO_GRAD_TEMPO_INTEGRAL!C27","v":1},{"$f":"SUMIFS(Ingressantes!F:F,Ingressantes!C:C,TAXA_DE_SUCESSO_NA_GRADUAÇÃO!A26,Ingressantes!A:A,TAXA_DE_SUCESSO_NA_GRADUAÇÃO!D26)","v":0},0]
[{"$f":"ALUNO_GRAD_TEMPO_INTEGRAL!A28","v":"CIÊNCIA DA RELIGIÃO - 73B"},{"$f":"ALUNO_GRAD_TEMPO_INTEGRAL!B28","v":1165350},{"$f":"ALUNO_GRAD_TEMPO_INTEGRAL!D28","v":2},{"$f":"INÍCIO!$C$4-C27","v":2020},{"$f":"ALUNO_GRAD_TEMPO_INTEGRAL!C28","v":5},{"$f":"SUMIFS(Ingressantes!F:F,Ingressantes!C:C,TAXA_DE_SUCESSO_NA_GRADUAÇÃO!A27,Ingressantes!A:A,TAXA_DE_SUCESSO_NA_GRADUAÇÃO!D27)","v":14},0.35714285714285715]
[{"$f":"ALUNO_GRAD_TEMPO_INTEGRAL!A29","v":"CIÊNCIA DA RELIGIÃO - 73BL"},{"$f":"ALUNO_GRAD_TEMPO_INTEGRAL!B29","v":1165686},{"$f":"ALUNO_GRAD_TEMPO_INTEGRAL!D29","v":2},{"$f":"INÍCIO!$C$4-C28","v":2020},{"$f":"ALUNO_GRAD_TEMPO_INTEGRAL!C29","v":1},{"$f":"SUMIFS(Ingressantes!F:F,Ingressantes!C:C,TAXA_DE_SUCESSO_NA_GRADUAÇÃO!A28,Ingressantes!A:A,TAXA_DE_SUCESSO_NA_GRADUAÇÃO!D28)","v":13},7.6923076923076927E-2]
[{"$f":"ALUNO_GRAD_TEMPO_INTEGRAL!A30","v":"CIÊNCIAS BIOLÓGICAS - 01A"},{"$f":"ALUNO_GRAD_TEMPO_INTEGRAL!B30","v":5000608},{"$f":"ALUNO_GRAD_TEMPO_INTEGRAL!D30","v":4},{"$f":"INÍCIO!$C$4-C29","v":2018},{"$f":"ALUNO_GRAD_TEMPO_INTEGRAL!C30","v":0},{"$f":"SUMIFS(Ingressantes!F:F,Ingressantes!C:C,TAXA_DE_SUCESSO_NA_GRADUAÇÃO!A29,Ingressantes!A:A,TAXA_DE_SUCESSO_NA_GRADUAÇÃO!D29)","v":0},0]
[{"$f":"ALUNO_GRAD_TEMPO_INTEGRAL!A31","v":"CIÊNCIAS BIOLÓGICAS - 01B"},{"$f":"ALUNO_GRAD_TEMPO_INTEGRAL!B31","v":313086},{"$f":"ALUNO_GRAD_TEMPO_INTEGRAL!D31","v":4},{"$f":"INÍCIO!$C$4-C30","v":2018},{"$f":"ALUNO_GRAD_TEMPO_INTEGRAL!C31","v":13},{"$f":"SUMIFS(Ingressantes!F:F,Ingressantes!C:C,TAXA_DE_SUCESSO_NA_GRADUAÇÃO!A30,Ingressantes!A:A,TAXA_DE_SUCESSO_NA_GRADUAÇÃO!D30)","v":39},0.33333333333333331]
[{"$f":"ALUNO_GRAD_TEMPO_INTEGRAL!A32","v":"CIÊNCIAS BIOLÓGICAS - 01L"},{"$f":"ALUNO_GRAD_TEMPO_INTEGRAL!B32","v":13086},{"$f":"ALUNO_GRAD_TEMPO_INTEGRAL!D32","v":4},{"$f":"INÍCIO!$C$4-C31","v":2018},{"$f":"ALUNO_GRAD_TEMPO_INTEGRAL!C32","v":34},{"$f":"SUMIFS(Ingressantes!F:F,Ingressantes!C:C,TAXA_DE_SUCESSO_NA_GRADUAÇÃO!A31,Ingressantes!A:A,TAXA_DE_SUCESSO_NA_GRADUAÇÃO!D31)","v":16},2.125]
[{"$f":"ALUNO_GRAD_TEMPO_INTEGRAL!A33","v":"CIÊNCIAS CONTÁBEIS - 02GV"},{"$f":"ALUNO_GRAD_TEMPO_INTEGRAL!B33","v":1183351},{"$f":"ALUNO_GRAD_TEMPO_INTEGRAL!D33","v":4},{"$f":"INÍCIO!$C$4-C32","v":2018},{"$f":"ALUNO_GRAD_TEMPO_INTEGRAL!C33","v":10},{"$f":"SUMIFS(Ingressantes!F:F,Ingressantes!C:C,TAXA_DE_SUCESSO_NA_GRADUAÇÃO!A32,Ingressantes!A:A,TAXA_DE_SUCESSO_NA_GRADUAÇÃO!D32)","v":36},0.27777777777777779]
[{"$f":"ALUNO_GRAD_TEMPO_INTEGRAL!A34","v":"CIÊNCIAS CONTÁBEIS - 77A"},{"$f":"ALUNO_GRAD_TEMPO_INTEGRAL!B34","v":1132074},{"$f":"ALUNO_GRAD_TEMPO_INTEGRAL!D34","v":4},{"$f":"INÍCIO!$C$4-C33","v":2018},{"$f":"ALUNO_GRAD_TEMPO_INTEGRAL!C34","v":22},{"$f":"SUMIFS(Ingressantes!F:F,Ingressantes!C:C,TAXA_DE_SUCESSO_NA_GRADUAÇÃO!A33,Ingressantes!A:A,TAXA_DE_SUCESSO_NA_GRADUAÇÃO!D33)","v":44},0.5]
[{"$f":"ALUNO_GRAD_TEMPO_INTEGRAL!A35","v":"CIÊNCIAS CONTÁBEIS - 78A"},{"$f":"ALUNO_GRAD_TEMPO_INTEGRAL!B35","v":1132074},{"$f":"ALUNO_GRAD_TEMPO_INTEGRAL!D35","v":4},{"$f":"INÍCIO!$C$4-C34","v":2018},{"$f":"ALUNO_GRAD_TEMPO_INTEGRAL!C35","v":18},{"$f":"SUMIFS(Ingressantes!F:F,Ingressantes!C:C,TAXA_DE_SUCESSO_NA_GRADUAÇÃO!A34,Ingressantes!A:A,TAXA_DE_SUCESSO_NA_GRADUAÇÃO!D34)","v":46},0.39130434782608697]
[{"$f":"ALUNO_GRAD_TEMPO_INTEGRAL!A36","v":"CIÊNCIAS ECONÔMICAS - 03GV"},{"$f":"ALUNO_GRAD_TEMPO_INTEGRAL!B36","v":1178683},{"$f":"ALUNO_GRAD_TEMPO_INTEGRAL!D36","v":4},{"$f":"INÍCIO!$C$4-C35","v":2018},{"$f":"ALUNO_GRAD_TEMPO_INTEGRAL!C36","v":14},{"$f":"SUMIFS(Ingressantes!F:F,Ingressantes!C:C,TAXA_DE_SUCESSO_NA_GRADUAÇÃO!A35,Ingressantes!A:A,TAXA_DE_SUCESSO_NA_GRADUAÇÃO!D35)","v":86},0.16279069767441862]
[{"$f":"ALUNO_GRAD_TEMPO_INTEGRAL!A37","v":"CIÊNCIAS ECONÔMICAS - 05A"},{"$f":"ALUNO_GRAD_TEMPO_INTEGRAL!B37","v":13090},{"$f":"ALUNO_GRAD_TEMPO_INTEGRAL!D37","v":4},{"$f":"INÍCIO!$C$4-C36","v":2018},{"$f":"ALUNO_GRAD_TEMPO_INTEGRAL!C37","v":19},{"$f":"SUMIFS(Ingressantes!F:F,Ingressantes!C:C,TAXA_DE_SUCESSO_NA_GRADUAÇÃO!A36,Ingressantes!A:A,TAXA_DE_SUCESSO_NA_GRADUAÇÃO!D36)","v":53},0.35849056603773582]
[{"$f":"ALUNO_GRAD_TEMPO_INTEGRAL!A38","v":"CIÊNCIAS ECONÔMICAS - 51A"},{"$f":"ALUNO_GRAD_TEMPO_INTEGRAL!B38","v":13090},{"$f":"ALUNO_GRAD_TEMPO_INTEGRAL!D38","v":4},{"$f":"INÍCIO!$C$4-C37","v":2018},{"$f":"ALUNO_GRAD_TEMPO_INTEGRAL!C38","v":27},{"$f":"SUMIFS(Ingressantes!F:F,Ingressantes!C:C,TAXA_DE_SUCESSO_NA_GRADUAÇÃO!A37,Ingressantes!A:A,TAXA_DE_SUCESSO_NA_GRADUAÇÃO!D37)","v":52},0.51923076923076927]
[{"$f":"ALUNO_GRAD_TEMPO_INTEGRAL!A39","v":"CIÊNCIAS EXATAS - 65A"},{"$f":"ALUNO_GRAD_TEMPO_INTEGRAL!B39","v":116502},{"$f":"ALUNO_GRAD_TEMPO_INTEGRAL!D39","v":3},{"$f":"INÍCIO!$C$4-C38","v":2019},{"$f":"ALUNO_GRAD_TEMPO_INTEGRAL!C39","v":81},{"$f":"SUMIFS(Ingressantes!F:F,Ingressantes!C:C,TAXA_DE_SUCESSO_NA_GRADUAÇÃO!A38,Ingressantes!A:A,TAXA_DE_SUCESSO_NA_GRADUAÇÃO!D38)","v":246},0.32926829268292684]
[{"$f":"ALUNO_GRAD_TEMPO_INTEGRAL!A40","v":"CIÊNCIAS SOCIAIS - 31B"},{"$f":"ALUNO_GRAD_TEMPO_INTEGRAL!B40","v":313087},{"$f":"ALUNO_GRAD_TEMPO_INTEGRAL!D40","v":2},{"$f":"INÍCIO!$C$4-C39","v":2020},{"$f":"ALUNO_GRAD_TEMPO_INTEGRAL!C40","v":0},{"$f":"SUMIFS(Ingressantes!F:F,Ingressantes!C:C,TAXA_DE_SUCESSO_NA_GRADUAÇÃO!A39,Ingressantes!A:A,TAXA_DE_SUCESSO_NA_GRADUAÇÃO!D39)","v":0},0,null,null,"Não preencher os cursos ABI´s - Não temos como calcular ingressantes e concluintes"]
[{"$f":"ALUNO_GRAD_TEMPO_INTEGRAL!A41","v":"CIÊNCIAS SOCIAIS - 31L"},{"$f":"ALUNO_GRAD_TEMPO_INTEGRAL!B41","v":13087},{"$f":"ALUNO_GRAD_TEMPO_INTEGRAL!D41","v":2},{"$f":"INÍCIO!$C$4-C40","v":2020},{"$f":"ALUNO_GRAD_TEMPO_INTEGRAL!C41","v":0},{"$f":"SUMIFS(Ingressantes!F:F,Ingressantes!C:C,TAXA_DE_SUCESSO_NA_GRADUAÇÃO!A40,Ingressantes!A:A,TAXA_DE_SUCESSO_NA_GRADUAÇÃO!D40)","v":0},0,null,null,"exceto o 21ABI/A - Considerar aqui 21ABI, 21A e 21B"]
[{"$f":"ALUNO_GRAD_TEMPO_INTEGRAL!A42","v":"CIÊNCIAS SOCIAIS - 72C"},{"$f":"ALUNO_GRAD_TEMPO_INTEGRAL!B42","v":313087},{"$f":"ALUNO_GRAD_TEMPO_INTEGRAL!D42","v":2},{"$f":"INÍCIO!$C$4-C41","v":2020},{"$f":"ALUNO_GRAD_TEMPO_INTEGRAL!C42","v":0},{"$f":"SUMIFS(Ingressantes!F:F,Ingressantes!C:C,TAXA_DE_SUCESSO_NA_GRADUAÇÃO!A41,Ingressantes!A:A,TAXA_DE_SUCESSO_NA_GRADUAÇÃO!D41)","v":0},0]
[{"$f":"ALUNO_GRAD_TEMPO_INTEGRAL!A43","v":"CIÊNCIAS SOCIAIS - 72CB"},{"$f":"ALUNO_GRAD_TEMPO_INTEGRAL!B43","v":313087},{"$f":"ALUNO_GRAD_TEMPO_INTEGRAL!D43","v":2},{"$f":"INÍCIO!$C$4-C42","v":2020},{"$f":"ALUNO_GRAD_TEMPO_INTEGRAL!C43","v":1},{"$f":"SUMIFS(Ingressantes!F:F,Ingressantes!C:C,TAXA_DE_SUCESSO_NA_GRADUAÇÃO!A42,Ingressantes!A:A,TAXA_DE_SUCESSO_NA_GRADUAÇÃO!D42)","v":0},0]
[{"$f":"ALUNO_GRAD_TEMPO_INTEGRAL!A44","v":"CIÊNCIAS SOCIAIS - 72CL"},{"$f":"ALUNO_GRAD_TEMPO_INTEGRAL!B44","v":13087},{"$f":"ALUNO_GRAD_TEMPO_INTEGRAL!D44","v":2},{"$f":"INÍCIO!$C$4-C43","v":2020},{"$f":"ALUNO_GRAD_TEMPO_INTEGRAL!C44","v":1},{"$f":"SUMIFS(Ingressantes!F:F,Ingressantes!C:C,TAXA_DE_SUCESSO_NA_GRADUAÇÃO!A43,Ingressantes!A:A,TAXA_DE_SUCESSO_NA_GRADUAÇÃO!D43)","v":0},0]
[{"$f":"ALUNO_GRAD_TEMPO_INTEGRAL!A45","v":"CIÊNCIAS SOCIAIS - 73C"},{"$f":"ALUNO_GRAD_TEMPO_INTEGRAL!B45","v":313087},{"$f":"ALUNO_GRAD_TEMPO_INTEGRAL!D45","v":2},{"$f":"INÍCIO!$C$4-C44","v":2020},{"$f":"ALUNO_GRAD_TEMPO_INTEGRAL!C45","v":0},{"$f":"SUMIFS(Ingressantes!F:F,Ingressantes!C:C,TAXA_DE_SUCESSO_NA_GRADUAÇÃO!A44,Ingressantes!A:A,TAXA_DE_SUCESSO_NA_GRADUAÇÃO!D44)","v":0},0]
[{"$f":"ALUNO_GRAD_TEMPO_INTEGRAL!A46","v":"CIÊNCIAS SOCIAIS - 73CB"},{"$f":"ALUNO_GRAD_TEMPO_INTEGRAL!B46","v":313087},{"$f":"ALUNO_GRAD_TEMPO_INTEGRAL!D46","v":2},{"$f":"INÍCIO!$C$4-C45","v":2020},{"$f":"ALUNO_GRAD_TEMPO_INTEGRAL!C46","v":13},{"$f":"SUMIFS(Ingressantes!F:F,Ingressantes!C:C,TAXA_DE_SUCESSO_NA_GRADUAÇÃO!A45,Ingressantes!A:A,TAXA_DE_SUCESSO_NA_GRADUAÇÃO!D45)","v":0},0]
[{"$f":"ALUNO_GRAD_TEMPO_INTEGRAL!A47","v":"CIÊNCIAS SOCIAIS - 73CL"},{"$f":"ALUNO_GRAD_TEMPO_INTEGRAL!B47","v":13087},{"$f":"ALUNO_GRAD_TEMPO_INTEGRAL!D47","v":2},{"$f":"INÍCIO!$C$4-C46","v":2020},{"$f":"ALUNO_GRAD_TEMPO_INTEGRAL!C47","v":9},{"$f":"SUMIFS(Ingressantes!F:F,Ingressantes!C:C,TAXA_DE_SUCESSO_NA_GRADUAÇÃO!A46,Ingressantes!A:A,TAXA_DE_SUCESSO_NA_GRADUAÇÃO!D46)","v":0},0]
[{"$f":"ALUNO_GRAD_TEMPO_INTEGRAL!A48","v":"DIREITO - 04A"},{"$f":"ALUNO_GRAD_TEMPO_INTEGRAL!B48","v":13089},{"$f":"ALUNO_GRAD_TEMPO_INTEGRAL!D48","v":5},{"$f":"INÍCIO!$C$4-C47","v":2017},{"$f":"ALUNO_GRAD_TEMPO_INTEGRAL!C48","v":96},{"$f":"SUMIFS(Ingressantes!F:F,Ingressantes!C:C,TAXA_DE_SUCESSO_NA_GRADUAÇÃO!A47,Ingressantes!A:A,TAXA_DE_SUCESSO_NA_GRADUAÇÃO!D47)","v":119},0.80672268907563027]
[{"$f":"ALUNO_GRAD_TEMPO_INTEGRAL!A49","v":"DIREITO - 04GV"},{"$f":"ALUNO_GRAD_TEMPO_INTEGRAL!B49","v":13089},{"$f":"ALUNO_GRAD_TEMPO_INTEGRAL!D49","v":5},{"$f":"INÍCIO!$C$4-C48","v":2017},{"$f":"ALUNO_GRAD_TEMPO_INTEGRAL!C49","v":88},{"$f":"SUMIFS(Ingressantes!F:F,Ingressantes!C:C,TAXA_DE_SUCESSO_NA_GRADUAÇÃO!A48,Ingressantes!A:A,TAXA_DE_SUCESSO_NA_GRADUAÇÃO!D48)","v":129},0.68217054263565891]
[{"$f":"ALUNO_GRAD_TEMPO_INTEGRAL!A50","v":"DIREITO - 34A"},{"$f":"ALUNO_GRAD_TEMPO_INTEGRAL!B50","v":21860},{"$f":"ALUNO_GRAD_TEMPO_INTEGRAL!D50","v":5},{"$f":"INÍCIO!$C$4-C49","v":2017},{"$f":"ALUNO_GRAD_TEMPO_INTEGRAL!C50","v":82},{"$f":"SUMIFS(Ingressantes!F:F,Ingressantes!C:C,TAXA_DE_SUCESSO_NA_GRADUAÇÃO!A49,Ingressantes!A:A,TAXA_DE_SUCESSO_NA_GRADUAÇÃO!D49)","v":129},0.63565891472868219]
[{"$f":"ALUNO_GRAD_TEMPO_INTEGRAL!A51","v":"EDUCAÇÃO ARTÍSTICA - 03A"},{"$f":"ALUNO_GRAD_TEMPO_INTEGRAL!B51","v":38748},{"$f":"ALUNO_GRAD_TEMPO_INTEGRAL!D51","v":4},{"$f":"INÍCIO!$C$4-C50","v":2018},{"$f":"ALUNO_GRAD_TEMPO_INTEGRAL!C51","v":0},{"$f":"SUMIFS(Ingressantes!F:F,Ingressantes!C:C,TAXA_DE_SUCESSO_NA_GRADUAÇÃO!A50,Ingressantes!A:A,TAXA_DE_SUCESSO_NA_GRADUAÇÃO!D50)","v":0},0]
[{"$f":"ALUNO_GRAD_TEMPO_INTEGRAL!A52","v":"EDUCAÇÃO FÍSICA - 10GV"},{"$f":"ALUNO_GRAD_TEMPO_INTEGRAL!B52","v":1270439},{"$f":"ALUNO_GRAD_TEMPO_INTEGRAL!D52","v":5},{"$f":"INÍCIO!$C$4-C51","v":2017},{"$f":"ALUNO_GRAD_TEMPO_INTEGRAL!C52","v":11},{"$f":"SUMIFS(Ingressantes!F:F,Ingressantes!C:C,TAXA_DE_SUCESSO_NA_GRADUAÇÃO!A51,Ingressantes!A:A,TAXA_DE_SUCESSO_NA_GRADUAÇÃO!D51)","v":74},0.14864864864864866]
[{"$f":"ALUNO_GRAD_TEMPO_INTEGRAL!A53","v":"EDUCAÇÃO FÍSICA - 21B"},{"$f":"ALUNO_GRAD_TEMPO_INTEGRAL!B53","v":313092},{"$f":"ALUNO_GRAD_TEMPO_INTEGRAL!D53","v":5},{"$f":"INÍCIO!$C$4-C52","v":2017},{"$f":"ALUNO_GRAD_TEMPO_INTEGRAL!C53","v":26},{"$f":"SUMIFS(Ingressantes!F:F,Ingressantes!C:C,TAXA_DE_SUCESSO_NA_GRADUAÇÃO!A52,Ingressantes!A:A,TAXA_DE_SUCESSO_NA_GRADUAÇÃO!D52)","v":10},2.6]
[{"$f":"ALUNO_GRAD_TEMPO_INTEGRAL!A54","v":"EDUCAÇÃO FÍSICA - 21L"},{"$f":"ALUNO_GRAD_TEMPO_INTEGRAL!B54","v":13092},{"$f":"ALUNO_GRAD_TEMPO_INTEGRAL!D54","v":5},{"$f":"INÍCIO!$C$4-C53","v":2017},{"$f":"ALUNO_GRAD_TEMPO_INTEGRAL!C54","v":22},{"$f":"SUMIFS(Ingressantes!F:F,Ingressantes!C:C,TAXA_DE_SUCESSO_NA_GRADUAÇÃO!A53,Ingressantes!A:A,TAXA_DE_SUCESSO_NA_GRADUAÇÃO!D53)","v":7},3.1428571428571428]
[{"$f":"ALUNO_GRAD_TEMPO_INTEGRAL!A55","v":"ENFERMAGEM - 23A"},{"$f":"ALUNO_GRAD_TEMPO_INTEGRAL!B55","v":38994},{"$f":"ALUNO_GRAD_TEMPO_INTEGRAL!D55","v":5},{"$f":"INÍCIO!$C$4-C54","v":2017},{"$f":"ALUNO_GRAD_TEMPO_INTEGRAL!C55","v":37},{"$f":"SUMIFS(Ingressantes!F:F,Ingressantes!C:C,TAXA_DE_SUCESSO_NA_GRADUAÇÃO!A54,Ingressantes!A:A,TAXA_DE_SUCESSO_NA_GRADUAÇÃO!D54)","v":90},0.41111111111111109]
[{"$f":"ALUNO_GRAD_TEMPO_INTEGRAL!A56","v":"ENFERMAGEM - 23L"},{"$f":"ALUNO_GRAD_TEMPO_INTEGRAL!B56","v":338994},{"$f":"ALUNO_GRAD_TEMPO_INTEGRAL!D56","v":5},{"$f":"INÍCIO!$C$4-C55","v":2017},{"$f":"ALUNO_GRAD_TEMPO_INTEGRAL!C56","v":7},{"$f":"SUMIFS(Ingressantes!F:F,Ingressantes!C:C,TAXA_DE_SUCESSO_NA_GRADUAÇÃO!A55,Ingressantes!A:A,TAXA_DE_SUCESSO_NA_GRADUAÇÃO!D55)","v":0},0]
[{"$f":"ALUNO_GRAD_TEMPO_INTEGRAL!A57","v":"ENGENHARIA AMBIENTAL E SANITÁRIA - 67A"},{"$f":"ALUNO_GRAD_TEMPO_INTEGRAL!B57","v":116496},{"$f":"ALUNO_GRAD_TEMPO_INTEGRAL!D57","v":5},{"$f":"INÍCIO!$C$4-C56","v":2017},{"$f":"ALUNO_GRAD_TEMPO_INTEGRAL!C57","v":16},{"$f":"SUMIFS(Ingressantes!F:F,Ingressantes!C:C,TAXA_DE_SUCESSO_NA_GRADUAÇÃO!A56,Ingressantes!A:A,TAXA_DE_SUCESSO_NA_GRADUAÇÃO!D56)","v":57},0.2807017543859649]
[{"$f":"ALUNO_GRAD_TEMPO_INTEGRAL!A58","v":"ENGENHARIA CIVIL - 24A"},{"$f":"ALUNO_GRAD_TEMPO_INTEGRAL!B58","v":13094},{"$f":"ALUNO_GRAD_TEMPO_INTEGRAL!D58","v":5},{"$f":"INÍCIO!$C$4-C57","v":2017},{"$f":"ALUNO_GRAD_TEMPO_INTEGRAL!C58","v":65},{"$f":"SUMIFS(Ingressantes!F:F,Ingressantes!C:C,TAXA_DE_SUCESSO_NA_GRADUAÇÃO!A57,Ingressantes!A:A,TAXA_DE_SUCESSO_NA_GRADUAÇÃO!D57)","v":118},0.55084745762711862]
[{"$f":"ALUNO_GRAD_TEMPO_INTEGRAL!A59","v":"ENGENHARIA COMPUTACIONAL - 65B"},{"$f":"ALUNO_GRAD_TEMPO_INTEGRAL!B59","v":1120244},{"$f":"ALUNO_GRAD_TEMPO_INTEGRAL!D59","v":2},{"$f":"INÍCIO!$C$4-C58","v":2020},{"$f":"ALUNO_GRAD_TEMPO_INTEGRAL!C59","v":8},{"$f":"SUMIFS(Ingressantes!F:F,Ingressantes!C:C,TAXA_DE_SUCESSO_NA_GRADUAÇÃO!A58,Ingressantes!A:A,TAXA_DE_SUCESSO_NA_GRADUAÇÃO!D58)","v":26},0.30769230769230771]
[{"$f":"ALUNO_GRAD_TEMPO_INTEGRAL!A60","v":"ENGENHARIA DE PRODUÇÃO - 49A"},{"$f":"ALUNO_GRAD_TEMPO_INTEGRAL!B60","v":38594},{"$f":"ALUNO_GRAD_TEMPO_INTEGRAL!D60","v":5},{"$f":"INÍCIO!$C$4-C59","v":2017},{"$f":"ALUNO_GRAD_TEMPO_INTEGRAL!C60","v":46},{"$f":"SUMIFS(Ingressantes!F:F,Ingressantes!C:C,TAXA_DE_SUCESSO_NA_GRADUAÇÃO!A59,Ingressantes!A:A,TAXA_DE_SUCESSO_NA_GRADUAÇÃO!D59)","v":70},0.65714285714285714]
[{"$f":"ALUNO_GRAD_TEMPO_INTEGRAL!A61","v":"ENGENHARIA ELÉTRICA - 25A"},{"$f":"ALUNO_GRAD_TEMPO_INTEGRAL!B61","v":13095},{"$f":"ALUNO_GRAD_TEMPO_INTEGRAL!D61","v":5},{"$f":"INÍCIO!$C$4-C60","v":2017},{"$f":"ALUNO_GRAD_TEMPO_INTEGRAL!C61","v":0},{"$f":"SUMIFS(Ingressantes!F:F,Ingressantes!C:C,TAXA_DE_SUCESSO_NA_GRADUAÇÃO!A60,Ingressantes!A:A,TAXA_DE_SUCESSO_NA_GRADUAÇÃO!D60)","v":0},0]
[{"$f":"ALUNO_GRAD_TEMPO_INTEGRAL!A62","v":"ENGENHARIA ELÉTRICA - 50A"},{"$f":"ALUNO_GRAD_TEMPO_INTEGRAL!B62","v":49788},{"$f":"ALUNO_GRAD_TEMPO_INTEGRAL!D62","v":5},{"$f":"INÍCIO!$C$4-C61","v":2017},{"$f":"ALUNO_GRAD_TEMPO_INTEGRAL!C62","v":0},{"$f":"SUMIFS(Ingressantes!F:F,Ingressantes!C:C,TAXA_DE_SUCESSO_NA_GRADUAÇÃO!A61,Ingressantes!A:A,TAXA_DE_SUCESSO_NA_GRADUAÇÃO!D61)","v":0},0]
[{"$f":"ALUNO_GRAD_TEMPO_INTEGRAL!A63","v":"ENGENHARIA ELÉTRICA - HAB. EM ROBÓTICA E AUTOMAÇÃO INDUSTRIAL - 65I"},{"$f":"ALUNO_GRAD_TEMPO_INTEGRAL!B63","v":1109485},{"$f":"ALUNO_GRAD_TEMPO_INTEGRAL!D63","v":2},{"$f":"INÍCIO!$C$4-C62","v":2020},{"$f":"ALUNO_GRAD_TEMPO_INTEGRAL!C63","v":1},{"$f":"SUMIFS(Ingressantes!F:F,Ingressantes!C:C,TAXA_DE_SUCESSO_NA_GRADUAÇÃO!A62,Ingressantes!A:A,TAXA_DE_SUCESSO_NA_GRADUAÇÃO!D62)","v":0},0]
[{"$f":"ALUNO_GRAD_TEMPO_INTEGRAL!A64","v":"ENGENHARIA ELÉTRICA - HAB. EM ROBÓTICA E AUTOMAÇÃO INDUSTRIAL - 69B"},{"$f":"ALUNO_GRAD_TEMPO_INTEGRAL!B64","v":1109485},{"$f":"ALUNO_GRAD_TEMPO_INTEGRAL!D64","v":5},{"$f":"INÍCIO!$C$4-C63","v":2017},{"$f":"ALUNO_GRAD_TEMPO_INTEGRAL!C64","v":17},{"$f":"SUMIFS(Ingressantes!F:F,Ingressantes!C:C,TAXA_DE_SUCESSO_NA_GRADUAÇÃO!A63,Ingressantes!A:A,TAXA_DE_SUCESSO_NA_GRADUAÇÃO!D63)","v":43},0.39534883720930231]
[{"$f":"ALUNO_GRAD_TEMPO_INTEGRAL!A65","v":"ENGENHARIA ELÉTRICA - HABILITAÇÃO EM ENERGIA - 65H"},{"$f":"ALUNO_GRAD_TEMPO_INTEGRAL!B65","v":1109475},{"$f":"ALUNO_GRAD_TEMPO_INTEGRAL!D65","v":2},{"$f":"INÍCIO!$C$4-C64","v":2020},{"$f":"ALUNO_GRAD_TEMPO_INTEGRAL!C65","v":2},{"$f":"SUMIFS(Ingressantes!F:F,Ingressantes!C:C,TAXA_DE_SUCESSO_NA_GRADUAÇÃO!A64,Ingressantes!A:A,TAXA_DE_SUCESSO_NA_GRADUAÇÃO!D64)","v":1},2]
[{"$f":"ALUNO_GRAD_TEMPO_INTEGRAL!A66","v":"ENGENHARIA ELÉTRICA - HABILITAÇÃO EM ENERGIA - 70A"},{"$f":"ALUNO_GRAD_TEMPO_INTEGRAL!B66","v":1109475},{"$f":"ALUNO_GRAD_TEMPO_INTEGRAL!D66","v":5},{"$f":"INÍCIO!$C$4-C65","v":2017},{"$f":"ALUNO_GRAD_TEMPO_INTEGRAL!C66","v":20},{"$f":"SUMIFS(Ingressantes!F:F,Ingressantes!C:C,TAXA_DE_SUCESSO_NA_GRADUAÇÃO!A65,Ingressantes!A:A,TAXA_DE_SUCESSO_NA_GRADUAÇÃO!D65)","v":56},0.35714285714285715]
[{"$f":"ALUNO_GRAD_TEMPO_INTEGRAL!A67","v":"ENGENHARIA ELÉTRICA - HABILITAÇÃO EM SISTEMAS DE POTÊNCIA - 65J"},{"$f":"ALUNO_GRAD_TEMPO_INTEGRAL!B67","v":1109486},{"$f":"ALUNO_GRAD_TEMPO_INTEGRAL!D67","v":2},{"$f":"INÍCIO!$C$4-C66","v":2020},{"$f":"ALUNO_GRAD_TEMPO_INTEGRAL!C67","v":4},{"$f":"SUMIFS(Ingressantes!F:F,Ingressantes!C:C,TAXA_DE_SUCESSO_NA_GRADUAÇÃO!A66,Ingressantes!A:A,TAXA_DE_SUCESSO_NA_GRADUAÇÃO!D66)","v":1},4]
[{"$f":"ALUNO_GRAD_TEMPO_INTEGRAL!A68","v":"ENGENHARIA ELÉTRICA - HABILITAÇÃO EM SISTEMAS DE POTÊNCIA - 69C"},{"$f":"ALUNO_GRAD_TEMPO_INTEGRAL!B68","v":1109486},{"$f":"ALUNO_GRAD_TEMPO_INTEGRAL!D68","v":5},{"$f":"INÍCIO!$C$4-C67","v":2017},{"$f":"ALUNO_GRAD_TEMPO_INTEGRAL!C68","v":26},{"$f":"SUMIFS(Ingressantes!F:F,Ingressantes!C:C,TAXA_DE_SUCESSO_NA_GRADUAÇÃO!A67,Ingressantes!A:A,TAXA_DE_SUCESSO_NA_GRADUAÇÃO!D67)","v":47},0.55319148936170215]
[{"$f":"ALUNO_GRAD_TEMPO_INTEGRAL!A69","v":"ENGENHARIA ELÉTRICA - HABILITAÇÃO EM SISTEMAS ELETRÔNICOS - 65K"},{"$f":"ALUNO_GRAD_TEMPO_INTEGRAL!B69","v":1109487},{"$f":"ALUNO_GRAD_TEMPO_INTEGRAL!D69","v":2},{"$f":"INÍCIO!$C$4-C68","v":2020},{"$f":"ALUNO_GRAD_TEMPO_INTEGRAL!C69","v":2},{"$f":"SUMIFS(Ingressantes!F:F,Ingressantes!C:C,TAXA_DE_SUCESSO_NA_GRADUAÇÃO!A68,Ingressantes!A:A,TAXA_DE_SUCESSO_NA_GRADUAÇÃO!D68)","v":0},{"$f":"IF(E68=0,,IF(F68=0,,E68/F68))","v":0}]
[{"$f":"ALUNO_GRAD_TEMPO_INTEGRAL!A70","v":"ENGENHARIA ELÉTRICA - HABILITAÇÃO EM SISTEMAS ELETRÔNICOS - 69A"},{"$f":"ALUNO_GRAD_TEMPO_INTEGRAL!B70","v":1109487},{"$f":"ALUNO_GRAD_TEMPO_INTEGRAL!D70","v":5},{"$f":"INÍCIO!$C$4-C69","v":2017},{"$f":"ALUNO_GRAD_TEMPO_INTEGRAL!C70","v":17},{"$f":"SUMIFS(Ingressantes!F:F,Ingressantes!C:C,TAXA_DE_SUCESSO_NA_GRADUAÇÃO!A69,Ingressantes!A:A,TAXA_DE_SUCESSO_NA_GRADUAÇÃO!D69)","v":47},0.36170212765957449]
[{"$f":"ALUNO_GRAD_TEMPO_INTEGRAL!A71","v":"ENGENHARIA ELÉTRICA - HABILITAÇÃO EM TELECOMUNICAÇÕES - 65L"},{"$f":"ALUNO_GRAD_TEMPO_INTEGRAL!B71","v":1109488},{"$f":"ALUNO_GRAD_TEMPO_INTEGRAL!D71","v":2},{"$f":"INÍCIO!$C$4-C70","v":2020},{"$f":"ALUNO_GRAD_TEMPO_INTEGRAL!C71","v":1},{"$f":"SUMIFS(Ingressantes!F:F,Ingressantes!C:C,TAXA_DE_SUCESSO_NA_GRADUAÇÃO!A70,Ingressantes!A:A,TAXA_DE_SUCESSO_NA_GRADUAÇÃO!D70)","v":0},0]
[{"$f":"ALUNO_GRAD_TEMPO_INTEGRAL!A72","v":"ENGENHARIA ELÉTRICA - HABILITAÇÃO EM TELECOMUNICAÇÕES - 69D"},{"$f":"ALUNO_GRAD_TEMPO_INTEGRAL!B72","v":1109488},{"$f":"ALUNO_GRAD_TEMPO_INTEGRAL!D72","v":5},{"$f":"INÍCIO!$C$4-C71","v":2017},{"$f":"ALUNO_GRAD_TEMPO_INTEGRAL!C72","v":12},{"$f":"SUMIFS(Ingressantes!F:F,Ingressantes!C:C,TAXA_DE_SUCESSO_NA_GRADUAÇÃO!A71,Ingressantes!A:A,TAXA_DE_SUCESSO_NA_GRADUAÇÃO!D71)","v":47},0.25531914893617019]
[{"$f":"ALUNO_GRAD_TEMPO_INTEGRAL!A73","v":"ENGENHARIA MECÂNICA - 65M"},{"$f":"ALUNO_GRAD_TEMPO_INTEGRAL!B73","v":1109489},{"$f":"ALUNO_GRAD_TEMPO_INTEGRAL!D73","v":2},{"$f":"INÍCIO!$C$4-C72","v":2020},{"$f":"ALUNO_GRAD_TEMPO_INTEGRAL!C73","v":9},{"$f":"SUMIFS(Ingressantes!F:F,Ingressantes!C:C,TAXA_DE_SUCESSO_NA_GRADUAÇÃO!A72,Ingressantes!A:A,TAXA_DE_SUCESSO_NA_GRADUAÇÃO!D72)","v":1},9]
[{"$f":"ALUNO_GRAD_TEMPO_INTEGRAL!A74","v":"ENGENHARIA MECÂNICA - 71A"},{"$f":"ALUNO_GRAD_TEMPO_INTEGRAL!B74","v":1109489},{"$f":"ALUNO_GRAD_TEMPO_INTEGRAL!D74","v":5},{"$f":"INÍCIO!$C$4-C73","v":2017},{"$f":"ALUNO_GRAD_TEMPO_INTEGRAL!C74","v":20},{"$f":"SUMIFS(Ingressantes!F:F,Ingressantes!C:C,TAXA_DE_SUCESSO_NA_GRADUAÇÃO!A73,Ingressantes!A:A,TAXA_DE_SUCESSO_NA_GRADUAÇÃO!D73)","v":59},0.33898305084745761]
[{"$f":"ALUNO_GRAD_TEMPO_INTEGRAL!A75","v":"ESTATÍSTICA - 65D"},{"$f":"ALUNO_GRAD_TEMPO_INTEGRAL!B75","v":113531},{"$f":"ALUNO_GRAD_TEMPO_INTEGRAL!D75","v":2},{"$f":"INÍCIO!$C$4-C74","v":2020},{"$f":"ALUNO_GRAD_TEMPO_INTEGRAL!C75","v":9},{"$f":"SUMIFS(Ingressantes!F:F,Ingressantes!C:C,TAXA_DE_SUCESSO_NA_GRADUAÇÃO!A74,Ingressantes!A:A,TAXA_DE_SUCESSO_NA_GRADUAÇÃO!D74)","v":27},0.33333333333333331]
[{"$f":"ALUNO_GRAD_TEMPO_INTEGRAL!A76","v":"FARMÁCIA - 05GV"},{"$f":"ALUNO_GRAD_TEMPO_INTEGRAL!B76","v":1185503},{"$f":"ALUNO_GRAD_TEMPO_INTEGRAL!D76","v":5},{"$f":"INÍCIO!$C$4-C75","v":2017},{"$f":"ALUNO_GRAD_TEMPO_INTEGRAL!C76","v":3},{"$f":"SUMIFS(Ingressantes!F:F,Ingressantes!C:C,TAXA_DE_SUCESSO_NA_GRADUAÇÃO!A75,Ingressantes!A:A,TAXA_DE_SUCESSO_NA_GRADUAÇÃO!D75)","v":78},3.8461538461538464E-2]
[{"$f":"ALUNO_GRAD_TEMPO_INTEGRAL!A77","v":"FARMÁCIA - 07A"},{"$f":"ALUNO_GRAD_TEMPO_INTEGRAL!B77","v":38509},{"$f":"ALUNO_GRAD_TEMPO_INTEGRAL!D77","v":5},{"$f":"INÍCIO!$C$4-C76","v":2017},{"$f":"ALUNO_GRAD_TEMPO_INTEGRAL!C77","v":28},{"$f":"SUMIFS(Ingressantes!F:F,Ingressantes!C:C,TAXA_DE_SUCESSO_NA_GRADUAÇÃO!A76,Ingressantes!A:A,TAXA_DE_SUCESSO_NA_GRADUAÇÃO!D76)","v":111},0.25225225225225223]
[{"$f":"ALUNO_GRAD_TEMPO_INTEGRAL!A78","v":"FILOSOFIA - 08A"},{"$f":"ALUNO_GRAD_TEMPO_INTEGRAL!B78","v":5000611},{"$f":"ALUNO_GRAD_TEMPO_INTEGRAL!D78","v":4},{"$f":"INÍCIO!$C$4-C77","v":2018},{"$f":"ALUNO_GRAD_TEMPO_INTEGRAL!C78","v":0},{"$f":"SUMIFS(Ingressantes!F:F,Ingressantes!C:C,TAXA_DE_SUCESSO_NA_GRADUAÇÃO!A77,Ingressantes!A:A,TAXA_DE_SUCESSO_NA_GRADUAÇÃO!D77)","v":0},0]
[{"$f":"ALUNO_GRAD_TEMPO_INTEGRAL!A79","v":"FILOSOFIA - 08B"},{"$f":"ALUNO_GRAD_TEMPO_INTEGRAL!B79","v":313097},{"$f":"ALUNO_GRAD_TEMPO_INTEGRAL!D79","v":4},{"$f":"INÍCIO!$C$4-C78","v":2018},{"$f":"ALUNO_GRAD_TEMPO_INTEGRAL!C79","v":11},{"$f":"SUMIFS(Ingressantes!F:F,Ingressantes!C:C,TAXA_DE_SUCESSO_NA_GRADUAÇÃO!A78,Ingressantes!A:A,TAXA_DE_SUCESSO_NA_GRADUAÇÃO!D78)","v":9},1.2222222222222223]
[{"$f":"ALUNO_GRAD_TEMPO_INTEGRAL!A80","v":"FILOSOFIA - 08L"},{"$f":"ALUNO_GRAD_TEMPO_INTEGRAL!B80","v":13097},{"$f":"ALUNO_GRAD_TEMPO_INTEGRAL!D80","v":4},{"$f":"INÍCIO!$C$4-C79","v":2018},{"$f":"ALUNO_GRAD_TEMPO_INTEGRAL!C80","v":7},{"$f":"SUMIFS(Ingressantes!F:F,Ingressantes!C:C,TAXA_DE_SUCESSO_NA_GRADUAÇÃO!A79,Ingressantes!A:A,TAXA_DE_SUCESSO_NA_GRADUAÇÃO!D79)","v":14},0.5]
[{"$f":"ALUNO_GRAD_TEMPO_INTEGRAL!A81","v":"FILOSOFIA - 72EB"},{"$f":"ALUNO_GRAD_TEMPO_INTEGRAL!B81","v":313097},{"$f":"ALUNO_GRAD_TEMPO_INTEGRAL!D81","v":2},{"$f":"INÍCIO!$C$4-C80","v":2020},{"$f":"ALUNO_GRAD_TEMPO_INTEGRAL!C81","v":1},{"$f":"SUMIFS(Ingressantes!F:F,Ingressantes!C:C,TAXA_DE_SUCESSO_NA_GRADUAÇÃO!A80,Ingressantes!A:A,TAXA_DE_SUCESSO_NA_GRADUAÇÃO!D80)","v":0},0]
[{"$f":"ALUNO_GRAD_TEMPO_INTEGRAL!A82","v":"FILOSOFIA - 72EL"},{"$f":"ALUNO_GRAD_TEMPO_INTEGRAL!B82","v":13097},{"$f":"ALUNO_GRAD_TEMPO_INTEGRAL!D82","v":2},{"$f":"INÍCIO!$C$4-C81","v":2020},{"$f":"ALUNO_GRAD_TEMPO_INTEGRAL!C82","v":2},{"$f":"SUMIFS(Ingressantes!F:F,Ingressantes!C:C,TAXA_DE_SUCESSO_NA_GRADUAÇÃO!A81,Ingressantes!A:A,TAXA_DE_SUCESSO_NA_GRADUAÇÃO!D81)","v":0},0]
[{"$f":"ALUNO_GRAD_TEMPO_INTEGRAL!A83","v":"FILOSOFIA - 73E"},{"$f":"ALUNO_GRAD_TEMPO_INTEGRAL!B83","v":313097},{"$f":"ALUNO_GRAD_TEMPO_INTEGRAL!D83","v":2},{"$f":"INÍCIO!$C$4-C82","v":2020},{"$f":"ALUNO_GRAD_TEMPO_INTEGRAL!C83","v":0},{"$f":"SUMIFS(Ingressantes!F:F,Ingressantes!C:C,TAXA_DE_SUCESSO_NA_GRADUAÇÃO!A82,Ingressantes!A:A,TAXA_DE_SUCESSO_NA_GRADUAÇÃO!D82)","v":0},0]
[{"$f":"ALUNO_GRAD_TEMPO_INTEGRAL!A84","v":"FÍSICA - 09A"},{"$f":"ALUNO_GRAD_TEMPO_INTEGRAL!B84","v":5000613},{"$f":"ALUNO_GRAD_TEMPO_INTEGRAL!D84","v":4},{"$f":"INÍCIO!$C$4-C83","v":2018},{"$f":"ALUNO_GRAD_TEMPO_INTEGRAL!C84","v":0},{"$f":"SUMIFS(Ingressantes!F:F,Ingressantes!C:C,TAXA_DE_SUCESSO_NA_GRADUAÇÃO!A83,Ingressantes!A:A,TAXA_DE_SUCESSO_NA_GRADUAÇÃO!D83)","v":0},0]
[{"$f":"ALUNO_GRAD_TEMPO_INTEGRAL!A85","v":"FÍSICA - 65E"},{"$f":"ALUNO_GRAD_TEMPO_INTEGRAL!B85","v":313098},{"$f":"ALUNO_GRAD_TEMPO_INTEGRAL!D85","v":2},{"$f":"INÍCIO!$C$4-C84","v":2020},{"$f":"ALUNO_GRAD_TEMPO_INTEGRAL!C85","v":7},{"$f":"SUMIFS(Ingressantes!F:F,Ingressantes!C:C,TAXA_DE_SUCESSO_NA_GRADUAÇÃO!A84,Ingressantes!A:A,TAXA_DE_SUCESSO_NA_GRADUAÇÃO!D84)","v":36},0.19444444444444445]
[{"$f":"ALUNO_GRAD_TEMPO_INTEGRAL!A86","v":"FÍSICA - 65EL"},{"$f":"ALUNO_GRAD_TEMPO_INTEGRAL!B86","v":13098},{"$f":"ALUNO_GRAD_TEMPO_INTEGRAL!D86","v":2},{"$f":"INÍCIO!$C$4-C85","v":2020},{"$f":"ALUNO_GRAD_TEMPO_INTEGRAL!C86","v":1},{"$f":"SUMIFS(Ingressantes!F:F,Ingressantes!C:C,TAXA_DE_SUCESSO_NA_GRADUAÇÃO!A85,Ingressantes!A:A,TAXA_DE_SUCESSO_NA_GRADUAÇÃO!D85)","v":0},0]
[{"$f":"ALUNO_GRAD_TEMPO_INTEGRAL!A87","v":"FÍSICA - 81A"},{"$f":"ALUNO_GRAD_TEMPO_INTEGRAL!B87","v":1166037},{"$f":"ALUNO_GRAD_TEMPO_INTEGRAL!D87","v":4},{"$f":"INÍCIO!$C$4-C86","v":2018},{"$f":"ALUNO_GRAD_TEMPO_INTEGRAL!C87","v":4},{"$f":"SUMIFS(Ingressantes!F:F,Ingressantes!C:C,TAXA_DE_SUCESSO_NA_GRADUAÇÃO!A86,Ingressantes!A:A,TAXA_DE_SUCESSO_NA_GRADUAÇÃO!D86)","v":23},0.17391304347826086]
[{"$f":"ALUNO_GRAD_TEMPO_INTEGRAL!A88","v":"FISIOTERAPIA - 06GV"},{"$f":"ALUNO_GRAD_TEMPO_INTEGRAL!B88","v":1178689},{"$f":"ALUNO_GRAD_TEMPO_INTEGRAL!D88","v":5},{"$f":"INÍCIO!$C$4-C87","v":2017},{"$f":"ALUNO_GRAD_TEMPO_INTEGRAL!C88","v":15},{"$f":"SUMIFS(Ingressantes!F:F,Ingressantes!C:C,TAXA_DE_SUCESSO_NA_GRADUAÇÃO!A87,Ingressantes!A:A,TAXA_DE_SUCESSO_NA_GRADUAÇÃO!D87)","v":66},0.22727272727272727]
[{"$f":"ALUNO_GRAD_TEMPO_INTEGRAL!A89","v":"FISIOTERAPIA - 20A"},{"$f":"ALUNO_GRAD_TEMPO_INTEGRAL!B89","v":13118},{"$f":"ALUNO_GRAD_TEMPO_INTEGRAL!D89","v":5},{"$f":"INÍCIO!$C$4-C88","v":2017},{"$f":"ALUNO_GRAD_TEMPO_INTEGRAL!C89","v":27},{"$f":"SUMIFS(Ingressantes!F:F,Ingressantes!C:C,TAXA_DE_SUCESSO_NA_GRADUAÇÃO!A88,Ingressantes!A:A,TAXA_DE_SUCESSO_NA_GRADUAÇÃO!D88)","v":51},0.52941176470588236]
[{"$f":"ALUNO_GRAD_TEMPO_INTEGRAL!A90","v":"GEOGRAFIA - 10B"},{"$f":"ALUNO_GRAD_TEMPO_INTEGRAL!B90","v":313099},{"$f":"ALUNO_GRAD_TEMPO_INTEGRAL!D90","v":4},{"$f":"INÍCIO!$C$4-C89","v":2018},{"$f":"ALUNO_GRAD_TEMPO_INTEGRAL!C90","v":13},{"$f":"SUMIFS(Ingressantes!F:F,Ingressantes!C:C,TAXA_DE_SUCESSO_NA_GRADUAÇÃO!A89,Ingressantes!A:A,TAXA_DE_SUCESSO_NA_GRADUAÇÃO!D89)","v":16},0.8125]
[{"$f":"ALUNO_GRAD_TEMPO_INTEGRAL!A91","v":"GEOGRAFIA - 10L"},{"$f":"ALUNO_GRAD_TEMPO_INTEGRAL!B91","v":13099},{"$f":"ALUNO_GRAD_TEMPO_INTEGRAL!D91","v":4},{"$f":"INÍCIO!$C$4-C90","v":2018},{"$f":"ALUNO_GRAD_TEMPO_INTEGRAL!C91","v":19},{"$f":"SUMIFS(Ingressantes!F:F,Ingressantes!C:C,TAXA_DE_SUCESSO_NA_GRADUAÇÃO!A90,Ingressantes!A:A,TAXA_DE_SUCESSO_NA_GRADUAÇÃO!D90)","v":20},0.95]
[{"$f":"ALUNO_GRAD_TEMPO_INTEGRAL!A92","v":"GEOGRAFIA - 27A"},{"$f":"ALUNO_GRAD_TEMPO_INTEGRAL!B92","v":5000615},{"$f":"ALUNO_GRAD_TEMPO_INTEGRAL!D92","v":4},{"$f":"INÍCIO!$C$4-C91","v":2018},{"$f":"ALUNO_GRAD_TEMPO_INTEGRAL!C92","v":0},{"$f":"SUMIFS(Ingressantes!F:F,Ingressantes!C:C,TAXA_DE_SUCESSO_NA_GRADUAÇÃO!A91,Ingressantes!A:A,TAXA_DE_SUCESSO_NA_GRADUAÇÃO!D91)","v":0},0]
[{"$f":"ALUNO_GRAD_TEMPO_INTEGRAL!A93","v":"GEOGRAFIA - 27L"},{"$f":"ALUNO_GRAD_TEMPO_INTEGRAL!B93","v":13099},{"$f":"ALUNO_GRAD_TEMPO_INTEGRAL!D93","v":4},{"$f":"INÍCIO!$C$4-C92","v":2018},{"$f":"ALUNO_GRAD_TEMPO_INTEGRAL!C93","v":19},{"$f":"SUMIFS(Ingressantes!F:F,Ingressantes!C:C,TAXA_DE_SUCESSO_NA_GRADUAÇÃO!A92,Ingressantes!A:A,TAXA_DE_SUCESSO_NA_GRADUAÇÃO!D92)","v":21},0.90476190476190477]
[{"$f":"ALUNO_GRAD_TEMPO_INTEGRAL!A94","v":"HISTÓRIA - 11A"},{"$f":"ALUNO_GRAD_TEMPO_INTEGRAL!B94","v":5000616},{"$f":"ALUNO_GRAD_TEMPO_INTEGRAL!D94","v":4},{"$f":"INÍCIO!$C$4-C93","v":2018},{"$f":"ALUNO_GRAD_TEMPO_INTEGRAL!C94","v":0},{"$f":"SUMIFS(Ingressantes!F:F,Ingressantes!C:C,TAXA_DE_SUCESSO_NA_GRADUAÇÃO!A93,Ingressantes!A:A,TAXA_DE_SUCESSO_NA_GRADUAÇÃO!D93)","v":0},0]
[{"$f":"ALUNO_GRAD_TEMPO_INTEGRAL!A95","v":"HISTÓRIA - 11B"},{"$f":"ALUNO_GRAD_TEMPO_INTEGRAL!B95","v":313100},{"$f":"ALUNO_GRAD_TEMPO_INTEGRAL!D95","v":4},{"$f":"INÍCIO!$C$4-C94","v":2018},{"$f":"ALUNO_GRAD_TEMPO_INTEGRAL!C95","v":5},{"$f":"SUMIFS(Ingressantes!F:F,Ingressantes!C:C,TAXA_DE_SUCESSO_NA_GRADUAÇÃO!A94,Ingressantes!A:A,TAXA_DE_SUCESSO_NA_GRADUAÇÃO!D94)","v":10},0.5]
[{"$f":"ALUNO_GRAD_TEMPO_INTEGRAL!A96","v":"HISTÓRIA - 11L"},{"$f":"ALUNO_GRAD_TEMPO_INTEGRAL!B96","v":13100},{"$f":"ALUNO_GRAD_TEMPO_INTEGRAL!D96","v":4},{"$f":"INÍCIO!$C$4-C95","v":2018},{"$f":"ALUNO_GRAD_TEMPO_INTEGRAL!C96","v":32},{"$f":"SUMIFS(Ingressantes!F:F,Ingressantes!C:C,TAXA_DE_SUCESSO_NA_GRADUAÇÃO!A95,Ingressantes!A:A,TAXA_DE_SUCESSO_NA_GRADUAÇÃO!D95)","v":31},1.032258064516129]
[{"$f":"ALUNO_GRAD_TEMPO_INTEGRAL!A97","v":"HISTÓRIA - 28A"},{"$f":"ALUNO_GRAD_TEMPO_INTEGRAL!B97","v":5000616},{"$f":"ALUNO_GRAD_TEMPO_INTEGRAL!D97","v":4},{"$f":"INÍCIO!$C$4-C96","v":2018},{"$f":"ALUNO_GRAD_TEMPO_INTEGRAL!C97","v":0},{"$f":"SUMIFS(Ingressantes!F:F,Ingressantes!C:C,TAXA_DE_SUCESSO_NA_GRADUAÇÃO!A96,Ingressantes!A:A,TAXA_DE_SUCESSO_NA_GRADUAÇÃO!D96)","v":0},0]
[{"$f":"ALUNO_GRAD_TEMPO_INTEGRAL!A98","v":"HISTÓRIA - 28B"},{"$f":"ALUNO_GRAD_TEMPO_INTEGRAL!B98","v":313100},{"$f":"ALUNO_GRAD_TEMPO_INTEGRAL!D98","v":4},{"$f":"INÍCIO!$C$4-C97","v":2018},{"$f":"ALUNO_GRAD_TEMPO_INTEGRAL!C98","v":4},{"$f":"SUMIFS(Ingressantes!F:F,Ingressantes!C:C,TAXA_DE_SUCESSO_NA_GRADUAÇÃO!A97,Ingressantes!A:A,TAXA_DE_SUCESSO_NA_GRADUAÇÃO!D97)","v":8},0.5]
[{"$f":"ALUNO_GRAD_TEMPO_INTEGRAL!A99","v":"HISTÓRIA - 28L"},{"$f":"ALUNO_GRAD_TEMPO_INTEGRAL!B99","v":13100},{"$f":"ALUNO_GRAD_TEMPO_INTEGRAL!D99","v":4},{"$f":"INÍCIO!$C$4-C98","v":2018},{"$f":"ALUNO_GRAD_TEMPO_INTEGRAL!C99","v":22},{"$f":"SUMIFS(Ingressantes!F:F,Ingressantes!C:C,TAXA_DE_SUCESSO_NA_GRADUAÇÃO!A98,Ingressantes!A:A,TAXA_DE_SUCESSO_NA_GRADUAÇÃO!D98)","v":22},1]
[{"$f":"ALUNO_GRAD_TEMPO_INTEGRAL!A100","v":"JORNALISMO - 84A"},{"$f":"ALUNO_GRAD_TEMPO_INTEGRAL!B100","v":27657},{"$f":"ALUNO_GRAD_TEMPO_INTEGRAL!D100","v":4},{"$f":"INÍCIO!$C$4-C99","v":2018},{"$f":"ALUNO_GRAD_TEMPO_INTEGRAL!C100","v":11},{"$f":"SUMIFS(Ingressantes!F:F,Ingressantes!C:C,TAXA_DE_SUCESSO_NA_GRADUAÇÃO!A99,Ingressantes!A:A,TAXA_DE_SUCESSO_NA_GRADUAÇÃO!D99)","v":41},0.26829268292682928]
[{"$f":"ALUNO_GRAD_TEMPO_INTEGRAL!A101","v":"JORNALISMO - 85A"},{"$f":"ALUNO_GRAD_TEMPO_INTEGRAL!B101","v":36356},{"$f":"ALUNO_GRAD_TEMPO_INTEGRAL!D101","v":4},{"$f":"INÍCIO!$C$4-C100","v":2018},{"$f":"ALUNO_GRAD_TEMPO_INTEGRAL!C101","v":12},{"$f":"SUMIFS(Ingressantes!F:F,Ingressantes!C:C,TAXA_DE_SUCESSO_NA_GRADUAÇÃO!A100,Ingressantes!A:A,TAXA_DE_SUCESSO_NA_GRADUAÇÃO!D100)","v":47},0.25531914893617019]
[{"$f":"ALUNO_GRAD_TEMPO_INTEGRAL!A102","v":"LETRAS - 13A"},{"$f":"ALUNO_GRAD_TEMPO_INTEGRAL!B102","v":5000617},{"$f":"ALUNO_GRAD_TEMPO_INTEGRAL!D102","v":4},{"$f":"INÍCIO!$C$4-C101","v":2018},{"$f":"ALUNO_GRAD_TEMPO_INTEGRAL!C102","v":0},{"$f":"SUMIFS(Ingressantes!F:F,Ingressantes!C:C,TAXA_DE_SUCESSO_NA_GRADUAÇÃO!A101,Ingressantes!A:A,TAXA_DE_SUCESSO_NA_GRADUAÇÃO!D101)","v":0},0]
[{"$f":"ALUNO_GRAD_TEMPO_INTEGRAL!A103","v":"LETRAS - 13B"},{"$f":"ALUNO_GRAD_TEMPO_INTEGRAL!B103","v":313101},{"$f":"ALUNO_GRAD_TEMPO_INTEGRAL!D103","v":4},{"$f":"INÍCIO!$C$4-C102","v":2018},{"$f":"ALUNO_GRAD_TEMPO_INTEGRAL!C103","v":7},{"$f":"SUMIFS(Ingressantes!F:F,Ingressantes!C:C,TAXA_DE_SUCESSO_NA_GRADUAÇÃO!A102,Ingressantes!A:A,TAXA_DE_SUCESSO_NA_GRADUAÇÃO!D102)","v":10},0.7]
[{"$f":"ALUNO_GRAD_TEMPO_INTEGRAL!A104","v":"LETRAS - 13L"},{"$f":"ALUNO_GRAD_TEMPO_INTEGRAL!B104","v":13101},{"$f":"ALUNO_GRAD_TEMPO_INTEGRAL!D104","v":4},{"$f":"INÍCIO!$C$4-C103","v":2018},{"$f":"ALUNO_GRAD_TEMPO_INTEGRAL!C104","v":36},{"$f":"SUMIFS(Ingressantes!F:F,Ingressantes!C:C,TAXA_DE_SUCESSO_NA_GRADUAÇÃO!A103,Ingressantes!A:A,TAXA_DE_SUCESSO_NA_GRADUAÇÃO!D103)","v":24},1.5]
[{"$f":"ALUNO_GRAD_TEMPO_INTEGRAL!A105","v":"LETRAS - 29A"},{"$f":"ALUNO_GRAD_TEMPO_INTEGRAL!B105","v":5000617},{"$f":"ALUNO_GRAD_TEMPO_INTEGRAL!D105","v":4},{"$f":"INÍCIO!$C$4-C104","v":2018},{"$f":"ALUNO_GRAD_TEMPO_INTEGRAL!C105","v":0},{"$f":"SUMIFS(Ingressantes!F:F,Ingressantes!C:C,TAXA_DE_SUCESSO_NA_GRADUAÇÃO!A104,Ingressantes!A:A,TAXA_DE_SUCESSO_NA_GRADUAÇÃO!D104)","v":0},0]
[{"$f":"ALUNO_GRAD_TEMPO_INTEGRAL!A106","v":"LETRAS - 29B"},{"$f":"ALUNO_GRAD_TEMPO_INTEGRAL!B106","v":313101},{"$f":"ALUNO_GRAD_TEMPO_INTEGRAL!D106","v":4},{"$f":"INÍCIO!$C$4-C105","v":2018},{"$f":"ALUNO_GRAD_TEMPO_INTEGRAL!C106","v":0},{"$f":"SUMIFS(Ingressantes!F:F,Ingressantes!C:C,TAXA_DE_SUCESSO_NA_GRADUAÇÃO!A105,Ingressantes!A:A,TAXA_DE_SUCESSO_NA_GRADUAÇÃO!D105)","v":0},0]
[{"$f":"ALUNO_GRAD_TEMPO_INTEGRAL!A107","v":"LETRAS - 29L"},{"$f":"ALUNO_GRAD_TEMPO_INTEGRAL!B107","v":13101},{"$f":"ALUNO_GRAD_TEMPO_INTEGRAL!D107","v":4},{"$f":"INÍCIO!$C$4-C106","v":2018},{"$f":"ALUNO_GRAD_TEMPO_INTEGRAL!C107","v":20},{"$f":"SUMIFS(Ingressantes!F:F,Ingressantes!C:C,TAXA_DE_SUCESSO_NA_GRADUAÇÃO!A106,Ingressantes!A:A,TAXA_DE_SUCESSO_NA_GRADUAÇÃO!D106)","v":3},6.666666666666667]
[{"$f":"ALUNO_GRAD_TEMPO_INTEGRAL!A108","v":"LICENCIATURA EM ARTES VISUAIS - 66F"},{"$f":"ALUNO_GRAD_TEMPO_INTEGRAL!B108","v":1153951},{"$f":"ALUNO_GRAD_TEMPO_INTEGRAL!D108","v":2},{"$f":"INÍCIO!$C$4-C107","v":2020},{"$f":"ALUNO_GRAD_TEMPO_INTEGRAL!C108","v":16},{"$f":"SUMIFS(Ingressantes!F:F,Ingressantes!C:C,TAXA_DE_SUCESSO_NA_GRADUAÇÃO!A107,Ingressantes!A:A,TAXA_DE_SUCESSO_NA_GRADUAÇÃO!D107)","v":59},0.2711864406779661]
[{"$f":"ALUNO_GRAD_TEMPO_INTEGRAL!A109","v":"LICENCIATURA EM LETRAS - LIBRAS - 88A"},{"$f":"ALUNO_GRAD_TEMPO_INTEGRAL!B109","v":1268983},{"$f":"ALUNO_GRAD_TEMPO_INTEGRAL!D109","v":4},{"$f":"INÍCIO!$C$4-C108","v":2018},{"$f":"ALUNO_GRAD_TEMPO_INTEGRAL!C109","v":11},{"$f":"SUMIFS(Ingressantes!F:F,Ingressantes!C:C,TAXA_DE_SUCESSO_NA_GRADUAÇÃO!A108,Ingressantes!A:A,TAXA_DE_SUCESSO_NA_GRADUAÇÃO!D108)","v":31},0.35483870967741937]
[{"$f":"ALUNO_GRAD_TEMPO_INTEGRAL!A110","v":"LICENCIATURA EM MÚSICA - 89A"},{"$f":"ALUNO_GRAD_TEMPO_INTEGRAL!B110","v":"1278855 "},{"$f":"ALUNO_GRAD_TEMPO_INTEGRAL!D110","v":4},{"$f":"INÍCIO!$C$4-C109","v":2018},{"$f":"ALUNO_GRAD_TEMPO_INTEGRAL!C110","v":9},{"$f":"SUMIFS(Ingressantes!F:F,Ingressantes!C:C,TAXA_DE_SUCESSO_NA_GRADUAÇÃO!A109,Ingressantes!A:A,TAXA_DE_SUCESSO_NA_GRADUAÇÃO!D109)","v":16},0.5625]
[{"$f":"ALUNO_GRAD_TEMPO_INTEGRAL!A111","v":"MATEMÁTICA - 65F"},{"$f":"ALUNO_GRAD_TEMPO_INTEGRAL!B111","v":313102},{"$f":"ALUNO_GRAD_TEMPO_INTEGRAL!D111","v":2},{"$f":"INÍCIO!$C$4-C110","v":2020},{"$f":"ALUNO_GRAD_TEMPO_INTEGRAL!C111","v":2},{"$f":"SUMIFS(Ingressantes!F:F,Ingressantes!C:C,TAXA_DE_SUCESSO_NA_GRADUAÇÃO!A110,Ingressantes!A:A,TAXA_DE_SUCESSO_NA_GRADUAÇÃO!D110)","v":32},6.25E-2]
[{"$f":"ALUNO_GRAD_TEMPO_INTEGRAL!A112","v":"MATEMÁTICA - 65FL"},{"$f":"ALUNO_GRAD_TEMPO_INTEGRAL!B112","v":13102},{"$f":"ALUNO_GRAD_TEMPO_INTEGRAL!D112","v":2},{"$f":"INÍCIO!$C$4-C111","v":2020},{"$f":"ALUNO_GRAD_TEMPO_INTEGRAL!C112","v":3},{"$f":"SUMIFS(Ingressantes!F:F,Ingressantes!C:C,TAXA_DE_SUCESSO_NA_GRADUAÇÃO!A111,Ingressantes!A:A,TAXA_DE_SUCESSO_NA_GRADUAÇÃO!D111)","v":0},0]
[{"$f":"ALUNO_GRAD_TEMPO_INTEGRAL!A113","v":"MATEMÁTICA - 82A"},{"$f":"ALUNO_GRAD_TEMPO_INTEGRAL!B113","v":1166038},{"$f":"ALUNO_GRAD_TEMPO_INTEGRAL!D113","v":4},{"$f":"INÍCIO!$C$4-C112","v":2018},{"$f":"ALUNO_GRAD_TEMPO_INTEGRAL!C113","v":6},{"$f":"SUMIFS(Ingressantes!F:F,Ingressantes!C:C,TAXA_DE_SUCESSO_NA_GRADUAÇÃO!A112,Ingressantes!A:A,TAXA_DE_SUCESSO_NA_GRADUAÇÃO!D112)","v":35},0.17142857142857143]
[{"$f":"ALUNO_GRAD_TEMPO_INTEGRAL!A114","v":"MEDICINA - 07GV"},{"$f":"ALUNO_GRAD_TEMPO_INTEGRAL!B114","v":5001167},{"$f":"ALUNO_GRAD_TEMPO_INTEGRAL!D114","v":6},{"$f":"INÍCIO!$C$4-C113","v":2016},{"$f":"ALUNO_GRAD_TEMPO_INTEGRAL!C114","v":71},{"$f":"SUMIFS(Ingressantes!F:F,Ingressantes!C:C,TAXA_DE_SUCESSO_NA_GRADUAÇÃO!A113,Ingressantes!A:A,TAXA_DE_SUCESSO_NA_GRADUAÇÃO!D113)","v":119},0.59663865546218486]
[{"$f":"ALUNO_GRAD_TEMPO_INTEGRAL!A115","v":"MEDICINA - 15A"},{"$f":"ALUNO_GRAD_TEMPO_INTEGRAL!B115","v":13103},{"$f":"ALUNO_GRAD_TEMPO_INTEGRAL!D115","v":6},{"$f":"INÍCIO!$C$4-C114","v":2016},{"$f":"ALUNO_GRAD_TEMPO_INTEGRAL!C115","v":149},{"$f":"SUMIFS(Ingressantes!F:F,Ingressantes!C:C,TAXA_DE_SUCESSO_NA_GRADUAÇÃO!A114,Ingressantes!A:A,TAXA_DE_SUCESSO_NA_GRADUAÇÃO!D114)","v":223},0.66816143497757852]
[{"$f":"ALUNO_GRAD_TEMPO_INTEGRAL!A116","v":"MEDICINA VETERINÁRIA - 87A"},{"$f":"ALUNO_GRAD_TEMPO_INTEGRAL!B116","v":1268972},{"$f":"ALUNO_GRAD_TEMPO_INTEGRAL!D116","v":5},{"$f":"INÍCIO!$C$4-C115","v":2017},{"$f":"ALUNO_GRAD_TEMPO_INTEGRAL!C116","v":33},{"$f":"SUMIFS(Ingressantes!F:F,Ingressantes!C:C,TAXA_DE_SUCESSO_NA_GRADUAÇÃO!A115,Ingressantes!A:A,TAXA_DE_SUCESSO_NA_GRADUAÇÃO!D115)","v":109},0.30275229357798167]
[{"$f":"ALUNO_GRAD_TEMPO_INTEGRAL!A117","v":"MÚSICA - CANTO - 63A"},{"$f":"ALUNO_GRAD_TEMPO_INTEGRAL!B117","v":116490},{"$f":"ALUNO_GRAD_TEMPO_INTEGRAL!D117","v":4},{"$f":"INÍCIO!$C$4-C116","v":2018},{"$f":"ALUNO_GRAD_TEMPO_INTEGRAL!C117","v":2},{"$f":"SUMIFS(Ingressantes!F:F,Ingressantes!C:C,TAXA_DE_SUCESSO_NA_GRADUAÇÃO!A116,Ingressantes!A:A,TAXA_DE_SUCESSO_NA_GRADUAÇÃO!D116)","v":0},0]
[{"$f":"ALUNO_GRAD_TEMPO_INTEGRAL!A118","v":"MÚSICA - MODALIDADE COMPOSIÇÃO - 63G"},{"$f":"ALUNO_GRAD_TEMPO_INTEGRAL!B118","v":1271995},{"$f":"ALUNO_GRAD_TEMPO_INTEGRAL!D118","v":4},{"$f":"INÍCIO!$C$4-C117","v":2018},{"$f":"ALUNO_GRAD_TEMPO_INTEGRAL!C118","v":4},{"$f":"SUMIFS(Ingressantes!F:F,Ingressantes!C:C,TAXA_DE_SUCESSO_NA_GRADUAÇÃO!A117,Ingressantes!A:A,TAXA_DE_SUCESSO_NA_GRADUAÇÃO!D117)","v":8},0.5]
[{"$f":"ALUNO_GRAD_TEMPO_INTEGRAL!A119","v":"MÚSICA - MODALIDADE FLAUTA TRANSVERSAL - 63B"},{"$f":"ALUNO_GRAD_TEMPO_INTEGRAL!B119","v":116491},{"$f":"ALUNO_GRAD_TEMPO_INTEGRAL!D119","v":4},{"$f":"INÍCIO!$C$4-C118","v":2018},{"$f":"ALUNO_GRAD_TEMPO_INTEGRAL!C119","v":2},{"$f":"SUMIFS(Ingressantes!F:F,Ingressantes!C:C,TAXA_DE_SUCESSO_NA_GRADUAÇÃO!A118,Ingressantes!A:A,TAXA_DE_SUCESSO_NA_GRADUAÇÃO!D118)","v":0},0]
[{"$f":"ALUNO_GRAD_TEMPO_INTEGRAL!A120","v":"MÚSICA - MODALIDADE PIANO - 63C"},{"$f":"ALUNO_GRAD_TEMPO_INTEGRAL!B120","v":116492},{"$f":"ALUNO_GRAD_TEMPO_INTEGRAL!D120","v":4},{"$f":"INÍCIO!$C$4-C119","v":2018},{"$f":"ALUNO_GRAD_TEMPO_INTEGRAL!C120","v":0},{"$f":"SUMIFS(Ingressantes!F:F,Ingressantes!C:C,TAXA_DE_SUCESSO_NA_GRADUAÇÃO!A119,Ingressantes!A:A,TAXA_DE_SUCESSO_NA_GRADUAÇÃO!D119)","v":0},0]
[{"$f":"ALUNO_GRAD_TEMPO_INTEGRAL!A121","v":"MÚSICA - MODALIDADE VIOLÃO - 63D"},{"$f":"ALUNO_GRAD_TEMPO_INTEGRAL!B121","v":116493},{"$f":"ALUNO_GRAD_TEMPO_INTEGRAL!D121","v":4},{"$f":"INÍCIO!$C$4-C120","v":2018},{"$f":"ALUNO_GRAD_TEMPO_INTEGRAL!C121","v":2},{"$f":"SUMIFS(Ingressantes!F:F,Ingressantes!C:C,TAXA_DE_SUCESSO_NA_GRADUAÇÃO!A120,Ingressantes!A:A,TAXA_DE_SUCESSO_NA_GRADUAÇÃO!D120)","v":0},0]
[{"$f":"ALUNO_GRAD_TEMPO_INTEGRAL!A122","v":"MÚSICA - MODALIDADE VIOLINO - 63E"},{"$f":"ALUNO_GRAD_TEMPO_INTEGRAL!B122","v":116494},{"$f":"ALUNO_GRAD_TEMPO_INTEGRAL!D122","v":4},{"$f":"INÍCIO!$C$4-C121","v":2018},{"$f":"ALUNO_GRAD_TEMPO_INTEGRAL!C122","v":2},{"$f":"SUMIFS(Ingressantes!F:F,Ingressantes!C:C,TAXA_DE_SUCESSO_NA_GRADUAÇÃO!A121,Ingressantes!A:A,TAXA_DE_SUCESSO_NA_GRADUAÇÃO!D121)","v":2},1]
[{"$f":"ALUNO_GRAD_TEMPO_INTEGRAL!A123","v":"MÚSICA - MODALIDADE VIOLONCELO - 63F"},{"$f":"ALUNO_GRAD_TEMPO_INTEGRAL!B123","v":116495},{"$f":"ALUNO_GRAD_TEMPO_INTEGRAL!D123","v":4},{"$f":"INÍCIO!$C$4-C122","v":2018},{"$f":"ALUNO_GRAD_TEMPO_INTEGRAL!C123","v":0},{"$f":"SUMIFS(Ingressantes!F:F,Ingressantes!C:C,TAXA_DE_SUCESSO_NA_GRADUAÇÃO!A122,Ingressantes!A:A,TAXA_DE_SUCESSO_NA_GRADUAÇÃO!D122)","v":0},0]
[{"$f":"ALUNO_GRAD_TEMPO_INTEGRAL!A124","v":"NUTRIÇÃO - 08GV"},{"$f":"ALUNO_GRAD_TEMPO_INTEGRAL!B124","v":1178688},{"$f":"ALUNO_GRAD_TEMPO_INTEGRAL!D124","v":5},{"$f":"INÍCIO!$C$4-C123","v":2017},{"$f":"ALUNO_GRAD_TEMPO_INTEGRAL!C124","v":17},{"$f":"SUMIFS(Ingressantes!F:F,Ingressantes!C:C,TAXA_DE_SUCESSO_NA_GRADUAÇÃO!A123,Ingressantes!A:A,TAXA_DE_SUCESSO_NA_GRADUAÇÃO!D123)","v":84},0.20238095238095238]
[{"$f":"ALUNO_GRAD_TEMPO_INTEGRAL!A125","v":"NUTRIÇÃO - 64A"},{"$f":"ALUNO_GRAD_TEMPO_INTEGRAL!B125","v":116498},{"$f":"ALUNO_GRAD_TEMPO_INTEGRAL!D125","v":5},{"$f":"INÍCIO!$C$4-C124","v":2017},{"$f":"ALUNO_GRAD_TEMPO_INTEGRAL!C125","v":78},{"$f":"SUMIFS(Ingressantes!F:F,Ingressantes!C:C,TAXA_DE_SUCESSO_NA_GRADUAÇÃO!A124,Ingressantes!A:A,TAXA_DE_SUCESSO_NA_GRADUAÇÃO!D124)","v":128},0.609375]
[{"$f":"ALUNO_GRAD_TEMPO_INTEGRAL!A126","v":"ODONTOLOGIA - 09GV"},{"$f":"ALUNO_GRAD_TEMPO_INTEGRAL!B126","v":5001168},{"$f":"ALUNO_GRAD_TEMPO_INTEGRAL!D126","v":5},{"$f":"INÍCIO!$C$4-C125","v":2017},{"$f":"ALUNO_GRAD_TEMPO_INTEGRAL!C126","v":53},{"$f":"SUMIFS(Ingressantes!F:F,Ingressantes!C:C,TAXA_DE_SUCESSO_NA_GRADUAÇÃO!A125,Ingressantes!A:A,TAXA_DE_SUCESSO_NA_GRADUAÇÃO!D125)","v":95},0.55789473684210522]
[{"$f":"ALUNO_GRAD_TEMPO_INTEGRAL!A127","v":"ODONTOLOGIA - 16A"},{"$f":"ALUNO_GRAD_TEMPO_INTEGRAL!B127","v":13104},{"$f":"ALUNO_GRAD_TEMPO_INTEGRAL!D127","v":5},{"$f":"INÍCIO!$C$4-C126","v":2017},{"$f":"ALUNO_GRAD_TEMPO_INTEGRAL!C127","v":69},{"$f":"SUMIFS(Ingressantes!F:F,Ingressantes!C:C,TAXA_DE_SUCESSO_NA_GRADUAÇÃO!A126,Ingressantes!A:A,TAXA_DE_SUCESSO_NA_GRADUAÇÃO!D126)","v":122},0.56557377049180324]
[{"$f":"ALUNO_GRAD_TEMPO_INTEGRAL!A128","v":"PEDAGOGIA - 17A"},{"$f":"ALUNO_GRAD_TEMPO_INTEGRAL!B128","v":13105},{"$f":"ALUNO_GRAD_TEMPO_INTEGRAL!D128","v":4},{"$f":"INÍCIO!$C$4-C127","v":2018},{"$f":"ALUNO_GRAD_TEMPO_INTEGRAL!C128","v":28},{"$f":"SUMIFS(Ingressantes!F:F,Ingressantes!C:C,TAXA_DE_SUCESSO_NA_GRADUAÇÃO!A127,Ingressantes!A:A,TAXA_DE_SUCESSO_NA_GRADUAÇÃO!D127)","v":44},0.63636363636363635]
[{"$f":"ALUNO_GRAD_TEMPO_INTEGRAL!A129","v":"PEDAGOGIA - 30A"},{"$f":"ALUNO_GRAD_TEMPO_INTEGRAL!B129","v":13105},{"$f":"ALUNO_GRAD_TEMPO_INTEGRAL!D129","v":4},{"$f":"INÍCIO!$C$4-C128","v":2018},{"$f":"ALUNO_GRAD_TEMPO_INTEGRAL!C129","v":19},{"$f":"SUMIFS(Ingressantes!F:F,Ingressantes!C:C,TAXA_DE_SUCESSO_NA_GRADUAÇÃO!A128,Ingressantes!A:A,TAXA_DE_SUCESSO_NA_GRADUAÇÃO!D128)","v":45},0.42222222222222222]
[{"$f":"ALUNO_GRAD_TEMPO_INTEGRAL!A130","v":"PSICOLOGIA - 32A"},{"$f":"ALUNO_GRAD_TEMPO_INTEGRAL!B130","v":13113},{"$f":"ALUNO_GRAD_TEMPO_INTEGRAL!D130","v":5},{"$f":"INÍCIO!$C$4-C129","v":2017},{"$f":"ALUNO_GRAD_TEMPO_INTEGRAL!C130","v":36},{"$f":"SUMIFS(Ingressantes!F:F,Ingressantes!C:C,TAXA_DE_SUCESSO_NA_GRADUAÇÃO!A129,Ingressantes!A:A,TAXA_DE_SUCESSO_NA_GRADUAÇÃO!D129)","v":59},0.61016949152542377]
[{"$f":"ALUNO_GRAD_TEMPO_INTEGRAL!A131","v":"QUÍMICA - 65GB"},{"$f":"ALUNO_GRAD_TEMPO_INTEGRAL!B131","v":313106},{"$f":"ALUNO_GRAD_TEMPO_INTEGRAL!D131","v":2},{"$f":"INÍCIO!$C$4-C130","v":2020},{"$f":"ALUNO_GRAD_TEMPO_INTEGRAL!C131","v":8},{"$f":"SUMIFS(Ingressantes!F:F,Ingressantes!C:C,TAXA_DE_SUCESSO_NA_GRADUAÇÃO!A130,Ingressantes!A:A,TAXA_DE_SUCESSO_NA_GRADUAÇÃO!D130)","v":61},0.13114754098360656]
[{"$f":"ALUNO_GRAD_TEMPO_INTEGRAL!A132","v":"QUÍMICA - 65GL"},{"$f":"ALUNO_GRAD_TEMPO_INTEGRAL!B132","v":13106},{"$f":"ALUNO_GRAD_TEMPO_INTEGRAL!D132","v":2},{"$f":"INÍCIO!$C$4-C131","v":2020},{"$f":"ALUNO_GRAD_TEMPO_INTEGRAL!C132","v":15},{"$f":"SUMIFS(Ingressantes!F:F,Ingressantes!C:C,TAXA_DE_SUCESSO_NA_GRADUAÇÃO!A131,Ingressantes!A:A,TAXA_DE_SUCESSO_NA_GRADUAÇÃO!D131)","v":5},3]
[{"$f":"ALUNO_GRAD_TEMPO_INTEGRAL!A133","v":"QUÍMICA - 83A"},{"$f":"ALUNO_GRAD_TEMPO_INTEGRAL!B133","v":1166039},{"$f":"ALUNO_GRAD_TEMPO_INTEGRAL!D133","v":4},{"$f":"INÍCIO!$C$4-C132","v":2018},{"$f":"ALUNO_GRAD_TEMPO_INTEGRAL!C133","v":4},{"$f":"SUMIFS(Ingressantes!F:F,Ingressantes!C:C,TAXA_DE_SUCESSO_NA_GRADUAÇÃO!A132,Ingressantes!A:A,TAXA_DE_SUCESSO_NA_GRADUAÇÃO!D132)","v":30},{"$f":"IF(E132=0,,IF(F132=0,,E132/F132))","v":0.13333333333333333}]
[{"$f":"ALUNO_GRAD_TEMPO_INTEGRAL!A134","v":"RÁDIO, TV E INTERNET - 91A"},{"$f":"ALUNO_GRAD_TEMPO_INTEGRAL!B134","v":1374873},{"$f":"ALUNO_GRAD_TEMPO_INTEGRAL!D134","v":4},{"$f":"INÍCIO!$C$4-C133","v":2018},{"$f":"ALUNO_GRAD_TEMPO_INTEGRAL!C134","v":6},{"$f":"SUMIFS(Ingressantes!F:F,Ingressantes!C:C,TAXA_DE_SUCESSO_NA_GRADUAÇÃO!A133,Ingressantes!A:A,TAXA_DE_SUCESSO_NA_GRADUAÇÃO!D133)","v":33},0.18181818181818182]
[{"$f":"ALUNO_GRAD_TEMPO_INTEGRAL!A135","v":"SERVIÇO SOCIAL - 19A"},{"$f":"ALUNO_GRAD_TEMPO_INTEGRAL!B135","v":13107},{"$f":"ALUNO_GRAD_TEMPO_INTEGRAL!D135","v":4},{"$f":"INÍCIO!$C$4-C134","v":2018},{"$f":"ALUNO_GRAD_TEMPO_INTEGRAL!C135","v":6},{"$f":"SUMIFS(Ingressantes!F:F,Ingressantes!C:C,TAXA_DE_SUCESSO_NA_GRADUAÇÃO!A134,Ingressantes!A:A,TAXA_DE_SUCESSO_NA_GRADUAÇÃO!D134)","v":42},0.14285714285714285]
[{"$f":"ALUNO_GRAD_TEMPO_INTEGRAL!A136","v":"SERVIÇO SOCIAL - 68A"},{"$f":"ALUNO_GRAD_TEMPO_INTEGRAL!B136","v":13107},{"$f":"ALUNO_GRAD_TEMPO_INTEGRAL!D136","v":4},{"$f":"INÍCIO!$C$4-C135","v":2018},{"$f":"ALUNO_GRAD_TEMPO_INTEGRAL!C136","v":9},{"$f":"SUMIFS(Ingressantes!F:F,Ingressantes!C:C,TAXA_DE_SUCESSO_NA_GRADUAÇÃO!A135,Ingressantes!A:A,TAXA_DE_SUCESSO_NA_GRADUAÇÃO!D135)","v":41},0.21951219512195122]
[{"$f":"ALUNO_GRAD_TEMPO_INTEGRAL!A137","v":"SISTEMAS DE INFORMAÇÃO - 76A"},{"$f":"ALUNO_GRAD_TEMPO_INTEGRAL!B137","v":1128364},{"$f":"ALUNO_GRAD_TEMPO_INTEGRAL!D137","v":4},{"$f":"INÍCIO!$C$4-C136","v":2018},{"$f":"ALUNO_GRAD_TEMPO_INTEGRAL!C137","v":12},{"$f":"SUMIFS(Ingressantes!F:F,Ingressantes!C:C,TAXA_DE_SUCESSO_NA_GRADUAÇÃO!A136,Ingressantes!A:A,TAXA_DE_SUCESSO_NA_GRADUAÇÃO!D136)","v":45},0.26666666666666666]
[{"$f":"ALUNO_GRAD_TEMPO_INTEGRAL!A138","v":"TURISMO - 72D"},{"$f":"ALUNO_GRAD_TEMPO_INTEGRAL!B138","v":21589},{"$f":"ALUNO_GRAD_TEMPO_INTEGRAL!D138","v":2},{"$f":"INÍCIO!$C$4-C137","v":2020},{"$f":"ALUNO_GRAD_TEMPO_INTEGRAL!C138","v":6},{"$f":"SUMIFS(Ingressantes!F:F,Ingressantes!C:C,TAXA_DE_SUCESSO_NA_GRADUAÇÃO!A137,Ingressantes!A:A,TAXA_DE_SUCESSO_NA_GRADUAÇÃO!D137)","v":0},0]
[{"$f":"ALUNO_GRAD_TEMPO_INTEGRAL!A139","v":"TURISMO - 73D"},{"$f":"ALUNO_GRAD_TEMPO_INTEGRAL!B139","v":21589},{"$f":"ALUNO_GRAD_TEMPO_INTEGRAL!D139","v":2},{"$f":"INÍCIO!$C$4-C138","v":2020},{"$f":"ALUNO_GRAD_TEMPO_INTEGRAL!C139","v":7},{"$f":"SUMIFS(Ingressantes!F:F,Ingressantes!C:C,TAXA_DE_SUCESSO_NA_GRADUAÇÃO!A138,Ingressantes!A:A,TAXA_DE_SUCESSO_NA_GRADUAÇÃO!D138)","v":0},0]
[{"$f":"ALUNO_GRAD_TEMPO_INTEGRAL!A140","v":"TURISMO - 92A"},{"$f":"ALUNO_GRAD_TEMPO_INTEGRAL!B140","v":21589},{"$f":"ALUNO_GRAD_TEMPO_INTEGRAL!D140","v":4},{"$f":"INÍCIO!$C$4-C139","v":2018},{"$f":"ALUNO_GRAD_TEMPO_INTEGRAL!C140","v":4},{"$f":"SUMIFS(Ingressantes!F:F,Ingressantes!C:C,TAXA_DE_SUCESSO_NA_GRADUAÇÃO!A139,Ingressantes!A:A,TAXA_DE_SUCESSO_NA_GRADUAÇÃO!D139)","v":36},0.1111111111111111]
[{"$f":"ALUNO_GRAD_TEMPO_INTEGRAL!A141","v":"TURISMO - 93A"},{"$f":"ALUNO_GRAD_TEMPO_INTEGRAL!B141","v":21589},{"$f":"ALUNO_GRAD_TEMPO_INTEGRAL!D141","v":4},{"$f":"INÍCIO!$C$4-C140","v":2018},{"$f":"ALUNO_GRAD_TEMPO_INTEGRAL!C141","v":1},{"$f":"SUMIFS(Ingressantes!F:F,Ingressantes!C:C,TAXA_DE_SUCESSO_NA_GRADUAÇÃO!A140,Ingressantes!A:A,TAXA_DE_SUCESSO_NA_GRADUAÇÃO!D140)","v":45},2.2222222222222223E-2]
[null,null,null,null,{"$f":"SUM(E3:E140)","v":2270},{"$f":"SUM(F3:F140)","v":5389}]

{"sheet":"INDICADORES_TCU","index":26,"n_rows":32,"n_cols":6,"rows_kept":32,"cut":false,"hidden":false,"merged":[]}
["SÉRIE HISTÓRICA - INDICADORES DE GESTÃO"]
["INDICADORES PRIMÁRIOS",2017,2018,2019,2020,2021]
["CUSTO CORRENTE INCLUINDO 35% DAS DESPESAS DOS HU(S)",{"$f":"'C_CORR_COM_HU S_HU'!B4","v":628553903.16999996},{"$f":"'C_CORR_COM_HU S_HU'!C4","v":666190973.75},{"$f":"'C_CORR_COM_HU S_HU'!D4","v":682548236.1400001},{"$f":"'C_CORR_COM_HU S_HU'!E4","v":727731710.80000007},{"$f":"'C_CORR_COM_HU S_HU'!F4","v":754224765.39999998}]
["CUSTO CORRENTE EXCLUINDO AS DESPESAS DOS HU(S)",{"$f":"'C_CORR_COM_HU S_HU'!B$3","v":604855746.72000003},{"$f":"'C_CORR_COM_HU S_HU'!C$3","v":644483392.75},{"$f":"'C_CORR_COM_HU S_HU'!D$3","v":661885338.28999996},{"$f":"'C_CORR_COM_HU S_HU'!E$3","v":707077157.49000001},{"$f":"'C_CORR_COM_HU S_HU'!F$3","v":733675198.40999997}]
["NÚMERO DE ALUNOS TEMPO INTEGRAL",{"$f":"ALUNO_TEMPO_INTEGRAL!B7","v":18378.169999999998},{"$f":"ALUNO_TEMPO_INTEGRAL!C7","v":20478},{"$f":"ALUNO_TEMPO_INTEGRAL!D7","v":21988.46},{"$f":"ALUNO_TEMPO_INTEGRAL!E7","v":20724.957999999995},{"$f":"ALUNO_TEMPO_INTEGRAL!F7","v":19834.108}]
["NÚMERO DE ALUNOS EQUIVALENTES = AGE+APGTI+ARTI",{"$f":"ALUNO_EQUIVALENTE!B7","v":30075.17},{"$f":"ALUNO_EQUIVALENTE!C7","v":31352},{"$f":"ALUNO_EQUIVALENTE!D7","v":33776.524999999994},{"$f":"ALUNO_EQUIVALENTE!E7","v":35479.690999999992},{"$f":"ALUNO_EQUIVALENTE!F7","v":34018.625999999989}]
["NÚMERO DE PROFESSORES EQUIVALENTES",{"$f":"PROFESSOR_EQUIVALENTE!H2","v":1490},{"$f":"PROFESSOR_EQUIVALENTE!I2","v":1546},{"$f":"PROFESSOR_EQUIVALENTE!J2","v":1550.5},{"$f":"PROFESSOR_EQUIVALENTE!K2","v":1530.5},{"$f":"PROFESSOR_EQUIVALENTE!L2","v":1540.5}]
["NÚMERO DE FUNCIONÁRIOS EQUIVALENTES INCLUINDO AQUELES A SERVIÇO NOS HU(S) ",{"$f":"FUNCIONÁRIO_EQUIVALENTE_HU!M2","v":2646},{"$f":"FUNCIONÁRIO_EQUIVALENTE_HU!N2","v":2711},{"$f":"FUNCIONÁRIO_EQUIVALENTE_HU!O2","v":2692.95},{"$f":"FUNCIONÁRIO_EQUIVALENTE_HU!P2","v":2674.2},{"$f":"FUNCIONÁRIO_EQUIVALENTE_HU!Q2","v":2481.8000000000002}]
["NÚMERO DE FUNCIONÁRIOS EQUIVALENTES EXCLUINDO AQUELES A SERVIÇO NO HU ",{"$f":"FUNCIONÁRIO_EQUIVALENTE_HU!M3","v":2370},{"$f":"FUNCIONÁRIO_EQUIVALENTE_HU!N3","v":2453},{"$f":"FUNCIONÁRIO_EQUIVALENTE_HU!O3","v":2457.25},{"$f":"FUNCIONÁRIO_EQUIVALENTE_HU!P3","v":2446.5},{"$f":"FUNCIONÁRIO_EQUIVALENTE_HU!Q3","v":2272.2000000000003}]
["TOTAL DE ALUNOS EFETIVAMENTE MATRICULADOS NA GRADUAÇÃO",{"$f":"ALUNO_DE_GRADUAÇÃO!H2","v":19793},{"$f":"ALUNO_DE_GRADUAÇÃO!I2","v":19829},{"$f":"ALUNO_DE_GRADUAÇÃO!J2","v":20790},{"$f":"ALUNO_DE_GRADUAÇÃO!K2","v":20039},{"$f":"ALUNO_DE_GRADUAÇÃO!L2","v":21198.5}]
["TOTAL DE ALUNOS EFETIVAMENTE MATRICULADOS NA PÓS-GRADUAÇÃO STRICTO SENSU (MESTRADO E DOUTORADO)",{"$f":"APGTI!H2","v":2333.08},{"$f":"APGTI!I2","v":2815.5},{"$f":"APGTI!J2","v":2791.5},{"$f":"APGTI!K2","v":2482.5},{"$f":"APGTI!L2","v":2907}]
["TOTAL DE ALUNOS EFETIVAMENTE MATRICULADOS NA RESIDÊNCIA MÉDICA",{"$f":"B13/2","v":274.5},{"$f":"C13/2","v":266.5},{"$f":"D13/2","v":273.5},{"$f":"E13/2","v":264.5},{"$f":"F13/2","v":270.5}]
["NÚMERO DE ALUNOS DE RESIDÊNCIA MÉDICA",{"$f":"ALUNO_RESIDENTE!H2","v":549},{"$f":"ALUNO_RESIDENTE!I2","v":533},{"$f":"ALUNO_RESIDENTE!J2","v":547},{"$f":"ALUNO_RESIDENTE!K2","v":529},{"$f":"ALUNO_RESIDENTE!L2","v":541}]
["NÚMERO DE ALUNOS DA GRADUAÇÃO EM TEMPO INTEGRAL",{"$f":"ALUNO_GRAD_TEMPO_INTEGRAL!J2","v":13163},{"$f":"ALUNO_GRAD_TEMPO_INTEGRAL!K2","v":14314},{"$f":"ALUNO_GRAD_TEMPO_INTEGRAL!L2","v":15858.460000000001},{"$f":"ALUNO_GRAD_TEMPO_INTEGRAL!M2","v":15230.957999999995},{"$f":"ALUNO_GRAD_TEMPO_INTEGRAL!N2","v":13479.108000000002}]
["ALUNO EQUIVALENTE DE GRADUAÇÃO",{"$f":"ALUNO_EQUIV_GRADUAÇÃO!J2","v":24860},{"$f":"ALUNO_EQUIV_GRADUAÇÃO!K2","v":25188},{"$f":"ALUNO_EQUIV_GRADUAÇÃO!L2","v":27646.524999999991},{"$f":"ALUNO_EQUIV_GRADUAÇÃO!M2","v":29985.690999999992},{"$f":"ALUNO_EQUIV_GRADUAÇÃO!N2","v":27663.625999999989}]
["NÚMERO DE ALUNOS  EM TEMPO INTEGRAL DA PÓS-GRADUAÇÃO (APGTI)",{"$f":"APGTI!H3","v":4666.17},{"$f":"APGTI!I3","v":5631},{"$f":"APGTI!J3","v":5583},{"$f":"APGTI!K3","v":4965},{"$f":"APGTI!L3","v":5814}]
[]
[]
["SÉRIE HISTÓRICA - INDICADORES DE GESTÃO"]
["Indicadores Decisão TCU 408/2002 - P",2017,2018,2019,2020,2021]
["CUSTO CORRENTE / ALUNO EQUIVALENTE TEMPO INTEGRAL (INCLUINDO OS 35% DAS DESPESES DO(s) HU(s)) ",{"$f":"B3/B6","v":20899.429767811787},{"$f":"C3/C6","v":21248.755222952284},{"$f":"D3/D6","v":20207.76963112695},{"$f":"E3/E6","v":20511.218961856241},{"$f":"F3/F6","v":22170.935575117004}]
["CUSTO CORRENTE / ALUNO EQUIVALENTE TEMPO INTEGRAL (EXCLUINDO AS DESPESES DO(s) HU(s)) ",{"$f":"B4/B6","v":20111.465595040696},{"$f":"C4/C6","v":20556.372567938248},19596.016413470599,19929.067518936401,{"$f":"F4/F6","v":21566.867468721404}]
["ALUNO TEMPO INTEGRAL / NÚMERO DE PROFESSORES EQUIVALENTES",{"$f":"B5/B7","v":12.334342281879193},13.245795601552393,14.181528539180908,13.541298921920937,{"$f":"F5/F7","v":12.875110678351184}]
["ALUNO TEMPO INTEGRAL / FUNCIONÁRIO EQUIV. COM H.U.",{"$f":"B5/B8","v":6.9456424792139071},{"$f":"C5/C8","v":7.5536702323865734},{"$f":"D5/D8","v":8.1651943036447019},{"$f":"E5/E8","v":7.7499655971879431},{"$f":"F5/F8","v":7.9918236763639285}]
["ALUNO TEMPO INTEGRAL / FUNCIONÁRIO EQUIV. SEM H.U.",{"$f":"B5/B9","v":7.7545021097046405},{"$f":"C5/C9","v":8.3481451284141865},{"$f":"D5/D9","v":8.9484016685318952},{"$f":"E5/E9","v":8.4712683425301432},{"$f":"F5/F9","v":8.7290326555760931}]
["FUNCIONÁRIO EQUIV. COM H.U. / PROFESSOR EQUIV.",{"$f":"B8/B7","v":1.7758389261744967},{"$f":"C8/C7","v":1.7535575679172057},{"$f":"D8/D7","v":1.7368268300548209},{"$f":"E8/E7","v":1.7472721332897745},{"$f":"F8/F7","v":1.6110353781239859}]
["FUNCIONÁRIO EQUIV. SEM H.U. / PROFESSOR EQUIV.",{"$f":"B9/B7","v":1.5906040268456376},{"$f":"C9/C7","v":1.5866752910737387},{"$f":"D9/D7","v":1.5848113511770396},{"$f":"E9/E7","v":1.5984972231296961},{"$f":"F9/F7","v":1.4749756572541384}]
["GRAU DE PARTICIPAÇÃO ESTUDANTIL (GPE)",{"$f":"GRAU_PARTICIPAÇÃO_ESTUDANTIL!E2","v":0.67},{"$f":"GRAU_PARTICIPAÇÃO_ESTUDANTIL!F2","v":0.72},{"$f":"GRAU_PARTICIPAÇÃO_ESTUDANTIL!G2","v":0.7627926887926888},{"$f":"GRAU_PARTICIPAÇÃO_ESTUDANTIL!H2","v":0.76006577174509682},{"$f":"GRAU_PARTICIPAÇÃO_ESTUDANTIL!I2","v":0.63585197065830135}]
["GRAU DE ENVOLVIMENTO COM A PÓS-GRADUAÇÃO (GEPG)",{"$f":"GRAU_ENVOLVIMENTO_ALUNO_POS!E2","v":0.11},{"$f":"GRAU_ENVOLVIMENTO_ALUNO_POS!F2","v":0.12},{"$f":"GRAU_ENVOLVIMENTO_ALUNO_POS!G2","v":0.12409681700406563},{"$f":"GRAU_ENVOLVIMENTO_ALUNO_POS!H2","v":0.11022800435139755},{"$f":"GRAU_ENVOLVIMENTO_ALUNO_POS!I2","v":0.12059488498475451}]
["CONCEITO CAPES",{"$f":"CONCEITO_CAPES!E2","v":3.88},{"$f":"CONCEITO_CAPES!F2","v":4.03},{"$f":"CONCEITO_CAPES!G2","v":4},{"$f":"CONCEITO_CAPES!H2","v":4.0294117647058822},{"$f":"CONCEITO_CAPES!I2","v":4.0294117647058822}]
["ÍNDICE DE QUALIFICAÇÃO DO CORPO DOCENTE (IQCD)",{"$f":"'QUALIFICAÇÃO DOCENTE'!E2","v":4.6500000000000004},{"$f":"'QUALIFICAÇÃO DOCENTE'!F2","v":4.71},{"$f":"'QUALIFICAÇÃO DOCENTE'!G2","v":4.7312138728323703},{"$f":"'QUALIFICAÇÃO DOCENTE'!H2","v":4.7681584739545118},{"$f":"'QUALIFICAÇÃO DOCENTE'!I2","v":4.8133828996282526}]
["TAXA DE SUCESSO NA GRADUAÇÃO (TSG) EM % ",{"$f":"TAXA_DE_SUCESSO_NA_GRADUAÇÃO!J2","v":0.49559999999999998},{"$f":"TAXA_DE_SUCESSO_NA_GRADUAÇÃO!K2","v":0.47220000000000001},{"$f":"TAXA_DE_SUCESSO_NA_GRADUAÇÃO!L2","v":0.56240000000000001},{"$f":"TAXA_DE_SUCESSO_NA_GRADUAÇÃO!M2","v":0.49387456573413785},{"$f":"TAXA_DE_SUCESSO_NA_GRADUAÇÃO!N2","v":0.42122842827982926}]