{"text_format":"1","workbook":"xlsx","n_sheets":10,"sheets":["INDICADORES TCU","C_CORR_COM_HU S_HU","MATRICULADOS","ALUNO TEMPO INTEGRAL","ALUNO_EQUIV_GRADUAÇÃO","CONCEITO CAPES","PROFESSOR_FUNCIONÁRIO-EQUIV ","QUALIFICAÇÃO DOCENTE","TAXA DE SUCESSO NA GRADUAÇÃO","HISTORICO"],"not_rendered":{"charts":0,"images":0,"macros":1,"external_links":0,"defined_names":6,"comments":3,"pivot_tables":0},"unopened":[],"bounds":{"document_bytes":16777216,"sheet_cells":100000,"rows_first":2000,"rows_last":500,"rows_between":2000,"halvings":0,"cell_chars":16384,"cell_head_chars":4096},"cells_cut":0,"cells_raw":0,"read":"whole","date_system":"1900"}

{"sheet":"INDICADORES TCU","index":0,"n_rows":32,"n_cols":2,"rows_kept":32,"cut":false,"hidden":false,"merged":[[0,0,0,1],[18,0,18,1],[1,0,1,1],[19,0,19,1]]}
["SÉRIE HISTÓRICA - INDICADORES DE GESTÃO"]
["INDICADORES PRIMÁRIOS"]
["CUSTO CORRENTE COM HU",{"$f":"'C_CORR_COM_HU S_HU'!B13","v":900255671.5799998}]
["CUSTO CORRENTE SEM  HU",{"$f":"'C_CORR_COM_HU S_HU'!B14","v":878838255.28999984}]
["NÚMERO DE ALUNOS TEMPO INTEGRAL - ATI",{"$f":"'ALUNO TEMPO INTEGRAL'!B4","v":21107.034999999996}]
["NÚMERO DE ALUNOS EQUIVALENTES = AGE+APGTI+ARTI",{"$f":"ALUNO_EQUIV_GRADUAÇÃO!H4+'ALUNO TEMPO INTEGRAL'!B2+'ALUNO TEMPO INTEGRAL'!B3","v":37775.80750000001}]
["NÚMERO DE PROFESSORES EQUIVALENTES",{"$f":"'PROFESSOR_FUNCIONÁRIO-EQUIV '!E8","v":1548.5}]
["NÚMERO DE FUNCIONÁRIOS EQUIVALENTES COM HU",{"$f":"'PROFESSOR_FUNCIONÁRIO-EQUIV '!I20","v":2672.6}]
["NÚMERO DE FUNCIONÁRIOS EQUIVALENTES SEM HU",{"$f":"'PROFESSOR_FUNCIONÁRIO-EQUIV '!I21","v":2484}]
["TOTAL DE ALUNOS EFETIVAMENTE MATRICULADOS NA GRADUAÇÃO - AG",{"$f":"MATRICULADOS!C1","v":18962.5}]
["TOTAL DE ALUNOS EFETIVAMENTE MATRICULADOS NA PÓS-GRADUAÇÃO STRICTO SENSU - APG",{"$f":"MATRICULADOS!C2","v":2653.5}]
["TOTAL DE ALUNOS EFETIVAMENTE MATRICULADOS NA RESIDÊNCIA MÉDICA - AR",{"$f":"MATRICULADOS!C3","v":256}]
["NÚMERO DE ALUNOS DA GRADUAÇÃO EM TEMPO INTEGRAL (AgTI)",{"$f":"'ALUNO TEMPO INTEGRAL'!B1","v":15288.034999999998}]
["NÚMERO DE ALUNOS  EM TEMPO INTEGRAL  DA PÓS-GRADUAÇÃO (APgTI)",{"$f":"'ALUNO TEMPO INTEGRAL'!B2","v":5307}]
["NÚMERO DE ALUNOS DE RESIDÊNCIA MÉDICA (ARTI)",{"$f":"'ALUNO TEMPO INTEGRAL'!B3","v":512}]
["ALUNO EQUIVALENTE DE GRADUAÇÃO - AgE",{"$f":"ALUNO_EQUIV_GRADUAÇÃO!H4","v":31956.807500000006}]
[]
[]
["SÉRIE HISTÓRICA - INDICADORES DE GESTÃO"]
["INDICADORES DE DESEMPENHO"]
["CUSTO CORRENTE COM HU / ALUNO EQUIVALENTE TEMPO INTEGRAL ",{"$f":"B3/B6","v":23831.540108838166}]
["CUSTO CORRENTE SEM HU / ALUNO EQUIVALENTE TEMPO INTEGRAL",{"$f":"B4/B6","v":23264.578931635006}]
["ALUNO TEMPO INTEGRAL / NÚMERO DE PROFESSORES EQUIVALENTES",{"$f":"B5/B7","v":13.630632870519856}]
["ALUNO TEMPO INTEGRAL / FUNCIONÁRIO EQUIV. COM H.U.",{"$f":"B5/B8","v":7.8975660405597532}]
["ALUNO TEMPO INTEGRAL / FUNCIONÁRIO EQUIV. SEM H.U.",{"$f":"B5/B9","v":8.4971960547504004}]
["FUNCIONÁRIO EQUIV. COM H.U. / PROFESSOR EQUIV.",{"$f":"B8/B7","v":1.7259283177268323}]
["FUNCIONÁRIO EQUIV. SEM H.U. / PROFESSOR EQUIV.",{"$f":"B9/B7","v":1.6041330319664191}]
["GRAU DE PARTICIPAÇÃO ESTUDANTIL (GPE) - AGTI/AG",{"$f":"B13/B10","v":0.80622465392221476}]
["GRAU DE ENVOLVIMENTO DISCENTE COM PÓS-GRADUAÇÃO (GEPG)",{"$f":"B11/(B10+B11)","v":0.12275629163582531}]
["CONCEITO CAPES MEC PARA A PÓS GRADUAÇÃO",{"$f":"'CONCEITO CAPES'!B37","v":4.4571428571428573}]
["ÍNDICE DE QUALIFICAÇÃO DO CORPO DOCENTE (IQCD)",{"$f":"'QUALIFICAÇÃO DOCENTE'!C8","v":4.8868613138686134}]
["TAXA DE SUCESSO NA GRADUAÇÃO (TSG) EM % ",{"$f":"'TAXA DE SUCESSO NA GRADUAÇÃO'!M9","v":0.56880015658641614}]

{"sheet":"C_CORR_COM_HU S_HU","index":1,"n_rows":23,"n_cols":3,"rows_kept":23,"cut":false,"hidden":false,"merged":[[0,0,0,1],[1,0,1,1]]}
["COMPONENTE"]
[" CUSTO CORRENTE SEM HU"]
["(+) Despesas correntes do órgão Universidade, com todas as UGs, inclusive hospitais universitários, se houver (conta SIAFI nº 3.30.00.00)",1223082231.5699999]
["(-) 65 % das despesas correntes totais do(s) hospital(is) universitário(s) e maternidade",39775201.68]
["(-) 100 % das despesas correntes totais do(s) hospital(is) universitário(s) e maternidade2",61192617.969999999]
["(-) Aposentadorias e Reformas do órgão Universidade (conta SIAFI nº 3.31.90.01)",209381266.90000001]
["(-) Pensões do órgão Universidade (conta SIAFI nº 3.31.90.03)",48282661.810000002]
["(-) Sentenças Judiciais do órgão Universidade (conta SIAFI nº 3.31.90.91)",1996934.71]
["(-) Despesas com pessoal cedido – docente do órgão Universidade",4406184.04]
["(-) Despesas com pessoal cedido - técnico-administrativo do órgão Universidade",5186951.7]
["(-) Despesa com afastamento País/Exterior – docente do órgão Universidade",11016081.860000001]
["(-) Despesa com afastamento País/Exterior - técnico-administrativo do órgão",2781277.2899999996]
[" CUSTO CORRENTE COM HU",{"$f":"B3-B4-B6-B7-B8-B9-B10-B11-B12","v":900255671.5799998}]
[" CUSTO CORRENTE SEM HU",{"$f":"B3-B5-B6-B7-B8-B9-B10-B11-B12","v":878838255.28999984}]
[]
["*Considerar despesas de pessoal cedido/afastado do HU"]
[]
[]
[]
[]
[]
[]
[null,null,"."]

{"sheet":"MATRICULADOS","index":2,"n_rows":101,"n_cols":15,"rows_kept":101,"cut":false,"hidden":false,"merged":[[5,11,5,14],[46,11,46,13],[0,0,0,1],[1,0,1,1],[2,0,2,1],[5,0,5,4],[5,6,5,9]]}
["TOTAL DE ALUNOS EFETIVAMENTE MATRICULADOS NA GRADUAÇÃO - AG",null,{"$f":"E101","v":18962.5}]
["TOTAL DE ALUNOS EFETIVAMENTE MATRICULADOS NA PÓS-GRADUAÇÃO STRICTO SENSU - APG",null,{"$f":"J67","v":2653.5}]
["TOTAL DE ALUNOS EFETIVAMENTE MATRICULADOS NA RESIDÊNCIA MÉDICA - AR",null,{"$f":"O46","v":256}]
[]
[]
["ALUNOS GRADUAÇÃO",null,null,null,null,null,"ALUNOS PÓS GRADUAÇÃO",null,null,null,null,"ALUNOS RESIDÊNCIA"]
["CÓDIGO INEP","CURSO","1º SEMESTRE","2º SEMESTRE","MATRICULAS",null,"CURSO","1º SEM","2º SEM","MATRICULAS",null,"PROGRAMA DE RESIDÊNCIA","TOTAL\n1º SEMESTRE","TOTAL\n2º SEMESTRE","Total "]
[22451,"ADMINISTRAÇÃO (INTEGRAL/NOTURNO)",413,364,{"$f":"AVERAGE(C8,D8)","v":388.5},null,"DOUTORADO EM CIENCIAS FARMACEUTICAS",32,15,{"$f":"AVERAGE(H8:I8)","v":23.5},null,"ANESTESIOLOGIA",10,10,{"$f":"AVERAGE(M8:N8)","v":10}]
[13114,"ARQUITETURA E URBANISMO",419,419,{"$f":"AVERAGE(C9,D9)","v":419},null,"DOUTORADO EM ARTES, CULTURA E LINGUAGENS",32,29,30.5,null,"CARDIOLOGIA",4,4,4]
[1153948,"BACHARELADO EM ARTES VISUAIS",211,182,196.5,null,"DOUTORADO EM SERVICO SOCIAL",42,45,43.5,null,"CIRURGIA GERAL",9,9,9]
[38994,"BACHARELADO ENFERMAGEM",325,327,326,null,"DOUTORADO EM COMUNICACAO",45,44,44.5,null,"CIRURGIA PLÁSTICA",4,4,4]
[1128364,"BACHARELADO SISTEMAS DE INFORMAÇÃO - NOTURNO",169,185,177,null,"DOUTORADO EM BIOQUIMICA E BIOLOGIA MOLECULAR",15,16,15.5,null,"CLÍNICA MÉDICA",16,16,16]
[65361,"CIÊNCIA DA COMPUTAÇÃO - INTEGRAL",128,119,123.5,null,"DOUTORADO EM CIENCIA DA RELIGIAO",45,40,42.5,null,"DERMATOLOGIA",6,6,6]
[18518,"CIÊNCIA DA COMPUTAÇÃO - NOTURNO",194,207,200.5,null,"DOUTORADO EM CIENCIAS BIOLOGICAS (COMPORTAMENTO E BIOLOGIA ANIMAL)",1,0,0.5,null,"ECOCARDIOGRAFIA",4,4,4]
[1132074,"CIÊNCIAS CONTÁBEIS (INTEGRAL/NOTURNO)",401,372,386.5,null,"DOUTORADO EM CIENCIAS BIOLOGICAS(IMUNOLOGIA E DOENCAS INFECTO-PARASITARIAS/GENETICA E BIOTECNOLOGIA",32,31,31.5,null,"ENDOCRINOLOGIA E METABOLOGIA",4,4,4]
[13090,"CIÊNCIAS ECONÔMICAS (INTEGRAL/NOTURNO)",537,473,505,null,"DOUTORADO EM CIENCIAS SOCIAIS",65,61,63,null,"ENDOSCOPIA",1,2,1.5]
[1153947,"CINEMA E AUDIOVISUAL",275,243,259,null,"DOUTORADO EM BIODIVERSIDADE E CONSERVACAO DA NATUREZA",35,36,35.5,null,"ENDOSCOPIA DIGESTIVA",2,2,2]
[1153949,"DESIGN",240,205,222.5,null,"DOUTORADO EM ECONOMIA",47,42,44.5,null,"GASTROENTEROLOGIA",8,7,7.5]
[13089,"DIREITO",494,480,487,null,"DOUTORADO EM EDUCACAO",97,107,102,null,"HEMATOLOGIA E HEMOTERAPIA",4,3,3.5]
[21860,"DIREITO",500,487,493.5,null,"DOUTORADO EM EDUCACAO FISICA",38,39,38.5,null,"INFECTOLOGIA",2,2,2]
[116496,"ENGENHARIA AMBIENTAL E SANITÁRIA",273,210,241.5,null,"DOUTORADO EM ENGENHARIA ELETRICA",90,88,89,null,"MEDICINA DE FAMÍLIA E COMUNIDADE",3,2,2.5]
[13094,"ENGENHARIA CIVIL",520,506,513,null,"DOUTORADO EM FISICA",38,40,39,null,"MEDICINA INTENSIVA",2,3,2.5]
[1120244,"ENGENHARIA COMPUTACIONAL",124,107,115.5,null,"DOUTORADO EM HISTORIA",70,72,71,null,"NEFROLOGIA",6,7,6.5]
[38594,"ENGENHARIA DE PRODUÇÃO",293,298,295.5,null,"DOUTORADO EM LETRAS: ESTUDOS LITERARIOS",72,69,70.5,null,"NEONATOLOGIA",2,1,1.5]
[13095,"ENGENHARIA ELÉTRICA - EM EXTINÇÃO",0,0,0,null,"DOUTORADO EM LINGUISTICA",44,45,44.5,null,"NEUROLOGIA",12,12,12]
[49788,"ENGENHARIA ELÉTRICA - EM EXTINÇÃO",0,0,0,null,"DOUTORADO EM MODELAGEM COMPUTACIONAL",46,35,40.5,null,"OBSTETRÍCIA E GINECOLOGIA",11,12,11.5]
[1109475,"ENGENHARIA ELÉTRICA - ENERGIA",239,199,219,null,"DOUTORADO EM PSICOLOGIA",64,39,51.5,null,"OFTALMOLOGIA",4,4,4]
[1109485,"ENGENHARIA ELÉTRICA - ROBÓTICA E AUTOMAÇÃO INDUSTRIAL",249,235,242,null,"DOUTORADO EM QUIMICA",61,62,61.5,null,"ORTOPEDIA E TRAUMATOLOGIA",8,7,7.5]
[1109486,"ENGENHARIA ELÉTRICA - SISTEMAS DE POTÊNCIA",216,210,213,null,"DOUTORADO EM SAUDE",63,57,60,null,"OTORRINOLARINGOLOGIA",6,6,6]
[1109487,"ENGENHARIA ELÉTRICA - SISTEMAS ELETRÔNICOS",205,190,197.5,null,"DOUTORADO EM SAUDE COLETIVA",52,46,49,null,"PATOLOGIA",3,4,3.5]
[1109488,"ENGENHARIA ELÉTRICA - TELECOMUNICAÇÕES",172,169,170.5,null,"DOUTORADO EM ODONTOLOGIA",31,42,36.5,null,"PEDIATRIA",19,17,18]
[1109489,"ENGENHARIA MECÂNICA",268,273,270.5,null,"MESTRADO ACADEMICO EM ADMINISTRACAO",34,33,33.5,null,"PNEUMOLOGIA",3,4,3.5]
[113531,"ESTATÍSTICA",65,61,63,null,"MESTRADO EM AMBIENTE CONSTRUIDO",57,49,53,null,"PSIQUIATRIA",11,12,11.5]
[38509,"FARMÁCIA",530,522,526,null,"MESTRADO EM ARTES, CULTURA E LINGUAGENS",58,54,56,null,"RADIOLOGIA E DIAGNÓSTICO POR IMAGEM",5,4,4.5]
[13118,"FISIOTERAPIA",219,195,207,null,"MESTRADO EM BIOQUIMICA E BIOLOGIA MOLECULAR",5,5,5,null,"REUMATOLOGIA",4,4,4]
[27657,"JORNALISMO",144,154,149,null,"MESTRADO EM CIENCIA DA COMPUTACAO",53,35,44,null,"UROLOGIA",3,3,3]
[36356,"JORNALISMO",188,164,176,null,"MESTRADO EM CIENCIA DA RELIGIAO",41,31,36,null,"GASTROENTEROLOGIA (PEDIÁTRICA)",null,null,{"$error":"#DIV/0!"}]
[1268983,"LETRAS - LIBRAS",108,112,110,null,"MESTRADO EM CIENCIAS BIOLOGICAS(IMUNOLOGIA/GENETICA E BIOTECNOLOGIA)",36,36,36,null,"HEPATOLOGIA",null,null,{"$error":"#DIV/0!"}]
[1153951,"LICENCIATURA EM ARTES VISUAIS",186,170,178,null,"MESTRADO EM BIODIVERSIDADE E CONSERVACAO DA NATUREZA",62,47,54.5,null,"PSIQUIATRIA DA INFÂNCIA E ADOLESCÊNCIA ",null,null,{"$error":"#DIV/0!"}]
[1166037,"LICENCIATURA EM FÍSICA - NOTURNO",41,44,42.5,null,"MESTRADO ACADEMICO EM CIENCIAS FARMACEUTICAS",30,23,26.5,null,"FARMÁCIA",2,2,2]
[1166039,"LICENCIATURA EM QUÍMICA - NOTURNO",56,65,60.5,null,"MESTRADO EM CIENCIAS SOCIAIS",56,51,53.5,null,"GESTAO HOSPITALAR - ADMINISTRAÇÃO",2,2,2]
[338994,"LICENCIATURA ENFERMAGEM (PÓS BACHARELADO APENAS)",4,1,2.5,null,"MESTRADO EM CLINICA ODONTOLOGICA",2,0,1,null,"GESTÃO HOSPITALAR - ECONOMIA",2,2,2]
[1166038,"LICENCIATURA MATEMÁTICA - NOTURNO",53,52,52.5,null,"MESTRADO EM COMUNICACAO",50,44,47,null,"MULTIPROFISSIONAL EM SAÚDE DO ADULTO COM ÊNFASE EM DOENÇAS CRÔNICO-DEGENERATIVAS",{"$f":"4+3+4+4+4+4+4+4","v":31},29,30]
[5000615,"LICENCIATURA GEOGRAFIA (CÓDIGO DE ABI ERRADO)",53,37,45,null,"MESTRADO EM DIREITO",75,51,63,null,"INTEGRADA MULTIPROFISSIONAL EM ATENÇÃO HOSPITALAR",31,30,30.5]
[13103,"MEDICINA",1100,1007,1053.5,null,"MESTRADO EM ECONOMIA APLICADA",45,34,39.5,null,"MULTIPROFISSIONAL EM SAÚDE DA FAMÍLIA",15,13,14]
[1268972,"MEDICINA VETERINÁRIA",554,631,592.5,null,"MESTRADO EM EDUCACAO",93,119,106,null,"TOTAIS",{"$f":"SUM(M8:M45)","v":259},253,{"$f":"(M46+N46)/2","v":256}]
[1153950,"MODA",215,192,203.5,null,"MESTRADO EM EDUCACAO FISICA",20,27,23.5,null,"ARTI",null,null,{"$f":"O46*2","v":512}]
[116490,"MÚSICA",55,48,51.5,null,"MESTRADO ACADEMICO EM ENFERMAGEM",41,51,46]
[1278855,"MÚSICA",57,54,55.5,null,"MESTRADO EM ENGENHARIA ELETRICA",84,81,82.5]
[116498,"NUTRIÇÃO",468,467,467.5,null,"MESTRADO ACADEMICO EM ENGENHARIA CIVIL",55,47,51]
[13104,"ODONTOLOGIA",383,385,384,null,"MESTRADO EM FISICA",27,25,26]
[13105,"PEDAGOGIA (MATUTINO/NOTURNO)",352,353,352.5,null,"MESTRADO EM FILOSOFIA",23,24,23.5]
[13113,"PSICOLOGIA",283,258,270.5,null,"MESTRADO EM CIENCIAS DA REABILITACAO E DESEMPENHO FISICO-FUNCIONAL",40,46,43]
[1374873,"RÁDIO, TV E INTERNET",144,132,138,null,"MESTRADO EM GEOGRAFIA",52,50,51]
[13107,"SERVIÇO SOCIAL (MATUTINO/NOTURNO)",322,316,319,null,"MESTRADO EM HISTORIA",72,67,69.5]
[21589,"TURISMO (INTEGRAL E NOTURNO)",251,244,247.5,null,"MESTRADO EM LETRAS: ESTUDOS LITERARIOS",47,42,44.5]
[1178684,"ADMINISTRAÇÃO GV",208,173,190.5,null,"MESTRADO EM LINGUISTICA",37,43,40]
[1183351,"CIÊNCIAS CONTÁBEIS GV",118,85,101.5,null,"MESTRADO ACADEMICO EM MATEMATICA",26,20,23]
[1178683,"CIÊNCIAS ECONÔMICAS GV",185,188,186.5,null,"MESTRADO EM MODELAGEM COMPUTACIONAL",43,34,38.5]
[1178675,"DIREITO GV",453,485,469,null,"MESTRADO EM PSICOLOGIA",41,38,39.5]
[1270439,"EDUCAÇÃO FÍSICA GV",158,155,156.5,null,"MESTRADO EM QUIMICA",38,37,37.5]
[1185503,"FARMÁCIA GV",225,215,220,null,"MESTRADO EM SAUDE",68,63,65.5]
[1178689,"FISIOTERAPIA GV",198,186,192,null,"MESTRADO EM SAUDE COLETIVA",50,38,44]
[5001167,"MEDICINA GV",601,559,580,null,"MESTRADO EM SERVICO SOCIAL",40,37,38.5]
[1178688,"NUTRIÇÃO GV",230,219,224.5,null,"MESTRADO ACADEMICO EM CIENCIAS APLICADAS A SAUDE",50,42,46]
[5001168,"ODONTOLOGIA GV",276,276,276,null,"MESTRADO EM ODONTOLOGIA",36,39,37.5]
[5000608,"ABI - CIÊNCIAS BIOLÓGICAS",93,73,83,null,"TOTAL MATRÍCULAS PÓS GRADUAÇÃO",{"$f":"SUM(H8:H66)","v":2744},2563,2653.5]
[13086,"CIÊNCIAS BIOLÓGICAS ",91,78,84.5]
[313086,"CIÊNCIAS BIOLÓGICAS ",159,156,157.5]
[5000610,"ABI - EDUCAÇÃO FÍSICA",371,364,367.5]
[13092,"EDUCAÇÃO FÍSICA",61,63,62]
[313092,"EDUCAÇÃO FÍSICA",65,60,62.5]
[5000611,"ABI - FILOSOFIA",39,24,31.5]
[13097,"FILOSOFIA",90,79,84.5]
[313097,"FILOSOFIA",42,40,41]
[5000613,"ABI - FíSICA",67,55,61]
[13098,"FÍSICA",4,3,3.5]
[313098,"FÍSICA",9,9,9]
[313099,"GEOGRAFIA",105,94,99.5]
[13099,"GEOGRAFIA",227,206,216.5]
[5000616,"ABI - HISTÓRIA (INTEGRAL/NOTURNO)",107,69,88]
[13100,"HISTÓRIA",237,219,228]
[313100,"HISTÓRIA",90,99,94.5]
[5000617,"ABI - LETRAS (INTEGRAL/NOTURNO). OBS. NOTURNO SÓ LICENCIATURA",96,65,80.5]
[13101,"LETRAS",311,332,321.5]
[313101,"LETRAS",82,67,74.5]
[5000618,"ABI - MATEMÁTICA",54,37,45.5]
[13102,"MATEMÁTICA",22,20,21]
[313102,"MATEMÁTICA",16,14,15]
[5000619,"ABI - QUíMICA",76,42,59]
[13106,"QUÍMICA",37,36,36.5]
[313106,"QUÍMICA",82,70,76]
[116502,"CIÊNCIAS EXATAS - BI/LI",469,290,379.5]
[1120242,"BACHARELADO INTERDISCIPLINAR DE HUMANAS - BI/LI\nINTEGRAL/NOTURNO",663,588,625.5]
[5000609,"ABI - CIÊNCIAS SOCIAIS (13087/313087)",90,80,85]
[13087,"CIÊNCIAS SOCIAIS",42,46,44]
[313087,"CIÊNCIAS SOCIAIS",68,65,66.5]
[1165350,"BACHARELADO CIÊNCIA DA RELIGIAO",34,41,37.5]
[1165686,"LICENCIATURA CIÊNCIA DA RELIGIÃO",38,42,40]
[116500,"INTERDISCIPLINAR EM ARTES E DESIGN - BI/LI  - EXTINTO",187,162,174.5]
[null,null,{"$f":"SUM(C8:C100)","v":19572},18353,{"$f":"SUM(E8:E100)","v":18962.5}]

{"sheet":"ALUNO TEMPO INTEGRAL","index":3,"n_rows":104,"n_cols":8,"rows_kept":104,"cut":false,"hidden":false,"merged":[[5,0,5,6],[6,0,6,6]]}
["NÚMERO DE ALUNOS DA GRADUAÇÃO EM TEMPO INTEGRAL - AGTI",{"$f":"H9","v":15288.034999999998}]
["NÚMERO DE ALUNOS  EM TEMPO INTEGRAL  DA PÓS-GRADUAÇÃO (APGTI)",{"$f":"MATRICULADOS!J67*2","v":5307}]
["NÚMERO DE ALUNOS DE RESIDÊNCIA MÉDICA",{"$f":"MATRICULADOS!O46*2","v":512}]
["ATI - NÚMERO DE ALUNOS TEMPO INTEGRAL",{"$f":"SUM(B1:B3)","v":21107.034999999996}]
[]
["COMPONENTE"]
["ALUNO GRADUAÇÃO TEMPO INTEGRAL (AGTI)"]
["CURSO","CÓDIGO INEP","NÚMERO DE DIPLOMADOS  (NDI)","DURAÇÃO DO CURSO  (DPC)","FATOR DE RETENÇÃO ","INGRESSANTES (NI)","ALUNO TEMPO INTEGRAL","AGTI TOTAL"]
[{"$f":"MATRICULADOS!B8","v":"ADMINISTRAÇÃO (INTEGRAL/NOTURNO)"},{"$f":"MATRICULADOS!A8","v":22451},61,4,0.12,73,{"$f":"SUM((C9*D9)*(1+E9)+((F9-C9)/4)*D9)","v":285.28000000000003},{"$f":"G102","v":15288.034999999998}]
[{"$f":"MATRICULADOS!B9","v":"ARQUITETURA E URBANISMO"},{"$f":"MATRICULADOS!A9","v":13114},46,4,0.12,76,236.08]
[{"$f":"MATRICULADOS!B10","v":"BACHARELADO EM ARTES VISUAIS"},{"$f":"MATRICULADOS!A10","v":1153948},13,2,0.1,56,50.1]
[{"$f":"MATRICULADOS!B11","v":"BACHARELADO ENFERMAGEM"},{"$f":"MATRICULADOS!A11","v":38994},53,5,6.6000000000000003E-2,79,314.99]
[{"$f":"MATRICULADOS!B12","v":"BACHARELADO SISTEMAS DE INFORMAÇÃO - NOTURNO"},{"$f":"MATRICULADOS!A12","v":1128364},17,4,0.13250000000000001,39,99.01]
[{"$f":"MATRICULADOS!B13","v":"CIÊNCIA DA COMPUTAÇÃO - INTEGRAL"},{"$f":"MATRICULADOS!A13","v":65361},18,4,0.13250000000000001,36,99.54]
[{"$f":"MATRICULADOS!B14","v":"CIÊNCIA DA COMPUTAÇÃO - NOTURNO"},{"$f":"MATRICULADOS!A14","v":18518},15,4,0.13250000000000001,39,91.95]
[{"$f":"MATRICULADOS!B15","v":"CIÊNCIAS CONTÁBEIS (INTEGRAL/NOTURNO)"},{"$f":"MATRICULADOS!A15","v":1132074},52,4,0.12,73,253.96000000000004]
[{"$f":"MATRICULADOS!B16","v":"CIÊNCIAS ECONÔMICAS (INTEGRAL/NOTURNO)"},{"$f":"MATRICULADOS!A16","v":13090},72,4,0.12,104,354.56000000000006]
[{"$f":"MATRICULADOS!B17","v":"CINEMA E AUDIOVISUAL"},{"$f":"MATRICULADOS!A17","v":1153947},56,2,0.1,76,133.20000000000002]
[{"$f":"MATRICULADOS!B18","v":"DESIGN"},{"$f":"MATRICULADOS!A18","v":1153949},49,2,0.1,85,125.80000000000001]
[{"$f":"MATRICULADOS!B19","v":"DIREITO"},{"$f":"MATRICULADOS!A19","v":13089},100,5,0.12,96,555]
[{"$f":"MATRICULADOS!B20","v":"DIREITO"},{"$f":"MATRICULADOS!A20","v":21860},69,5,0.12,96,420.15000000000003]
[{"$f":"MATRICULADOS!B21","v":"ENGENHARIA AMBIENTAL E SANITÁRIA"},{"$f":"MATRICULADOS!A21","v":116496},21,5,8.2000000000000003E-2,40,137.36000000000001]
[{"$f":"MATRICULADOS!B22","v":"ENGENHARIA CIVIL"},{"$f":"MATRICULADOS!A22","v":13094},77,5,8.2000000000000003E-2,86,427.82000000000005]
[{"$f":"MATRICULADOS!B23","v":"ENGENHARIA COMPUTACIONAL"},{"$f":"MATRICULADOS!A23","v":1120244},10,5,8.2000000000000003E-2,23,70.349999999999994]
[{"$f":"MATRICULADOS!B24","v":"ENGENHARIA DE PRODUÇÃO"},{"$f":"MATRICULADOS!A24","v":38594},47,5,8.2000000000000003E-2,66,278.02]
[{"$f":"MATRICULADOS!B25","v":"ENGENHARIA ELÉTRICA - EM EXTINÇÃO"},{"$f":"MATRICULADOS!A25","v":13095},0,5,8.2000000000000003E-2,0,0]
[{"$f":"MATRICULADOS!B26","v":"ENGENHARIA ELÉTRICA - EM EXTINÇÃO"},{"$f":"MATRICULADOS!A26","v":49788},0,5,8.2000000000000003E-2,0,0]
[{"$f":"MATRICULADOS!B27","v":"ENGENHARIA ELÉTRICA - ENERGIA"},{"$f":"MATRICULADOS!A27","v":1109475},28,5,8.2000000000000003E-2,43,170.23000000000002]
[{"$f":"MATRICULADOS!B28","v":"ENGENHARIA ELÉTRICA - ROBÓTICA E AUTOMAÇÃO INDUSTRIAL"},{"$f":"MATRICULADOS!A28","v":1109485},30,5,8.2000000000000003E-2,43,178.55]
[{"$f":"MATRICULADOS!B29","v":"ENGENHARIA ELÉTRICA - SISTEMAS DE POTÊNCIA"},{"$f":"MATRICULADOS!A29","v":1109486},21,5,8.2000000000000003E-2,38,134.86000000000001]
[{"$f":"MATRICULADOS!B30","v":"ENGENHARIA ELÉTRICA - SISTEMAS ELETRÔNICOS"},{"$f":"MATRICULADOS!A30","v":1109487},21,5,8.2000000000000003E-2,34,129.86000000000001]
[{"$f":"MATRICULADOS!B31","v":"ENGENHARIA ELÉTRICA - TELECOMUNICAÇÕES"},{"$f":"MATRICULADOS!A31","v":1109488},13,5,8.2000000000000003E-2,32,94.08]
[{"$f":"MATRICULADOS!B32","v":"ENGENHARIA MECÂNICA"},{"$f":"MATRICULADOS!A32","v":1109489},43,5,8.2000000000000003E-2,53,245.13000000000002]
[{"$f":"MATRICULADOS!B33","v":"ESTATÍSTICA"},{"$f":"MATRICULADOS!A33","v":113531},2,5,0.13250000000000001,14,26.325000000000003]
[{"$f":"MATRICULADOS!B34","v":"FARMÁCIA"},{"$f":"MATRICULADOS!A34","v":38509},81,5,6.6000000000000003E-2,93,446.73]
[{"$f":"MATRICULADOS!B35","v":"FISIOTERAPIA"},{"$f":"MATRICULADOS!A35","v":13118},62,5,6.6000000000000003E-2,38,300.46000000000004]
[{"$f":"MATRICULADOS!B36","v":"JORNALISMO"},{"$f":"MATRICULADOS!A36","v":27657},20,4,0.12,31,100.60000000000001]
[{"$f":"MATRICULADOS!B37","v":"JORNALISMO"},{"$f":"MATRICULADOS!A37","v":36356},30,4,0.12,35,139.4]
[{"$f":"MATRICULADOS!B38","v":"LETRAS - LIBRAS"},{"$f":"MATRICULADOS!A38","v":1268983},14,4,0.115,25,73.44]
[{"$f":"MATRICULADOS!B39","v":"LICENCIATURA EM ARTES VISUAIS"},{"$f":"MATRICULADOS!A39","v":1153951},8,2,0.1,65,46.1]
[{"$f":"MATRICULADOS!B40","v":"LICENCIATURA EM FÍSICA - NOTURNO"},{"$f":"MATRICULADOS!A40","v":1166037},4,4,0.13250000000000001,12,26.12]
[{"$f":"MATRICULADOS!B41","v":"LICENCIATURA EM QUÍMICA - NOTURNO"},{"$f":"MATRICULADOS!A41","v":1166039},4,4,0.13250000000000001,18,32.120000000000005]
[{"$f":"MATRICULADOS!B42","v":"LICENCIATURA ENFERMAGEM (PÓS BACHARELADO APENAS)"},{"$f":"MATRICULADOS!A42","v":338994},2,5,6.6000000000000003E-2,1,9.41]
[{"$f":"MATRICULADOS!B43","v":"LICENCIATURA MATEMÁTICA - NOTURNO"},{"$f":"MATRICULADOS!A43","v":1166038},4,4,0.13250000000000001,9,23.12]
[{"$f":"MATRICULADOS!B44","v":"LICENCIATURA GEOGRAFIA (CÓDIGO DE ABI ERRADO)"},{"$f":"MATRICULADOS!A44","v":5000615},0,4,0.1,41,41]
[{"$f":"MATRICULADOS!B45","v":"MEDICINA"},{"$f":"MATRICULADOS!A45","v":13103},222,6,6.5000000000000002E-2,180,1355.58]
[{"$f":"MATRICULADOS!B46","v":"MEDICINA VETERINÁRIA"},{"$f":"MATRICULADOS!A46","v":1268972},52,5,0.65,98,486.5]
[{"$f":"MATRICULADOS!B47","v":"MODA"},{"$f":"MATRICULADOS!A47","v":1153950},22,2,0.1,65,69.900000000000006]
[{"$f":"MATRICULADOS!B48","v":"MÚSICA"},{"$f":"MATRICULADOS!A48","v":116490},13,4,0.115,3,47.98]
[{"$f":"MATRICULADOS!B49","v":"MÚSICA"},{"$f":"MATRICULADOS!A49","v":1278855},13,4,0.115,2,46.98]
[{"$f":"MATRICULADOS!B50","v":"NUTRIÇÃO"},{"$f":"MATRICULADOS!A50","v":116498},66,5,6.6000000000000003E-2,101,395.53000000000003]
[{"$f":"MATRICULADOS!B51","v":"ODONTOLOGIA"},{"$f":"MATRICULADOS!A51","v":13104},90,5,6.5000000000000002E-2,93,483]
[{"$f":"MATRICULADOS!B52","v":"PEDAGOGIA (MATUTINO/NOTURNO)"},{"$f":"MATRICULADOS!A52","v":13105},49,4,0.1,82,248.60000000000002]
[{"$f":"MATRICULADOS!B53","v":"PSICOLOGIA"},{"$f":"MATRICULADOS!A53","v":13113},48,5,0.1,50,266.5]
[{"$f":"MATRICULADOS!B54","v":"RÁDIO, TV E INTERNET"},{"$f":"MATRICULADOS!A54","v":1374873},30,4,0.12,28,132.4]
[{"$f":"MATRICULADOS!B55","v":"SERVIÇO SOCIAL (MATUTINO/NOTURNO)"},{"$f":"MATRICULADOS!A55","v":13107},46,4,0.12,65,225.08]
[{"$f":"MATRICULADOS!B56","v":"TURISMO (INTEGRAL E NOTURNO)"},{"$f":"MATRICULADOS!A56","v":21589},35,4,0.1,59,178]
[{"$f":"MATRICULADOS!B57","v":"ADMINISTRAÇÃO GV"},{"$f":"MATRICULADOS!A57","v":1178684},30,4,0.12,31,135.4]
[{"$f":"MATRICULADOS!B58","v":"CIÊNCIAS CONTÁBEIS GV"},{"$f":"MATRICULADOS!A58","v":1183351},21,4,0.12,13,86.080000000000013]
[{"$f":"MATRICULADOS!B59","v":"CIÊNCIAS ECONÔMICAS GV"},{"$f":"MATRICULADOS!A59","v":1178683},17,4,0.12,33,92.160000000000011]
[{"$f":"MATRICULADOS!B60","v":"DIREITO GV"},{"$f":"MATRICULADOS!A60","v":1178675},69,5,0.12,87,408.90000000000003]
[{"$f":"MATRICULADOS!B61","v":"EDUCAÇÃO FÍSICA GV"},{"$f":"MATRICULADOS!A61","v":1270439},17,5,6.6000000000000003E-2,38,116.86]
[{"$f":"MATRICULADOS!B62","v":"FARMÁCIA GV"},{"$f":"MATRICULADOS!A62","v":1185503},24,5,6.6000000000000003E-2,42,150.42000000000002]
[{"$f":"MATRICULADOS!B63","v":"FISIOTERAPIA GV"},{"$f":"MATRICULADOS!A63","v":1178689},38,5,6.6000000000000003E-2,25,186.29000000000002]
[{"$f":"MATRICULADOS!B64","v":"MEDICINA GV"},{"$f":"MATRICULADOS!A64","v":5001167},128,6,6.5000000000000002E-2,100,775.92]
[{"$f":"MATRICULADOS!B65","v":"NUTRIÇÃO GV"},{"$f":"MATRICULADOS!A65","v":1178688},27,5,0.66,53,256.60000000000002]
[{"$f":"MATRICULADOS!B66","v":"ODONTOLOGIA GV"},{"$f":"MATRICULADOS!A66","v":5001168},27,5,0.65,0,189]
[{"$f":"MATRICULADOS!B67","v":"ABI - CIÊNCIAS BIOLÓGICAS"},{"$f":"MATRICULADOS!A67","v":5000608},0,2,0.125,55,27.5]
[{"$f":"MATRICULADOS!B68","v":"CIÊNCIAS BIOLÓGICAS "},{"$f":"MATRICULADOS!A68","v":13086},22,4,0.125,16,93]
[{"$f":"MATRICULADOS!B69","v":"CIÊNCIAS BIOLÓGICAS "},{"$f":"MATRICULADOS!A69","v":313086},34,4,0.125,15,134]
[{"$f":"MATRICULADOS!B70","v":"ABI - EDUCAÇÃO FÍSICA"},{"$f":"MATRICULADOS!A70","v":5000610},0,2,6.6000000000000003E-2,83,41.5]
[{"$f":"MATRICULADOS!B71","v":"EDUCAÇÃO FÍSICA"},{"$f":"MATRICULADOS!A71","v":13092},10,5,6.6000000000000003E-2,48,100.80000000000001]
[{"$f":"MATRICULADOS!B72","v":"EDUCAÇÃO FÍSICA"},{"$f":"MATRICULADOS!A72","v":313092},59,5,6.6000000000000003E-2,2,243.22000000000003]
[{"$f":"MATRICULADOS!B73","v":"ABI - FILOSOFIA"},{"$f":"MATRICULADOS!A73","v":5000611},0,2,0.1,28,14]
[{"$f":"MATRICULADOS!B74","v":"FILOSOFIA"},{"$f":"MATRICULADOS!A74","v":13097},17,2,0.1,16,36.900000000000006]
[{"$f":"MATRICULADOS!B75","v":"FILOSOFIA"},{"$f":"MATRICULADOS!A75","v":313097},7,2,0.1,10,16.900000000000002]
[{"$f":"MATRICULADOS!B76","v":"ABI - FíSICA"},{"$f":"MATRICULADOS!A76","v":5000613},0,2,0.13250000000000001,18,9]
[{"$f":"MATRICULADOS!B77","v":"FÍSICA"},{"$f":"MATRICULADOS!A77","v":13098},3,4,0.13250000000000001,1,11.59]
[{"$f":"MATRICULADOS!B78","v":"FÍSICA"},{"$f":"MATRICULADOS!A78","v":313098},10,4,0.13250000000000001,2,37.300000000000004]
[{"$f":"MATRICULADOS!B79","v":"GEOGRAFIA"},{"$f":"MATRICULADOS!A79","v":313099},19,4,0.1,9,73.600000000000009]
[{"$f":"MATRICULADOS!B80","v":"GEOGRAFIA"},{"$f":"MATRICULADOS!A80","v":13099},24,4,0.1,42,123.60000000000001]
[{"$f":"MATRICULADOS!B81","v":"ABI - HISTÓRIA (INTEGRAL/NOTURNO)"},{"$f":"MATRICULADOS!A81","v":5000616},0,2,0.1,69,34.5]
[{"$f":"MATRICULADOS!B82","v":"HISTÓRIA"},{"$f":"MATRICULADOS!A82","v":13100},50,4,0.1,22,192.00000000000003]
[{"$f":"MATRICULADOS!B83","v":"HISTÓRIA"},{"$f":"MATRICULADOS!A83","v":313100},17,4,0.1,36,93.800000000000011]
[{"$f":"MATRICULADOS!B84","v":"ABI - LETRAS (INTEGRAL/NOTURNO). OBS. NOTURNO SÓ LICENCIATURA"},{"$f":"MATRICULADOS!A84","v":5000617},0,2,0.115,41,20.5]
[{"$f":"MATRICULADOS!B85","v":"LETRAS"},{"$f":"MATRICULADOS!A85","v":13101},39,4,0.115,59,193.94]
[{"$f":"MATRICULADOS!B86","v":"LETRAS"},{"$f":"MATRICULADOS!A86","v":313101},13,4,0.115,10,54.98]
[{"$f":"MATRICULADOS!B87","v":"ABI - MATEMÁTICA"},{"$f":"MATRICULADOS!A87","v":5000618},0,2,0.13250000000000001,13,6.5]
[{"$f":"MATRICULADOS!B88","v":"MATEMÁTICA"},{"$f":"MATRICULADOS!A88","v":13102},11,4,0.13250000000000001,2,40.830000000000005]
[{"$f":"MATRICULADOS!B89","v":"MATEMÁTICA"},{"$f":"MATRICULADOS!A89","v":313102},9,4,0.13250000000000001,4,35.770000000000003]
[{"$f":"MATRICULADOS!B90","v":"ABI - QUíMICA"},{"$f":"MATRICULADOS!A90","v":5000619},0,2,0.13250000000000001,42,21]
[{"$f":"MATRICULADOS!B91","v":"QUÍMICA"},{"$f":"MATRICULADOS!A91","v":13106},5,4,0.13250000000000001,5,22.650000000000002]
[{"$f":"MATRICULADOS!B92","v":"QUÍMICA"},{"$f":"MATRICULADOS!A92","v":313106},9,4,0.13250000000000001,0,31.770000000000003]
[{"$f":"MATRICULADOS!B93","v":"CIÊNCIAS EXATAS - BI/LI"},{"$f":"MATRICULADOS!A93","v":116502},63,3,0.1,208,316.64999999999998]
[{"$f":"MATRICULADOS!B94","v":"BACHARELADO INTERDISCIPLINAR DE HUMANAS - BI/LI\nINTEGRAL/NOTURNO"},{"$f":"MATRICULADOS!A94","v":1120242},102,3,0.1,191,403.35]
[{"$f":"MATRICULADOS!B95","v":"ABI - CIÊNCIAS SOCIAIS (13087/313087)"},{"$f":"MATRICULADOS!A95","v":5000609},0,2,0.12,67,33.5]
[{"$f":"MATRICULADOS!B96","v":"CIÊNCIAS SOCIAIS"},{"$f":"MATRICULADOS!A96","v":13087},11,2,0.1,14,25.700000000000003]
[{"$f":"MATRICULADOS!B97","v":"CIÊNCIAS SOCIAIS"},{"$f":"MATRICULADOS!A97","v":313087},20,2,0.1,9,38.5]
[{"$f":"MATRICULADOS!B98","v":"BACHARELADO CIÊNCIA DA RELIGIAO"},{"$f":"MATRICULADOS!A98","v":1165350},6,2,0.1,14,17.200000000000003]
[{"$f":"MATRICULADOS!B99","v":"LICENCIATURA CIÊNCIA DA RELIGIÃO"},{"$f":"MATRICULADOS!A99","v":1165686},1,2,0.1,12,7.7]
[{"$f":"MATRICULADOS!B100","v":"INTERDISCIPLINAR EM ARTES E DESIGN - BI/LI  - EXTINTO"},{"$f":"MATRICULADOS!A100","v":116500},98,3,0.1,0,249.90000000000003]
["TOTAIS",null,{"$f":"SUM(C9:C101)","v":2906},{"$f":"SUM(D9:D101)","v":364},11.249999999999998,4179,15288.034999999998]
[]
["Para os concluintes foi considerado o ano de 2022.2 para os cursos com calendário atrasado"]

{"sheet":"ALUNO_EQUIV_GRADUAÇÃO","index":4,"n_rows":97,"n_cols":8,"rows_kept":97,"cut":false,"hidden":false,"merged":[[46,9,46,14],[35,9,35,13],[36,9,36,13],[36,14,36,16],[37,9,37,13],[37,14,37,16],[38,9,38,13],[38,14,38,16],[40,9,40,13],[40,14,40,16],[43,9,43,14],[44,9,44,14],[45,9,45,14],[34,9,34,13],[34,14,34,16],[35,14,35,16],[39,9,39,13],[39,14,39,16],[31,9,31,13],[31,14,31,16],[32,9,32,13],[32,14,32,16],[33,9,33,13],[33,14,33,16],[0,0,0,6],[1,0,1,6],[28,9,28,13],[30,9,30,13],[30,14,30,16]]}
["COMPONENTE "]
["ALUNO EQUIVALENTE DE GRADUAÇÃO"]
["CURSO","NÚMERO DE DIPLOMADOS  (NDI)","DURAÇÃO DO CURSO  (DPC)","FATOR DE RETENÇÃO ","INGRESSANTES (NI)","PESO DO GRUPO ",null,"AGE TOTAL"]
[{"$f":"MATRICULADOS!B8","v":"ADMINISTRAÇÃO (INTEGRAL/NOTURNO)"},{"$f":"'ALUNO TEMPO INTEGRAL'!C9","v":61},{"$f":"'ALUNO TEMPO INTEGRAL'!D9","v":4},{"$f":"'ALUNO TEMPO INTEGRAL'!E9","v":0.12},{"$f":"'ALUNO TEMPO INTEGRAL'!F9","v":73},1,{"$f":"SUM(((B4*C4)*(1+D4)+((E4-B4)/4)*C4)*F4)","v":285.28000000000003},{"$f":"G97","v":31956.807500000006}]
[{"$f":"MATRICULADOS!B9","v":"ARQUITETURA E URBANISMO"},{"$f":"'ALUNO TEMPO INTEGRAL'!C10","v":46},{"$f":"'ALUNO TEMPO INTEGRAL'!D10","v":4},{"$f":"'ALUNO TEMPO INTEGRAL'!E10","v":0.12},{"$f":"'ALUNO TEMPO INTEGRAL'!F10","v":76},1.5,354.12]
[{"$f":"MATRICULADOS!B10","v":"BACHARELADO EM ARTES VISUAIS"},{"$f":"'ALUNO TEMPO INTEGRAL'!C11","v":13},{"$f":"'ALUNO TEMPO INTEGRAL'!D11","v":2},{"$f":"'ALUNO TEMPO INTEGRAL'!E11","v":0.1},{"$f":"'ALUNO TEMPO INTEGRAL'!F11","v":56},1.5,75.150000000000006]
[{"$f":"MATRICULADOS!B11","v":"BACHARELADO ENFERMAGEM"},{"$f":"'ALUNO TEMPO INTEGRAL'!C12","v":53},{"$f":"'ALUNO TEMPO INTEGRAL'!D12","v":5},{"$f":"'ALUNO TEMPO INTEGRAL'!E12","v":6.6000000000000003E-2},{"$f":"'ALUNO TEMPO INTEGRAL'!F12","v":79},1.5,472.48500000000001]
[{"$f":"MATRICULADOS!B12","v":"BACHARELADO SISTEMAS DE INFORMAÇÃO - NOTURNO"},{"$f":"'ALUNO TEMPO INTEGRAL'!C13","v":17},{"$f":"'ALUNO TEMPO INTEGRAL'!D13","v":4},{"$f":"'ALUNO TEMPO INTEGRAL'!E13","v":0.13250000000000001},{"$f":"'ALUNO TEMPO INTEGRAL'!F13","v":39},1.5,148.51500000000001]
[{"$f":"MATRICULADOS!B13","v":"CIÊNCIA DA COMPUTAÇÃO - INTEGRAL"},{"$f":"'ALUNO TEMPO INTEGRAL'!C14","v":18},{"$f":"'ALUNO TEMPO INTEGRAL'!D14","v":4},{"$f":"'ALUNO TEMPO INTEGRAL'!E14","v":0.13250000000000001},{"$f":"'ALUNO TEMPO INTEGRAL'!F14","v":36},1.5,149.31]
[{"$f":"MATRICULADOS!B14","v":"CIÊNCIA DA COMPUTAÇÃO - NOTURNO"},{"$f":"'ALUNO TEMPO INTEGRAL'!C15","v":15},{"$f":"'ALUNO TEMPO INTEGRAL'!D15","v":4},{"$f":"'ALUNO TEMPO INTEGRAL'!E15","v":0.13250000000000001},{"$f":"'ALUNO TEMPO INTEGRAL'!F15","v":39},1.5,137.92500000000001]
[{"$f":"MATRICULADOS!B15","v":"CIÊNCIAS CONTÁBEIS (INTEGRAL/NOTURNO)"},{"$f":"'ALUNO TEMPO INTEGRAL'!C16","v":52},{"$f":"'ALUNO TEMPO INTEGRAL'!D16","v":4},{"$f":"'ALUNO TEMPO INTEGRAL'!E16","v":0.12},{"$f":"'ALUNO TEMPO INTEGRAL'!F16","v":73},1,253.96000000000004]
[{"$f":"MATRICULADOS!B16","v":"CIÊNCIAS ECONÔMICAS (INTEGRAL/NOTURNO)"},{"$f":"'ALUNO TEMPO INTEGRAL'!C17","v":72},{"$f":"'ALUNO TEMPO INTEGRAL'!D17","v":4},{"$f":"'ALUNO TEMPO INTEGRAL'!E17","v":0.12},{"$f":"'ALUNO TEMPO INTEGRAL'!F17","v":104},1,354.56000000000006]
[{"$f":"MATRICULADOS!B17","v":"CINEMA E AUDIOVISUAL"},{"$f":"'ALUNO TEMPO INTEGRAL'!C18","v":56},{"$f":"'ALUNO TEMPO INTEGRAL'!D18","v":2},{"$f":"'ALUNO TEMPO INTEGRAL'!E18","v":0.1},{"$f":"'ALUNO TEMPO INTEGRAL'!F18","v":76},1.5,199.8]
[{"$f":"MATRICULADOS!B18","v":"DESIGN"},{"$f":"'ALUNO TEMPO INTEGRAL'!C19","v":49},{"$f":"'ALUNO TEMPO INTEGRAL'!D19","v":2},{"$f":"'ALUNO TEMPO INTEGRAL'!E19","v":0.1},{"$f":"'ALUNO TEMPO INTEGRAL'!F19","v":85},1.5,188.70000000000002]
[{"$f":"MATRICULADOS!B19","v":"DIREITO"},{"$f":"'ALUNO TEMPO INTEGRAL'!C20","v":100},{"$f":"'ALUNO TEMPO INTEGRAL'!D20","v":5},{"$f":"'ALUNO TEMPO INTEGRAL'!E20","v":0.12},{"$f":"'ALUNO TEMPO INTEGRAL'!F20","v":96},1,555]
[{"$f":"MATRICULADOS!B20","v":"DIREITO"},{"$f":"'ALUNO TEMPO INTEGRAL'!C21","v":69},{"$f":"'ALUNO TEMPO INTEGRAL'!D21","v":5},{"$f":"'ALUNO TEMPO INTEGRAL'!E21","v":0.12},{"$f":"'ALUNO TEMPO INTEGRAL'!F21","v":96},1,420.15000000000003]
[{"$f":"MATRICULADOS!B21","v":"ENGENHARIA AMBIENTAL E SANITÁRIA"},{"$f":"'ALUNO TEMPO INTEGRAL'!C22","v":21},{"$f":"'ALUNO TEMPO INTEGRAL'!D22","v":5},{"$f":"'ALUNO TEMPO INTEGRAL'!E22","v":8.2000000000000003E-2},{"$f":"'ALUNO TEMPO INTEGRAL'!F22","v":40},2,274.72000000000003]
[{"$f":"MATRICULADOS!B22","v":"ENGENHARIA CIVIL"},{"$f":"'ALUNO TEMPO INTEGRAL'!C23","v":77},{"$f":"'ALUNO TEMPO INTEGRAL'!D23","v":5},{"$f":"'ALUNO TEMPO INTEGRAL'!E23","v":8.2000000000000003E-2},{"$f":"'ALUNO TEMPO INTEGRAL'!F23","v":86},2,855.6400000000001]
[{"$f":"MATRICULADOS!B23","v":"ENGENHARIA COMPUTACIONAL"},{"$f":"'ALUNO TEMPO INTEGRAL'!C24","v":10},{"$f":"'ALUNO TEMPO INTEGRAL'!D24","v":5},{"$f":"'ALUNO TEMPO INTEGRAL'!E24","v":8.2000000000000003E-2},{"$f":"'ALUNO TEMPO INTEGRAL'!F24","v":23},2,140.69999999999999]
[{"$f":"MATRICULADOS!B24","v":"ENGENHARIA DE PRODUÇÃO"},{"$f":"'ALUNO TEMPO INTEGRAL'!C25","v":47},{"$f":"'ALUNO TEMPO INTEGRAL'!D25","v":5},{"$f":"'ALUNO TEMPO INTEGRAL'!E25","v":8.2000000000000003E-2},{"$f":"'ALUNO TEMPO INTEGRAL'!F25","v":66},2,556.04]
[{"$f":"MATRICULADOS!B25","v":"ENGENHARIA ELÉTRICA - EM EXTINÇÃO"},{"$f":"'ALUNO TEMPO INTEGRAL'!C26","v":0},{"$f":"'ALUNO TEMPO INTEGRAL'!D26","v":5},{"$f":"'ALUNO TEMPO INTEGRAL'!E26","v":8.2000000000000003E-2},{"$f":"'ALUNO TEMPO INTEGRAL'!F26","v":0},2,0]
[{"$f":"MATRICULADOS!B26","v":"ENGENHARIA ELÉTRICA - EM EXTINÇÃO"},{"$f":"'ALUNO TEMPO INTEGRAL'!C27","v":0},{"$f":"'ALUNO TEMPO INTEGRAL'!D27","v":5},{"$f":"'ALUNO TEMPO INTEGRAL'!E27","v":8.2000000000000003E-2},{"$f":"'ALUNO TEMPO INTEGRAL'!F27","v":0},2,0]
[{"$f":"MATRICULADOS!B27","v":"ENGENHARIA ELÉTRICA - ENERGIA"},{"$f":"'ALUNO TEMPO INTEGRAL'!C28","v":28},{"$f":"'ALUNO TEMPO INTEGRAL'!D28","v":5},{"$f":"'ALUNO TEMPO INTEGRAL'!E28","v":8.2000000000000003E-2},{"$f":"'ALUNO TEMPO INTEGRAL'!F28","v":43},2,340.46000000000004]
[{"$f":"MATRICULADOS!B28","v":"ENGENHARIA ELÉTRICA - ROBÓTICA E AUTOMAÇÃO INDUSTRIAL"},{"$f":"'ALUNO TEMPO INTEGRAL'!C29","v":30},{"$f":"'ALUNO TEMPO INTEGRAL'!D29","v":5},{"$f":"'ALUNO TEMPO INTEGRAL'!E29","v":8.2000000000000003E-2},{"$f":"'ALUNO TEMPO INTEGRAL'!F29","v":43},2,357.1]
[{"$f":"MATRICULADOS!B29","v":"ENGENHARIA ELÉTRICA - SISTEMAS DE POTÊNCIA"},{"$f":"'ALUNO TEMPO INTEGRAL'!C30","v":21},{"$f":"'ALUNO TEMPO INTEGRAL'!D30","v":5},{"$f":"'ALUNO TEMPO INTEGRAL'!E30","v":8.2000000000000003E-2},{"$f":"'ALUNO TEMPO INTEGRAL'!F30","v":38},2,269.72000000000003]
[{"$f":"MATRICULADOS!B30","v":"ENGENHARIA ELÉTRICA - SISTEMAS ELETRÔNICOS"},{"$f":"'ALUNO TEMPO INTEGRAL'!C31","v":21},{"$f":"'ALUNO TEMPO INTEGRAL'!D31","v":5},{"$f":"'ALUNO TEMPO INTEGRAL'!E31","v":8.2000000000000003E-2},{"$f":"'ALUNO TEMPO INTEGRAL'!F31","v":34},2,259.72000000000003]
[{"$f":"MATRICULADOS!B31","v":"ENGENHARIA ELÉTRICA - TELECOMUNICAÇÕES"},{"$f":"'ALUNO TEMPO INTEGRAL'!C32","v":13},{"$f":"'ALUNO TEMPO INTEGRAL'!D32","v":5},{"$f":"'ALUNO TEMPO INTEGRAL'!E32","v":8.2000000000000003E-2},{"$f":"'ALUNO TEMPO INTEGRAL'!F32","v":32},2,188.16]
[{"$f":"MATRICULADOS!B32","v":"ENGENHARIA MECÂNICA"},{"$f":"'ALUNO TEMPO INTEGRAL'!C33","v":43},{"$f":"'ALUNO TEMPO INTEGRAL'!D33","v":5},{"$f":"'ALUNO TEMPO INTEGRAL'!E33","v":8.2000000000000003E-2},{"$f":"'ALUNO TEMPO INTEGRAL'!F33","v":53},2,490.26000000000005]
[{"$f":"MATRICULADOS!B33","v":"ESTATÍSTICA"},{"$f":"'ALUNO TEMPO INTEGRAL'!C34","v":2},{"$f":"'ALUNO TEMPO INTEGRAL'!D34","v":5},{"$f":"'ALUNO TEMPO INTEGRAL'!E34","v":0.13250000000000001},{"$f":"'ALUNO TEMPO INTEGRAL'!F34","v":14},1.5,39.487500000000004]
[{"$f":"MATRICULADOS!B34","v":"FARMÁCIA"},{"$f":"'ALUNO TEMPO INTEGRAL'!C35","v":81},{"$f":"'ALUNO TEMPO INTEGRAL'!D35","v":5},{"$f":"'ALUNO TEMPO INTEGRAL'!E35","v":6.6000000000000003E-2},{"$f":"'ALUNO TEMPO INTEGRAL'!F35","v":93},2,893.46]
[{"$f":"MATRICULADOS!B35","v":"FISIOTERAPIA"},{"$f":"'ALUNO TEMPO INTEGRAL'!C36","v":62},{"$f":"'ALUNO TEMPO INTEGRAL'!D36","v":5},{"$f":"'ALUNO TEMPO INTEGRAL'!E36","v":6.6000000000000003E-2},{"$f":"'ALUNO TEMPO INTEGRAL'!F36","v":38},1.5,450.69000000000005]
[{"$f":"MATRICULADOS!B36","v":"JORNALISMO"},{"$f":"'ALUNO TEMPO INTEGRAL'!C37","v":20},{"$f":"'ALUNO TEMPO INTEGRAL'!D37","v":4},{"$f":"'ALUNO TEMPO INTEGRAL'!E37","v":0.12},{"$f":"'ALUNO TEMPO INTEGRAL'!F37","v":31},1,100.60000000000001]
[{"$f":"MATRICULADOS!B37","v":"JORNALISMO"},{"$f":"'ALUNO TEMPO INTEGRAL'!C38","v":30},{"$f":"'ALUNO TEMPO INTEGRAL'!D38","v":4},{"$f":"'ALUNO TEMPO INTEGRAL'!E38","v":0.12},{"$f":"'ALUNO TEMPO INTEGRAL'!F38","v":35},1,139.4]
[{"$f":"MATRICULADOS!B38","v":"LETRAS - LIBRAS"},{"$f":"'ALUNO TEMPO INTEGRAL'!C39","v":14},{"$f":"'ALUNO TEMPO INTEGRAL'!D39","v":4},{"$f":"'ALUNO TEMPO INTEGRAL'!E39","v":0.115},{"$f":"'ALUNO TEMPO INTEGRAL'!F39","v":25},1,73.44]
[{"$f":"MATRICULADOS!B39","v":"LICENCIATURA EM ARTES VISUAIS"},{"$f":"'ALUNO TEMPO INTEGRAL'!C40","v":8},{"$f":"'ALUNO TEMPO INTEGRAL'!D40","v":2},{"$f":"'ALUNO TEMPO INTEGRAL'!E40","v":0.1},{"$f":"'ALUNO TEMPO INTEGRAL'!F40","v":65},1.5,69.150000000000006]
[{"$f":"MATRICULADOS!B40","v":"LICENCIATURA EM FÍSICA - NOTURNO"},{"$f":"'ALUNO TEMPO INTEGRAL'!C41","v":4},{"$f":"'ALUNO TEMPO INTEGRAL'!D41","v":4},{"$f":"'ALUNO TEMPO INTEGRAL'!E41","v":0.13250000000000001},{"$f":"'ALUNO TEMPO INTEGRAL'!F41","v":12},1.5,39.18]
[{"$f":"MATRICULADOS!B41","v":"LICENCIATURA EM QUÍMICA - NOTURNO"},{"$f":"'ALUNO TEMPO INTEGRAL'!C42","v":4},{"$f":"'ALUNO TEMPO INTEGRAL'!D42","v":4},{"$f":"'ALUNO TEMPO INTEGRAL'!E42","v":0.13250000000000001},{"$f":"'ALUNO TEMPO INTEGRAL'!F42","v":18},1.5,48.180000000000007]
[{"$f":"MATRICULADOS!B42","v":"LICENCIATURA ENFERMAGEM (PÓS BACHARELADO APENAS)"},{"$f":"'ALUNO TEMPO INTEGRAL'!C43","v":2},{"$f":"'ALUNO TEMPO INTEGRAL'!D43","v":5},{"$f":"'ALUNO TEMPO INTEGRAL'!E43","v":6.6000000000000003E-2},{"$f":"'ALUNO TEMPO INTEGRAL'!F43","v":1},1.5,14.115]
[{"$f":"MATRICULADOS!B43","v":"LICENCIATURA MATEMÁTICA - NOTURNO"},{"$f":"'ALUNO TEMPO INTEGRAL'!C44","v":4},{"$f":"'ALUNO TEMPO INTEGRAL'!D44","v":4},{"$f":"'ALUNO TEMPO INTEGRAL'!E44","v":0.13250000000000001},{"$f":"'ALUNO TEMPO INTEGRAL'!F44","v":9},1.5,34.68]
[{"$f":"MATRICULADOS!B44","v":"LICENCIATURA GEOGRAFIA (CÓDIGO DE ABI ERRADO)"},{"$f":"'ALUNO TEMPO INTEGRAL'!C45","v":0},{"$f":"'ALUNO TEMPO INTEGRAL'!D45","v":4},{"$f":"'ALUNO TEMPO INTEGRAL'!E45","v":0.1},{"$f":"'ALUNO TEMPO INTEGRAL'!F45","v":41},1,41]
[{"$f":"MATRICULADOS!B45","v":"MEDICINA"},{"$f":"'ALUNO TEMPO INTEGRAL'!C46","v":222},{"$f":"'ALUNO TEMPO INTEGRAL'!D46","v":6},{"$f":"'ALUNO TEMPO INTEGRAL'!E46","v":6.5000000000000002E-2},{"$f":"'ALUNO TEMPO INTEGRAL'!F46","v":180},4.5,6100.11]
[{"$f":"MATRICULADOS!B46","v":"MEDICINA VETERINÁRIA"},{"$f":"'ALUNO TEMPO INTEGRAL'!C47","v":52},{"$f":"'ALUNO TEMPO INTEGRAL'!D47","v":5},{"$f":"'ALUNO TEMPO INTEGRAL'!E47","v":0.65},{"$f":"'ALUNO TEMPO INTEGRAL'!F47","v":98},4.5,2189.25]
[{"$f":"MATRICULADOS!B47","v":"MODA"},{"$f":"'ALUNO TEMPO INTEGRAL'!C48","v":22},{"$f":"'ALUNO TEMPO INTEGRAL'!D48","v":2},{"$f":"'ALUNO TEMPO INTEGRAL'!E48","v":0.1},{"$f":"'ALUNO TEMPO INTEGRAL'!F48","v":65},1.5,104.85000000000001]
[{"$f":"MATRICULADOS!B48","v":"MÚSICA"},{"$f":"'ALUNO TEMPO INTEGRAL'!C49","v":13},{"$f":"'ALUNO TEMPO INTEGRAL'!D49","v":4},{"$f":"'ALUNO TEMPO INTEGRAL'!E49","v":0.115},{"$f":"'ALUNO TEMPO INTEGRAL'!F49","v":3},1.5,71.97]
[{"$f":"MATRICULADOS!B49","v":"MÚSICA"},{"$f":"'ALUNO TEMPO INTEGRAL'!C50","v":13},{"$f":"'ALUNO TEMPO INTEGRAL'!D50","v":4},{"$f":"'ALUNO TEMPO INTEGRAL'!E50","v":0.115},{"$f":"'ALUNO TEMPO INTEGRAL'!F50","v":2},1.5,70.47]
[{"$f":"MATRICULADOS!B50","v":"NUTRIÇÃO"},{"$f":"'ALUNO TEMPO INTEGRAL'!C51","v":66},{"$f":"'ALUNO TEMPO INTEGRAL'!D51","v":5},{"$f":"'ALUNO TEMPO INTEGRAL'!E51","v":6.6000000000000003E-2},{"$f":"'ALUNO TEMPO INTEGRAL'!F51","v":101},2,791.06000000000006]
[{"$f":"MATRICULADOS!B51","v":"ODONTOLOGIA"},{"$f":"'ALUNO TEMPO INTEGRAL'!C52","v":90},{"$f":"'ALUNO TEMPO INTEGRAL'!D52","v":5},{"$f":"'ALUNO TEMPO INTEGRAL'!E52","v":6.5000000000000002E-2},{"$f":"'ALUNO TEMPO INTEGRAL'!F52","v":93},4.5,2173.5]
[{"$f":"MATRICULADOS!B52","v":"PEDAGOGIA (MATUTINO/NOTURNO)"},{"$f":"'ALUNO TEMPO INTEGRAL'!C53","v":49},{"$f":"'ALUNO TEMPO INTEGRAL'!D53","v":4},{"$f":"'ALUNO TEMPO INTEGRAL'!E53","v":0.1},{"$f":"'ALUNO TEMPO INTEGRAL'!F53","v":82},1,248.60000000000002]
[{"$f":"MATRICULADOS!B53","v":"PSICOLOGIA"},{"$f":"'ALUNO TEMPO INTEGRAL'!C54","v":48},{"$f":"'ALUNO TEMPO INTEGRAL'!D54","v":5},{"$f":"'ALUNO TEMPO INTEGRAL'!E54","v":0.1},{"$f":"'ALUNO TEMPO INTEGRAL'!F54","v":50},1,266.5]
[{"$f":"MATRICULADOS!B54","v":"RÁDIO, TV E INTERNET"},{"$f":"'ALUNO TEMPO INTEGRAL'!C55","v":30},{"$f":"'ALUNO TEMPO INTEGRAL'!D55","v":4},{"$f":"'ALUNO TEMPO INTEGRAL'!E55","v":0.12},{"$f":"'ALUNO TEMPO INTEGRAL'!F55","v":28},1,132.4]
[{"$f":"MATRICULADOS!B55","v":"SERVIÇO SOCIAL (MATUTINO/NOTURNO)"},{"$f":"'ALUNO TEMPO INTEGRAL'!C56","v":46},{"$f":"'ALUNO TEMPO INTEGRAL'!D56","v":4},{"$f":"'ALUNO TEMPO INTEGRAL'!E56","v":0.12},{"$f":"'ALUNO TEMPO INTEGRAL'!F56","v":65},1,225.08]
[{"$f":"MATRICULADOS!B56","v":"TURISMO (INTEGRAL E NOTURNO)"},{"$f":"'ALUNO TEMPO INTEGRAL'!C57","v":35},{"$f":"'ALUNO TEMPO INTEGRAL'!D57","v":4},{"$f":"'ALUNO TEMPO INTEGRAL'!E57","v":0.1},{"$f":"'ALUNO TEMPO INTEGRAL'!F57","v":59},1,178]
[{"$f":"MATRICULADOS!B57","v":"ADMINISTRAÇÃO GV"},{"$f":"'ALUNO TEMPO INTEGRAL'!C58","v":30},{"$f":"'ALUNO TEMPO INTEGRAL'!D58","v":4},{"$f":"'ALUNO TEMPO INTEGRAL'!E58","v":0.12},{"$f":"'ALUNO TEMPO INTEGRAL'!F58","v":31},1,135.4]
[{"$f":"MATRICULADOS!B58","v":"CIÊNCIAS CONTÁBEIS GV"},{"$f":"'ALUNO TEMPO INTEGRAL'!C59","v":21},{"$f":"'ALUNO TEMPO INTEGRAL'!D59","v":4},{"$f":"'ALUNO TEMPO INTEGRAL'!E59","v":0.12},{"$f":"'ALUNO TEMPO INTEGRAL'!F59","v":13},1,86.080000000000013]
[{"$f":"MATRICULADOS!B59","v":"CIÊNCIAS ECONÔMICAS GV"},{"$f":"'ALUNO TEMPO INTEGRAL'!C60","v":17},{"$f":"'ALUNO TEMPO INTEGRAL'!D60","v":4},{"$f":"'ALUNO TEMPO INTEGRAL'!E60","v":0.12},{"$f":"'ALUNO TEMPO INTEGRAL'!F60","v":33},1,92.160000000000011]
[{"$f":"MATRICULADOS!B60","v":"DIREITO GV"},{"$f":"'ALUNO TEMPO INTEGRAL'!C61","v":69},{"$f":"'ALUNO TEMPO INTEGRAL'!D61","v":5},{"$f":"'ALUNO TEMPO INTEGRAL'!E61","v":0.12},{"$f":"'ALUNO TEMPO INTEGRAL'!F61","v":87},1,408.90000000000003]
[{"$f":"MATRICULADOS!B61","v":"EDUCAÇÃO FÍSICA GV"},{"$f":"'ALUNO TEMPO INTEGRAL'!C62","v":17},{"$f":"'ALUNO TEMPO INTEGRAL'!D62","v":5},{"$f":"'ALUNO TEMPO INTEGRAL'!E62","v":6.6000000000000003E-2},{"$f":"'ALUNO TEMPO INTEGRAL'!F62","v":38},1.5,175.29]
[{"$f":"MATRICULADOS!B62","v":"FARMÁCIA GV"},{"$f":"'ALUNO TEMPO INTEGRAL'!C63","v":24},{"$f":"'ALUNO TEMPO INTEGRAL'!D63","v":5},{"$f":"'ALUNO TEMPO INTEGRAL'!E63","v":6.6000000000000003E-2},{"$f":"'ALUNO TEMPO INTEGRAL'!F63","v":42},2,300.84000000000003]
[{"$f":"MATRICULADOS!B63","v":"FISIOTERAPIA GV"},{"$f":"'ALUNO TEMPO INTEGRAL'!C64","v":38},{"$f":"'ALUNO TEMPO INTEGRAL'!D64","v":5},{"$f":"'ALUNO TEMPO INTEGRAL'!E64","v":6.6000000000000003E-2},{"$f":"'ALUNO TEMPO INTEGRAL'!F64","v":25},1.5,279.43500000000006]
[{"$f":"MATRICULADOS!B64","v":"MEDICINA GV"},{"$f":"'ALUNO TEMPO INTEGRAL'!C65","v":128},{"$f":"'ALUNO TEMPO INTEGRAL'!D65","v":6},{"$f":"'ALUNO TEMPO INTEGRAL'!E65","v":6.5000000000000002E-2},{"$f":"'ALUNO TEMPO INTEGRAL'!F65","v":100},4.5,3491.64]
[{"$f":"MATRICULADOS!B65","v":"NUTRIÇÃO GV"},{"$f":"'ALUNO TEMPO INTEGRAL'!C66","v":27},{"$f":"'ALUNO TEMPO INTEGRAL'!D66","v":5},{"$f":"'ALUNO TEMPO INTEGRAL'!E66","v":0.66},{"$f":"'ALUNO TEMPO INTEGRAL'!F66","v":53},2,513.20000000000005]
[{"$f":"MATRICULADOS!B66","v":"ODONTOLOGIA GV"},{"$f":"'ALUNO TEMPO INTEGRAL'!C67","v":27},{"$f":"'ALUNO TEMPO INTEGRAL'!D67","v":5},{"$f":"'ALUNO TEMPO INTEGRAL'!E67","v":0.65},{"$f":"'ALUNO TEMPO INTEGRAL'!F67","v":0},4.5,850.5]
[{"$f":"MATRICULADOS!B67","v":"ABI - CIÊNCIAS BIOLÓGICAS"},{"$f":"'ALUNO TEMPO INTEGRAL'!C68","v":0},{"$f":"'ALUNO TEMPO INTEGRAL'!D68","v":2},{"$f":"'ALUNO TEMPO INTEGRAL'!E68","v":0.125},{"$f":"'ALUNO TEMPO INTEGRAL'!F68","v":55},2,55]
[{"$f":"MATRICULADOS!B68","v":"CIÊNCIAS BIOLÓGICAS "},{"$f":"'ALUNO TEMPO INTEGRAL'!C69","v":22},{"$f":"'ALUNO TEMPO INTEGRAL'!D69","v":4},{"$f":"'ALUNO TEMPO INTEGRAL'!E69","v":0.125},{"$f":"'ALUNO TEMPO INTEGRAL'!F69","v":16},2,186]
[{"$f":"MATRICULADOS!B69","v":"CIÊNCIAS BIOLÓGICAS "},{"$f":"'ALUNO TEMPO INTEGRAL'!C70","v":34},{"$f":"'ALUNO TEMPO INTEGRAL'!D70","v":4},{"$f":"'ALUNO TEMPO INTEGRAL'!E70","v":0.125},{"$f":"'ALUNO TEMPO INTEGRAL'!F70","v":15},2,268]
[{"$f":"MATRICULADOS!B70","v":"ABI - EDUCAÇÃO FÍSICA"},{"$f":"'ALUNO TEMPO INTEGRAL'!C71","v":0},{"$f":"'ALUNO TEMPO INTEGRAL'!D71","v":2},{"$f":"'ALUNO TEMPO INTEGRAL'!E71","v":6.6000000000000003E-2},{"$f":"'ALUNO TEMPO INTEGRAL'!F71","v":83},1.5,62.25]
[{"$f":"MATRICULADOS!B71","v":"EDUCAÇÃO FÍSICA"},{"$f":"'ALUNO TEMPO INTEGRAL'!C72","v":10},{"$f":"'ALUNO TEMPO INTEGRAL'!D72","v":5},{"$f":"'ALUNO TEMPO INTEGRAL'!E72","v":6.6000000000000003E-2},{"$f":"'ALUNO TEMPO INTEGRAL'!F72","v":48},1.5,151.20000000000002]
[{"$f":"MATRICULADOS!B72","v":"EDUCAÇÃO FÍSICA"},{"$f":"'ALUNO TEMPO INTEGRAL'!C73","v":59},{"$f":"'ALUNO TEMPO INTEGRAL'!D73","v":5},{"$f":"'ALUNO TEMPO INTEGRAL'!E73","v":6.6000000000000003E-2},{"$f":"'ALUNO TEMPO INTEGRAL'!F73","v":2},1.5,364.83000000000004]
[{"$f":"MATRICULADOS!B73","v":"ABI - FILOSOFIA"},{"$f":"'ALUNO TEMPO INTEGRAL'!C74","v":0},{"$f":"'ALUNO TEMPO INTEGRAL'!D74","v":2},{"$f":"'ALUNO TEMPO INTEGRAL'!E74","v":0.1},{"$f":"'ALUNO TEMPO INTEGRAL'!F74","v":28},1,14]
[{"$f":"MATRICULADOS!B74","v":"FILOSOFIA"},{"$f":"'ALUNO TEMPO INTEGRAL'!C75","v":17},{"$f":"'ALUNO TEMPO INTEGRAL'!D75","v":2},{"$f":"'ALUNO TEMPO INTEGRAL'!E75","v":0.1},{"$f":"'ALUNO TEMPO INTEGRAL'!F75","v":16},1,36.900000000000006]
[{"$f":"MATRICULADOS!B75","v":"FILOSOFIA"},{"$f":"'ALUNO TEMPO INTEGRAL'!C76","v":7},{"$f":"'ALUNO TEMPO INTEGRAL'!D76","v":2},{"$f":"'ALUNO TEMPO INTEGRAL'!E76","v":0.1},{"$f":"'ALUNO TEMPO INTEGRAL'!F76","v":10},1,16.900000000000002]
[{"$f":"MATRICULADOS!B76","v":"ABI - FíSICA"},{"$f":"'ALUNO TEMPO INTEGRAL'!C77","v":0},{"$f":"'ALUNO TEMPO INTEGRAL'!D77","v":2},{"$f":"'ALUNO TEMPO INTEGRAL'!E77","v":0.13250000000000001},{"$f":"'ALUNO TEMPO INTEGRAL'!F77","v":18},1.5,13.5]
[{"$f":"MATRICULADOS!B77","v":"FÍSICA"},{"$f":"'ALUNO TEMPO INTEGRAL'!C78","v":3},{"$f":"'ALUNO TEMPO INTEGRAL'!D78","v":4},{"$f":"'ALUNO TEMPO INTEGRAL'!E78","v":0.13250000000000001},{"$f":"'ALUNO TEMPO INTEGRAL'!F78","v":1},1.5,17.384999999999998]
[{"$f":"MATRICULADOS!B78","v":"FÍSICA"},{"$f":"'ALUNO TEMPO INTEGRAL'!C79","v":10},{"$f":"'ALUNO TEMPO INTEGRAL'!D79","v":4},{"$f":"'ALUNO TEMPO INTEGRAL'!E79","v":0.13250000000000001},{"$f":"'ALUNO TEMPO INTEGRAL'!F79","v":2},1.5,55.95]
[{"$f":"MATRICULADOS!B79","v":"GEOGRAFIA"},{"$f":"'ALUNO TEMPO INTEGRAL'!C80","v":19},{"$f":"'ALUNO TEMPO INTEGRAL'!D80","v":4},{"$f":"'ALUNO TEMPO INTEGRAL'!E80","v":0.1},{"$f":"'ALUNO TEMPO INTEGRAL'!F80","v":9},1,73.600000000000009]
[{"$f":"MATRICULADOS!B80","v":"GEOGRAFIA"},{"$f":"'ALUNO TEMPO INTEGRAL'!C81","v":24},{"$f":"'ALUNO TEMPO INTEGRAL'!D81","v":4},{"$f":"'ALUNO TEMPO INTEGRAL'!E81","v":0.1},{"$f":"'ALUNO TEMPO INTEGRAL'!F81","v":42},1,123.60000000000001]
[{"$f":"MATRICULADOS!B81","v":"ABI - HISTÓRIA (INTEGRAL/NOTURNO)"},{"$f":"'ALUNO TEMPO INTEGRAL'!C82","v":0},{"$f":"'ALUNO TEMPO INTEGRAL'!D82","v":2},{"$f":"'ALUNO TEMPO INTEGRAL'!E82","v":0.1},{"$f":"'ALUNO TEMPO INTEGRAL'!F82","v":69},1,34.5]
[{"$f":"MATRICULADOS!B82","v":"HISTÓRIA"},{"$f":"'ALUNO TEMPO INTEGRAL'!C83","v":50},{"$f":"'ALUNO TEMPO INTEGRAL'!D83","v":4},{"$f":"'ALUNO TEMPO INTEGRAL'!E83","v":0.1},{"$f":"'ALUNO TEMPO INTEGRAL'!F83","v":22},1,192.00000000000003]
[{"$f":"MATRICULADOS!B83","v":"HISTÓRIA"},{"$f":"'ALUNO TEMPO INTEGRAL'!C84","v":17},{"$f":"'ALUNO TEMPO INTEGRAL'!D84","v":4},{"$f":"'ALUNO TEMPO INTEGRAL'!E84","v":0.1},{"$f":"'ALUNO TEMPO INTEGRAL'!F84","v":36},1,93.800000000000011]
[{"$f":"MATRICULADOS!B84","v":"ABI - LETRAS (INTEGRAL/NOTURNO). OBS. NOTURNO SÓ LICENCIATURA"},{"$f":"'ALUNO TEMPO INTEGRAL'!C85","v":0},{"$f":"'ALUNO TEMPO INTEGRAL'!D85","v":2},{"$f":"'ALUNO TEMPO INTEGRAL'!E85","v":0.115},{"$f":"'ALUNO TEMPO INTEGRAL'!F85","v":41},1,20.5]
[{"$f":"MATRICULADOS!B85","v":"LETRAS"},{"$f":"'ALUNO TEMPO INTEGRAL'!C86","v":39},{"$f":"'ALUNO TEMPO INTEGRAL'!D86","v":4},{"$f":"'ALUNO TEMPO INTEGRAL'!E86","v":0.115},{"$f":"'ALUNO TEMPO INTEGRAL'!F86","v":59},1,193.94]
[{"$f":"MATRICULADOS!B86","v":"LETRAS"},{"$f":"'ALUNO TEMPO INTEGRAL'!C87","v":13},{"$f":"'ALUNO TEMPO INTEGRAL'!D87","v":4},{"$f":"'ALUNO TEMPO INTEGRAL'!E87","v":0.115},{"$f":"'ALUNO TEMPO INTEGRAL'!F87","v":10},1,54.98]
[{"$f":"MATRICULADOS!B87","v":"ABI - MATEMÁTICA"},{"$f":"'ALUNO TEMPO INTEGRAL'!C88","v":0},{"$f":"'ALUNO TEMPO INTEGRAL'!D88","v":2},{"$f":"'ALUNO TEMPO INTEGRAL'!E88","v":0.13250000000000001},{"$f":"'ALUNO TEMPO INTEGRAL'!F88","v":13},1.5,9.75]
[{"$f":"MATRICULADOS!B88","v":"MATEMÁTICA"},{"$f":"'ALUNO TEMPO INTEGRAL'!C89","v":11},{"$f":"'ALUNO TEMPO INTEGRAL'!D89","v":4},{"$f":"'ALUNO TEMPO INTEGRAL'!E89","v":0.13250000000000001},{"$f":"'ALUNO TEMPO INTEGRAL'!F89","v":2},1.5,61.245000000000005]
[{"$f":"MATRICULADOS!B89","v":"MATEMÁTICA"},{"$f":"'ALUNO TEMPO INTEGRAL'!C90","v":9},{"$f":"'ALUNO TEMPO INTEGRAL'!D90","v":4},{"$f":"'ALUNO TEMPO INTEGRAL'!E90","v":0.13250000000000001},{"$f":"'ALUNO TEMPO INTEGRAL'!F90","v":4},1.5,53.655000000000001]
[{"$f":"MATRICULADOS!B90","v":"ABI - QUíMICA"},{"$f":"'ALUNO TEMPO INTEGRAL'!C91","v":0},{"$f":"'ALUNO TEMPO INTEGRAL'!D91","v":2},{"$f":"'ALUNO TEMPO INTEGRAL'!E91","v":0.13250000000000001},{"$f":"'ALUNO TEMPO INTEGRAL'!F91","v":42},1.5,31.5]
[{"$f":"MATRICULADOS!B91","v":"QUÍMICA"},{"$f":"'ALUNO TEMPO INTEGRAL'!C92","v":5},{"$f":"'ALUNO TEMPO INTEGRAL'!D92","v":4},{"$f":"'ALUNO TEMPO INTEGRAL'!E92","v":0.13250000000000001},{"$f":"'ALUNO TEMPO INTEGRAL'!F92","v":5},1.5,33.975000000000001]
[{"$f":"MATRICULADOS!B92","v":"QUÍMICA"},{"$f":"'ALUNO TEMPO INTEGRAL'!C93","v":9},{"$f":"'ALUNO TEMPO INTEGRAL'!D93","v":4},{"$f":"'ALUNO TEMPO INTEGRAL'!E93","v":0.13250000000000001},{"$f":"'ALUNO TEMPO INTEGRAL'!F93","v":0},1.5,47.655000000000001]
[{"$f":"MATRICULADOS!B93","v":"CIÊNCIAS EXATAS - BI/LI"},{"$f":"'ALUNO TEMPO INTEGRAL'!C94","v":63},{"$f":"'ALUNO TEMPO INTEGRAL'!D94","v":3},{"$f":"'ALUNO TEMPO INTEGRAL'!E94","v":0.1},{"$f":"'ALUNO TEMPO INTEGRAL'!F94","v":208},2,633.29999999999995]
[{"$f":"MATRICULADOS!B94","v":"BACHARELADO INTERDISCIPLINAR DE HUMANAS - BI/LI\nINTEGRAL/NOTURNO"},{"$f":"'ALUNO TEMPO INTEGRAL'!C95","v":102},{"$f":"'ALUNO TEMPO INTEGRAL'!D95","v":3},{"$f":"'ALUNO TEMPO INTEGRAL'!E95","v":0.1},{"$f":"'ALUNO TEMPO INTEGRAL'!F95","v":191},1,403.35]
[{"$f":"MATRICULADOS!B95","v":"ABI - CIÊNCIAS SOCIAIS (13087/313087)"},{"$f":"'ALUNO TEMPO INTEGRAL'!C96","v":0},{"$f":"'ALUNO TEMPO INTEGRAL'!D96","v":2},{"$f":"'ALUNO TEMPO INTEGRAL'!E96","v":0.12},{"$f":"'ALUNO TEMPO INTEGRAL'!F96","v":67},1,33.5]
[{"$f":"MATRICULADOS!B96","v":"CIÊNCIAS SOCIAIS"},{"$f":"'ALUNO TEMPO INTEGRAL'!C97","v":11},{"$f":"'ALUNO TEMPO INTEGRAL'!D97","v":2},{"$f":"'ALUNO TEMPO INTEGRAL'!E97","v":0.1},{"$f":"'ALUNO TEMPO INTEGRAL'!F97","v":14},1,25.700000000000003]
[{"$f":"MATRICULADOS!B97","v":"CIÊNCIAS SOCIAIS"},{"$f":"'ALUNO TEMPO INTEGRAL'!C98","v":20},{"$f":"'ALUNO TEMPO INTEGRAL'!D98","v":2},{"$f":"'ALUNO TEMPO INTEGRAL'!E98","v":0.1},{"$f":"'ALUNO TEMPO INTEGRAL'!F98","v":9},1,38.5]
[{"$f":"MATRICULADOS!B98","v":"BACHARELADO CIÊNCIA DA RELIGIAO"},{"$f":"'ALUNO TEMPO INTEGRAL'!C99","v":6},{"$f":"'ALUNO TEMPO INTEGRAL'!D99","v":2},{"$f":"'ALUNO TEMPO INTEGRAL'!E99","v":0.1},{"$f":"'ALUNO TEMPO INTEGRAL'!F99","v":14},1,17.200000000000003]
[{"$f":"MATRICULADOS!B99","v":"LICENCIATURA CIÊNCIA DA RELIGIÃO"},{"$f":"'ALUNO TEMPO INTEGRAL'!C100","v":1},{"$f":"'ALUNO TEMPO INTEGRAL'!D100","v":2},{"$f":"'ALUNO TEMPO INTEGRAL'!E100","v":0.1},{"$f":"'ALUNO TEMPO INTEGRAL'!F100","v":12},1,7.7]
[{"$f":"MATRICULADOS!B100","v":"INTERDISCIPLINAR EM ARTES E DESIGN - BI/LI  - EXTINTO"},{"$f":"'ALUNO TEMPO INTEGRAL'!C101","v":98},{"$f":"'ALUNO TEMPO INTEGRAL'!D101","v":3},{"$f":"'ALUNO TEMPO INTEGRAL'!E101","v":0.1},{"$f":"'ALUNO TEMPO INTEGRAL'!F101","v":0},1.5,374.85]
[null,{"$f":"SUM(B4:B96)","v":2906},364,11.249999999999998,{"$f":"'ALUNO TEMPO INTEGRAL'!F102","v":4179},{"$f":"SUM(F4:F96)","v":147},31956.807500000006]

{"sheet":"CONCEITO CAPES","index":5,"n_rows":44,"n_cols":2,"rows_kept":44,"cut":false,"hidden":false,"merged":[]}
["CURSO","MÉDIA DO PROGRAMA"]
["ADMINISTRAÇÃO (32005016070P4)",3]
["AMBIENTE CONSTRUÍDO (32005016029P4)",4]
["ARTES, CULTURA E LINGUAGENS (32005016038P3)",4]
["BIODIVERSIDADE E CONSERVAÇÃO DA NATUREZA (32005016012P4)",5]
["CIÊNCIA DA COMPUTAÇÃO (32005016034P8)",4]
["CIÊNCIA DA RELIGIÃO (32005016004P1)",5]
["CIÊNCIAS BIOLÓGICAS (32005016015P3)",4]
["CIÊNCIAS DA REABILITAÇÃO E DESEMPENHO FÍSICO-FUNCIONAL (32005016071P0)",3]
["CIÊNCIAS FARMACÊUTICAS (32005016032P5)",4]
["CIÊNCIAS SOCIAIS (32005016011P8)",4]
["COMUNICAÇÃO (32005016019P9)",5]
["DIREITO E INOVAÇÃO (32005016036P0)",4]
["ECONOMIA (32005016016P0)",5]
["EDUCAÇÃO (32005016007P0)",4]
["ENFERMAGEM (32005016033P1)",4]
["ENGENHARIA CIVIL (32005016106P9)",4]
["ENGENHARIA ELÉTRICA (32005016005P8)",5]
["FILOSOFIA (32005016107P5)",3]
["FÍSICA (32005016008P7)",5]
["GEOGRAFIA (32005016035P4)",5]
["HISTÓRIA (32005016010P1)",6]
["LETRAS: ESTUDOS LITERÁRIOS (32005016020P7)",5]
["LINGÜÍSTICA (32005016022P0)",6]
["MATEMÁTICA (32005016030P2)",4]
["MODELAGEM COMPUTACIONAL (32005016017P6)",5]
["ODONTOLOGIA (32005016018P2)",4]
["PSICOLOGIA (32005016025P9)",5]
["QUÍMICA (32005016009P3)",5]
["SAÚDE (32005016014P7)",6]
["SAÚDE COLETIVA (32005016021P3)",4]
["SERVIÇO SOCIAL (32005016013P0)",5]
["PROGRAMA EM EDUCAÇÃO FÍSICA (Programa em Rede) parceria UFV",5]
["PROGRAMA EM MULTICÊNTRICO EM BIOQUIMICA E BIOLOGIA MOLECULAR (Programa em Rede) GV",5]
["PROGRAMA EM MULTICÊNTRICO EM QUÍMICA DE MINAS GERAIS",4]
["CIÊNCIAS APLICADAS À SAÚDE (31142001001P0) (GOVERNADOR VALADARES)",3]
["CONCEITO CAPES",{"$f":"AVERAGE(B2:B36)","v":4.4571428571428573}]
[]
["FONTE: PLATAFORMA SUCUPIRA"]
[]
[]
["M - Mestrado Acadêmico"]
["D - Doutorado"]
["F - Mestrado Profissional"]

{"sheet":"PROFESSOR_FUNCIONÁRIO-EQUIV ","index":6,"n_rows":93,"n_cols":9,"rows_kept":93,"cut":false,"hidden":false,"merged":[[12,1,12,6],[12,7,13,8],[0,0,0,4],[1,0,1,4],[2,0,2,4],[10,0,10,8],[11,0,11,8],[26,2,32,2],[26,3,27,3],[26,6,33,6],[28,3,29,3],[30,3,31,3]]}
["COMPONENTE"]
["PROFESSOR EQUIVALENTE"]
["REGIME DE TRABALHO"]
[null,"20 HORAS","40 HORAS + DE","PROFESSORES","EQUIVALENTE"]
["EM EXERCÍCIO EFETIVO ",116,{"$f":"70+1370","v":1440},{"$f":"SUM(B5:C5)","v":1556},{"$f":"SUM(B5*0.5+C5*1)","v":1498}]
["SUBSTITUTOS E VISITANTES",11,{"$f":"113+1","v":114},125,119.5]
["PROFESSORES AFASTADOS",2,68,70,69]
["TOTAL PROFESSORES",{"$f":"SUM(B5:B6)-B7","v":125},1486,1611,1548.5]
[]
[]
["COMPONENTE PARCIALMENTE AJUSTADO"]
["FUNCIONÁRIO EQUIVALENTE "]
[" ","TOTAL DE FUNCIONÁRIOS",null,null,null,null,null,"FUNC. EQUIVALENTE"]
["REGIME DE TRABALHO","12h","20 h","24 h","30 h","40 h","44h"]
["PROFESSORES ENSINO MÉDIO",null,null,null,null,{"$f":"98+12","v":110},null,{"$f":"SUM(B15:G15)","v":110},{"$f":"SUM(B15*0.3+C15*0.5+D15*0.6+E15*0.75+F15+G15*1.1)","v":110}]
["QUADRO PERMANENTE_UFJF",null,6,{"$f":"3+17","v":20},19,1229,null,1274,1258.25]
["QUADRO PERMANENTE_HU",null,1,6,6,180,null,193,188.6]
["CONTRATADOS UFJF",null,2,null,16,{"$f":"46+234","v":280},793,1091,1165.3000000000002]
["FUNCIONÁRIOS CEDIDOS/ AFASTADOS",null,1,3,3,{"$f":"33+12","v":45},null,52,49.55]
["FUNCIONÁRIO-EQUIVALENTE_HU",{"$f":"SUM(B15:B18)-B19","v":0},8,23,38,1754,793,2616,2672.6]
["FUNCIONÁRIO-EQUIVALENTE_ S_H.U.",{"$f":"B15+B16+B18-B19","v":0},7,17,32,1574,793,2423,2484]
["ÍNDICES",{"$f":"12/40","v":0.3},{"$f":"20/40","v":0.5},{"$f":"24/40","v":0.6},{"$f":"30/40","v":0.75},{"$f":"40/40","v":1},{"$f":"44/40","v":1.1000000000000001}]
[]
["12X36 Considera-se regime de 40h"]
[]
[]
[]
[]
[]
[]
[]
[]
[]
[]
[]
[]
[]
[]
[]
[]
[]
[]
[]
[]
[]
[]
[]
[]
[]
[]
[]
[]
[]
[]
[]
[]
[]
[]
[]
[]
[]
[]
[]
[]
[]
[]
[]
[]
[]
[]
[]
[]
[]
[]
[]
[]
[]
[]
[]
[]
[]
[]
[]
[]
[]
[]
[]
[]
[]
[]
[]
[]
[null,{"$f":"SUM(B4:B92)","v":254.3},3133.5]

{"sheet":"QUALIFICAÇÃO DOCENTE","index":7,"n_rows":27,"n_cols":3,"rows_kept":27,"cut":false,"hidden":false,"merged":[[0,0,0,2],[7,0,7,1],[10,0,10,1],[11,0,12,1]]}
["QUALIFICAÇÃO DO CORPO DOCENTE - SOMENTE DEDICAÇÃO EXCLUSIVA"]
["TITULAÇÃO","PROFESSORES","QUALIFICAÇÃO"]
["DOUTORADO",1297,{"$f":"SUM(B3*B24)","v":6485}]
["MESTRADO",65,195]
["ESPECIALIZAÇÃO",7,14]
["GRADUAÇÃO",1,1]
["TOTAL PROFESSORES",{"$f":"SUM(B3:B6)","v":1370},6695]
["IQCD",null,{"$f":"C7/B7","v":4.8868613138686134}]
[]
[]
["FÓRMULA PARA CÁLCULO DA QUALIFICAÇÃO DO CORPO DOCENTE"]
["5*DOUTORES+3*MESTRES+2*ESPECIALISTAS+GRADUADOS / DOUTORES+MESTRES+ESPECIALISTAS+GRADUADOS"]
[]
[]
[]
[]
[]
["Para qualificar o corpo docente, é aplicada, ao número de professores (professores em"]
["exercício efetivo + substitutos + visitantes - professores afastados para capacitação ou cedidos para"]
["outros órgãos e/ou entidades da administração pública em 31/12 do exercício), a seguinte"]
["ponderação, sem considerar o regime de trabalho (20 h ou 40 h semanais):"]
[]
["QUALIFICAÇÃO","PESO"]
["Docentes doutores (D)",5]
["Docentes mestres (M)",3]
["Docentes com especialização (E)",2]
["Docentes graduados (G)",1]

{"sheet":"TAXA DE SUCESSO NA GRADUAÇÃO","index":8,"n_rows":136,"n_cols":13,"rows_kept":136,"cut":false,"hidden":false,"merged":[[0,0,0,5],[4,8,4,12],[5,8,5,12],[21,9,21,13]]}
["INDICADOR - TAXA DE SUCESSO NA GRADUAÇÃO",null,null,null,null,null,null,null,"Ano de elaboração:",2024]
["CURSO",null,"DURAÇÃO DO CURSO","ANO DE INGRESSO","CONCLUINTES","INGRESSANTES","TSG",null,"Ano de referência:",{"$f":"J1-1","v":2023}]
[{"$f":"MATRICULADOS!B8","v":"ADMINISTRAÇÃO (INTEGRAL/NOTURNO)"},{"$f":"MATRICULADOS!A8","v":22451},{"$f":"'ALUNO TEMPO INTEGRAL'!D9","v":4},{"$f":"$J$1-C3","v":2020},{"$f":"'ALUNO TEMPO INTEGRAL'!C9","v":61},77,{"$f":"E3/F3","v":0.79220779220779225}]
[{"$f":"MATRICULADOS!B9","v":"ARQUITETURA E URBANISMO"},{"$f":"MATRICULADOS!A9","v":13114},{"$f":"'ALUNO TEMPO INTEGRAL'!D10","v":4},2020,{"$f":"'ALUNO TEMPO INTEGRAL'!C10","v":46},76,0.60526315789473684]
[{"$f":"MATRICULADOS!B10","v":"BACHARELADO EM ARTES VISUAIS"},{"$f":"MATRICULADOS!A10","v":1153948},{"$f":"'ALUNO TEMPO INTEGRAL'!D11","v":2},2022,{"$f":"'ALUNO TEMPO INTEGRAL'!C11","v":13},65,0.2,null,"INDICADOR "]
[{"$f":"MATRICULADOS!B11","v":"BACHARELADO ENFERMAGEM"},{"$f":"MATRICULADOS!A11","v":38994},{"$f":"'ALUNO TEMPO INTEGRAL'!D12","v":5},2019,{"$f":"'ALUNO TEMPO INTEGRAL'!C12","v":53},84,0.63095238095238093,null,"TAXA DE SUCESSO NA GRADUAÇÃO"]
[{"$f":"MATRICULADOS!B12","v":"BACHARELADO SISTEMAS DE INFORMAÇÃO - NOTURNO"},{"$f":"MATRICULADOS!A12","v":1128364},{"$f":"'ALUNO TEMPO INTEGRAL'!D13","v":4},2020,{"$f":"'ALUNO TEMPO INTEGRAL'!C13","v":17},35,0.48571428571428571,null,"NÚMERO DE DIPLOMADOS  (NDI)",null,null,null,{"$f":"E96","v":2906}]
[{"$f":"MATRICULADOS!B13","v":"CIÊNCIA DA COMPUTAÇÃO - INTEGRAL"},{"$f":"MATRICULADOS!A13","v":65361},{"$f":"'ALUNO TEMPO INTEGRAL'!D14","v":4},2020,{"$f":"'ALUNO TEMPO INTEGRAL'!C14","v":18},28,0.6428571428571429,null,"INGRESSANTES (NI)",null,null,null,{"$f":"F96","v":5109}]
[{"$f":"MATRICULADOS!B14","v":"CIÊNCIA DA COMPUTAÇÃO - NOTURNO"},{"$f":"MATRICULADOS!A14","v":18518},{"$f":"'ALUNO TEMPO INTEGRAL'!D15","v":4},2020,{"$f":"'ALUNO TEMPO INTEGRAL'!C15","v":15},37,0.40540540540540543,null,null,null,null,"TSG",{"$f":"M7/M8","v":0.56880015658641614}]
[{"$f":"MATRICULADOS!B15","v":"CIÊNCIAS CONTÁBEIS (INTEGRAL/NOTURNO)"},{"$f":"MATRICULADOS!A15","v":1132074},{"$f":"'ALUNO TEMPO INTEGRAL'!D16","v":4},2020,{"$f":"'ALUNO TEMPO INTEGRAL'!C16","v":52},107,0.48598130841121495]
[{"$f":"MATRICULADOS!B16","v":"CIÊNCIAS ECONÔMICAS (INTEGRAL/NOTURNO)"},{"$f":"MATRICULADOS!A16","v":13090},{"$f":"'ALUNO TEMPO INTEGRAL'!D17","v":4},2020,{"$f":"'ALUNO TEMPO INTEGRAL'!C17","v":72},110,0.65454545454545454]
[{"$f":"MATRICULADOS!B17","v":"CINEMA E AUDIOVISUAL"},{"$f":"MATRICULADOS!A17","v":1153947},{"$f":"'ALUNO TEMPO INTEGRAL'!D18","v":2},2022,{"$f":"'ALUNO TEMPO INTEGRAL'!C18","v":56},82,0.68292682926829273]
[{"$f":"MATRICULADOS!B18","v":"DESIGN"},{"$f":"MATRICULADOS!A18","v":1153949},{"$f":"'ALUNO TEMPO INTEGRAL'!D19","v":2},2022,{"$f":"'ALUNO TEMPO INTEGRAL'!C19","v":49},73,0.67123287671232879]
[{"$f":"MATRICULADOS!B19","v":"DIREITO"},{"$f":"MATRICULADOS!A19","v":13089},{"$f":"'ALUNO TEMPO INTEGRAL'!D20","v":5},2019,{"$f":"'ALUNO TEMPO INTEGRAL'!C20","v":100},101,0.99009900990099009]
[{"$f":"MATRICULADOS!B20","v":"DIREITO"},{"$f":"MATRICULADOS!A20","v":21860},{"$f":"'ALUNO TEMPO INTEGRAL'!D21","v":5},2019,{"$f":"'ALUNO TEMPO INTEGRAL'!C21","v":69},104,0.66346153846153844]
[{"$f":"MATRICULADOS!B21","v":"ENGENHARIA AMBIENTAL E SANITÁRIA"},{"$f":"MATRICULADOS!A21","v":116496},{"$f":"'ALUNO TEMPO INTEGRAL'!D22","v":5},2019,{"$f":"'ALUNO TEMPO INTEGRAL'!C22","v":21},48,0.4375]
[{"$f":"MATRICULADOS!B22","v":"ENGENHARIA CIVIL"},{"$f":"MATRICULADOS!A22","v":13094},{"$f":"'ALUNO TEMPO INTEGRAL'!D23","v":5},2019,{"$f":"'ALUNO TEMPO INTEGRAL'!C23","v":77},101,0.76237623762376239]
[{"$f":"MATRICULADOS!B23","v":"ENGENHARIA COMPUTACIONAL"},{"$f":"MATRICULADOS!A23","v":1120244},{"$f":"'ALUNO TEMPO INTEGRAL'!D24","v":5},2019,{"$f":"'ALUNO TEMPO INTEGRAL'!C24","v":10},33,0.30303030303030304]
[{"$f":"MATRICULADOS!B24","v":"ENGENHARIA DE PRODUÇÃO"},{"$f":"MATRICULADOS!A24","v":38594},{"$f":"'ALUNO TEMPO INTEGRAL'!D25","v":5},2019,{"$f":"'ALUNO TEMPO INTEGRAL'!C25","v":47},63,0.74603174603174605]
[{"$f":"MATRICULADOS!B25","v":"ENGENHARIA ELÉTRICA - EM EXTINÇÃO"},{"$f":"MATRICULADOS!A25","v":13095},{"$f":"'ALUNO TEMPO INTEGRAL'!D26","v":5},2019,{"$f":"'ALUNO TEMPO INTEGRAL'!C26","v":0},0,0]
[{"$f":"MATRICULADOS!B26","v":"ENGENHARIA ELÉTRICA - EM EXTINÇÃO"},{"$f":"MATRICULADOS!A26","v":49788},{"$f":"'ALUNO TEMPO INTEGRAL'!D27","v":5},2019,{"$f":"'ALUNO TEMPO INTEGRAL'!C27","v":0},0,0]
[{"$f":"MATRICULADOS!B27","v":"ENGENHARIA ELÉTRICA - ENERGIA"},{"$f":"MATRICULADOS!A27","v":1109475},{"$f":"'ALUNO TEMPO INTEGRAL'!D28","v":5},2019,{"$f":"'ALUNO TEMPO INTEGRAL'!C28","v":28},52,{"$f":"E22/F22","v":0.53846153846153844}]
[{"$f":"MATRICULADOS!B28","v":"ENGENHARIA ELÉTRICA - ROBÓTICA E AUTOMAÇÃO INDUSTRIAL"},{"$f":"MATRICULADOS!A28","v":1109485},{"$f":"'ALUNO TEMPO INTEGRAL'!D29","v":5},2019,{"$f":"'ALUNO TEMPO INTEGRAL'!C29","v":30},47,0.63829787234042556]
[{"$f":"MATRICULADOS!B29","v":"ENGENHARIA ELÉTRICA - SISTEMAS DE POTÊNCIA"},{"$f":"MATRICULADOS!A29","v":1109486},{"$f":"'ALUNO TEMPO INTEGRAL'!D30","v":5},2019,{"$f":"'ALUNO TEMPO INTEGRAL'!C30","v":21},63,0.33333333333333331]
[{"$f":"MATRICULADOS!B30","v":"ENGENHARIA ELÉTRICA - SISTEMAS ELETRÔNICOS"},{"$f":"MATRICULADOS!A30","v":1109487},{"$f":"'ALUNO TEMPO INTEGRAL'!D31","v":5},2019,{"$f":"'ALUNO TEMPO INTEGRAL'!C31","v":21},42,0.5]
[{"$f":"MATRICULADOS!B31","v":"ENGENHARIA ELÉTRICA - TELECOMUNICAÇÕES"},{"$f":"MATRICULADOS!A31","v":1109488},{"$f":"'ALUNO TEMPO INTEGRAL'!D32","v":5},2019,{"$f":"'ALUNO TEMPO INTEGRAL'!C32","v":13},46,0.28260869565217389]
[{"$f":"MATRICULADOS!B32","v":"ENGENHARIA MECÂNICA"},{"$f":"MATRICULADOS!A32","v":1109489},{"$f":"'ALUNO TEMPO INTEGRAL'!D33","v":5},2019,{"$f":"'ALUNO TEMPO INTEGRAL'!C33","v":43},68,0.63235294117647056]
[{"$f":"MATRICULADOS!B33","v":"ESTATÍSTICA"},{"$f":"MATRICULADOS!A33","v":113531},{"$f":"'ALUNO TEMPO INTEGRAL'!D34","v":5},2019,{"$f":"'ALUNO TEMPO INTEGRAL'!C34","v":2},27,7.407407407407407E-2]
[{"$f":"MATRICULADOS!B34","v":"FARMÁCIA"},{"$f":"MATRICULADOS!A34","v":38509},{"$f":"'ALUNO TEMPO INTEGRAL'!D35","v":5},2019,{"$f":"'ALUNO TEMPO INTEGRAL'!C35","v":81},100,0.81]
[{"$f":"MATRICULADOS!B35","v":"FISIOTERAPIA"},{"$f":"MATRICULADOS!A35","v":13118},{"$f":"'ALUNO TEMPO INTEGRAL'!D36","v":5},2019,{"$f":"'ALUNO TEMPO INTEGRAL'!C36","v":62},43,1.441860465116279]
[{"$f":"MATRICULADOS!B36","v":"JORNALISMO"},{"$f":"MATRICULADOS!A36","v":27657},{"$f":"'ALUNO TEMPO INTEGRAL'!D37","v":4},2020,{"$f":"'ALUNO TEMPO INTEGRAL'!C37","v":20},26,0.76923076923076927]
[{"$f":"MATRICULADOS!B37","v":"JORNALISMO"},{"$f":"MATRICULADOS!A37","v":36356},{"$f":"'ALUNO TEMPO INTEGRAL'!D38","v":4},2020,{"$f":"'ALUNO TEMPO INTEGRAL'!C38","v":30},35,0.8571428571428571]
[{"$f":"MATRICULADOS!B38","v":"LETRAS - LIBRAS"},{"$f":"MATRICULADOS!A38","v":1268983},{"$f":"'ALUNO TEMPO INTEGRAL'!D39","v":4},2020,{"$f":"'ALUNO TEMPO INTEGRAL'!C39","v":14},36,0.3888888888888889]
[{"$f":"MATRICULADOS!B39","v":"LICENCIATURA EM ARTES VISUAIS"},{"$f":"MATRICULADOS!A39","v":1153951},{"$f":"'ALUNO TEMPO INTEGRAL'!D40","v":2},2022,{"$f":"'ALUNO TEMPO INTEGRAL'!C40","v":8},48,0.16666666666666666]
[{"$f":"MATRICULADOS!B40","v":"LICENCIATURA EM FÍSICA - NOTURNO"},{"$f":"MATRICULADOS!A40","v":1166037},{"$f":"'ALUNO TEMPO INTEGRAL'!D41","v":4},2020,{"$f":"'ALUNO TEMPO INTEGRAL'!C41","v":4},22,0.18181818181818182]
[{"$f":"MATRICULADOS!B41","v":"LICENCIATURA EM QUÍMICA - NOTURNO"},{"$f":"MATRICULADOS!A41","v":1166039},{"$f":"'ALUNO TEMPO INTEGRAL'!D42","v":4},2020,{"$f":"'ALUNO TEMPO INTEGRAL'!C42","v":4},21,0.19047619047619047]
[{"$f":"MATRICULADOS!B42","v":"LICENCIATURA ENFERMAGEM (PÓS BACHARELADO APENAS)"},{"$f":"MATRICULADOS!A42","v":338994},{"$f":"'ALUNO TEMPO INTEGRAL'!D43","v":5},2019,{"$f":"'ALUNO TEMPO INTEGRAL'!C43","v":2},33,0]
[{"$f":"MATRICULADOS!B43","v":"LICENCIATURA MATEMÁTICA - NOTURNO"},{"$f":"MATRICULADOS!A43","v":1166038},{"$f":"'ALUNO TEMPO INTEGRAL'!D44","v":4},2020,{"$f":"'ALUNO TEMPO INTEGRAL'!C44","v":4},28,{"$f":"E38/F38","v":0.14285714285714285}]
[{"$f":"MATRICULADOS!B44","v":"LICENCIATURA GEOGRAFIA (CÓDIGO DE ABI ERRADO)"},{"$f":"MATRICULADOS!A44","v":5000615},{"$f":"'ALUNO TEMPO INTEGRAL'!D45","v":4},2020,{"$f":"'ALUNO TEMPO INTEGRAL'!C45","v":0},11,0]
[{"$f":"MATRICULADOS!B45","v":"MEDICINA"},{"$f":"MATRICULADOS!A45","v":13103},{"$f":"'ALUNO TEMPO INTEGRAL'!D46","v":6},2018,{"$f":"'ALUNO TEMPO INTEGRAL'!C46","v":222},184,1.2065217391304348]
[{"$f":"MATRICULADOS!B46","v":"MEDICINA VETERINÁRIA"},{"$f":"MATRICULADOS!A46","v":1268972},{"$f":"'ALUNO TEMPO INTEGRAL'!D47","v":5},2019,{"$f":"'ALUNO TEMPO INTEGRAL'!C47","v":52},97,0.53608247422680411]
[{"$f":"MATRICULADOS!B47","v":"MODA"},{"$f":"MATRICULADOS!A47","v":1153950},{"$f":"'ALUNO TEMPO INTEGRAL'!D48","v":2},2022,{"$f":"'ALUNO TEMPO INTEGRAL'!C48","v":22},56,0.39285714285714285]
[{"$f":"MATRICULADOS!B48","v":"MÚSICA"},{"$f":"MATRICULADOS!A48","v":116490},{"$f":"'ALUNO TEMPO INTEGRAL'!D49","v":4},2020,{"$f":"'ALUNO TEMPO INTEGRAL'!C49","v":13},17,0.76470588235294112]
[{"$f":"MATRICULADOS!B49","v":"MÚSICA"},{"$f":"MATRICULADOS!A49","v":1278855},{"$f":"'ALUNO TEMPO INTEGRAL'!D50","v":4},2020,{"$f":"'ALUNO TEMPO INTEGRAL'!C50","v":13},15,0.8666666666666667]
[{"$f":"MATRICULADOS!B50","v":"NUTRIÇÃO"},{"$f":"MATRICULADOS!A50","v":116498},{"$f":"'ALUNO TEMPO INTEGRAL'!D51","v":5},2019,{"$f":"'ALUNO TEMPO INTEGRAL'!C51","v":66},109,0.60550458715596334]
[{"$f":"MATRICULADOS!B51","v":"ODONTOLOGIA"},{"$f":"MATRICULADOS!A51","v":13104},{"$f":"'ALUNO TEMPO INTEGRAL'!D52","v":5},2019,{"$f":"'ALUNO TEMPO INTEGRAL'!C52","v":90},101,0.8910891089108911]
[{"$f":"MATRICULADOS!B52","v":"PEDAGOGIA (MATUTINO/NOTURNO)"},{"$f":"MATRICULADOS!A52","v":13105},{"$f":"'ALUNO TEMPO INTEGRAL'!D53","v":4},2020,{"$f":"'ALUNO TEMPO INTEGRAL'!C53","v":49},79,0.620253164556962]
[{"$f":"MATRICULADOS!B53","v":"PSICOLOGIA"},{"$f":"MATRICULADOS!A53","v":13113},{"$f":"'ALUNO TEMPO INTEGRAL'!D54","v":5},2019,{"$f":"'ALUNO TEMPO INTEGRAL'!C54","v":48},59,0.81355932203389836]
[{"$f":"MATRICULADOS!B54","v":"RÁDIO, TV E INTERNET"},{"$f":"MATRICULADOS!A54","v":1374873},{"$f":"'ALUNO TEMPO INTEGRAL'!D55","v":4},2020,{"$f":"'ALUNO TEMPO INTEGRAL'!C55","v":30},34,0.88235294117647056]
[{"$f":"MATRICULADOS!B55","v":"SERVIÇO SOCIAL (MATUTINO/NOTURNO)"},{"$f":"MATRICULADOS!A55","v":13107},{"$f":"'ALUNO TEMPO INTEGRAL'!D56","v":4},2020,{"$f":"'ALUNO TEMPO INTEGRAL'!C56","v":46},62,0.74193548387096775]
[{"$f":"MATRICULADOS!B56","v":"TURISMO (INTEGRAL E NOTURNO)"},{"$f":"MATRICULADOS!A56","v":21589},{"$f":"'ALUNO TEMPO INTEGRAL'!D57","v":4},2020,{"$f":"'ALUNO TEMPO INTEGRAL'!C57","v":35},90,0.3888888888888889]
[{"$f":"MATRICULADOS!B57","v":"ADMINISTRAÇÃO GV"},{"$f":"MATRICULADOS!A57","v":1178684},{"$f":"'ALUNO TEMPO INTEGRAL'!D58","v":4},2020,{"$f":"'ALUNO TEMPO INTEGRAL'!C58","v":30},69,0.43478260869565216]
[{"$f":"MATRICULADOS!B58","v":"CIÊNCIAS CONTÁBEIS GV"},{"$f":"MATRICULADOS!A58","v":1183351},{"$f":"'ALUNO TEMPO INTEGRAL'!D59","v":4},2020,{"$f":"'ALUNO TEMPO INTEGRAL'!C59","v":21},36,0.58333333333333337]
[{"$f":"MATRICULADOS!B59","v":"CIÊNCIAS ECONÔMICAS GV"},{"$f":"MATRICULADOS!A59","v":1178683},{"$f":"'ALUNO TEMPO INTEGRAL'!D60","v":4},2020,{"$f":"'ALUNO TEMPO INTEGRAL'!C60","v":17},68,0.25]
[{"$f":"MATRICULADOS!B60","v":"DIREITO GV"},{"$f":"MATRICULADOS!A60","v":1178675},{"$f":"'ALUNO TEMPO INTEGRAL'!D61","v":5},2019,{"$f":"'ALUNO TEMPO INTEGRAL'!C61","v":69},103,0.66990291262135926]
[{"$f":"MATRICULADOS!B61","v":"EDUCAÇÃO FÍSICA GV"},{"$f":"MATRICULADOS!A61","v":1270439},{"$f":"'ALUNO TEMPO INTEGRAL'!D62","v":5},2019,{"$f":"'ALUNO TEMPO INTEGRAL'!C62","v":17},68,0.25]
[{"$f":"MATRICULADOS!B62","v":"FARMÁCIA GV"},{"$f":"MATRICULADOS!A62","v":1185503},{"$f":"'ALUNO TEMPO INTEGRAL'!D63","v":5},2019,{"$f":"'ALUNO TEMPO INTEGRAL'!C63","v":24},71,0.3380281690140845]
[{"$f":"MATRICULADOS!B63","v":"FISIOTERAPIA GV"},{"$f":"MATRICULADOS!A63","v":1178689},{"$f":"'ALUNO TEMPO INTEGRAL'!D64","v":5},2019,{"$f":"'ALUNO TEMPO INTEGRAL'!C64","v":38},58,0.65517241379310343]
[{"$f":"MATRICULADOS!B64","v":"MEDICINA GV"},{"$f":"MATRICULADOS!A64","v":5001167},{"$f":"'ALUNO TEMPO INTEGRAL'!D65","v":6},2018,{"$f":"'ALUNO TEMPO INTEGRAL'!C65","v":128},99,1.292929292929293]
[{"$f":"MATRICULADOS!B65","v":"NUTRIÇÃO GV"},{"$f":"MATRICULADOS!A65","v":1178688},{"$f":"'ALUNO TEMPO INTEGRAL'!D66","v":5},2019,{"$f":"'ALUNO TEMPO INTEGRAL'!C66","v":27},79,0.34177215189873417]
[{"$f":"MATRICULADOS!B66","v":"ODONTOLOGIA GV"},{"$f":"MATRICULADOS!A66","v":5001168},{"$f":"'ALUNO TEMPO INTEGRAL'!D67","v":5},2019,{"$f":"'ALUNO TEMPO INTEGRAL'!C67","v":27},80,0.33750000000000002]
[{"$f":"MATRICULADOS!B67","v":"ABI - CIÊNCIAS BIOLÓGICAS"},{"$f":"MATRICULADOS!A67","v":5000608},{"$f":"'ALUNO TEMPO INTEGRAL'!D68","v":2},2022,{"$f":"'ALUNO TEMPO INTEGRAL'!C68","v":0},55,0]
[{"$f":"MATRICULADOS!B68","v":"CIÊNCIAS BIOLÓGICAS "},{"$f":"MATRICULADOS!A68","v":13086},{"$f":"'ALUNO TEMPO INTEGRAL'!D69","v":4},2020,{"$f":"'ALUNO TEMPO INTEGRAL'!C69","v":22},25,{"$f":"E63/F63","v":0.88}]
[{"$f":"MATRICULADOS!B69","v":"CIÊNCIAS BIOLÓGICAS "},{"$f":"MATRICULADOS!A69","v":313086},{"$f":"'ALUNO TEMPO INTEGRAL'!D70","v":4},2020,{"$f":"'ALUNO TEMPO INTEGRAL'!C70","v":34},38,0.89473684210526316]
[{"$f":"MATRICULADOS!B70","v":"ABI - EDUCAÇÃO FÍSICA"},{"$f":"MATRICULADOS!A70","v":5000610},{"$f":"'ALUNO TEMPO INTEGRAL'!D71","v":2},2022,{"$f":"'ALUNO TEMPO INTEGRAL'!C71","v":0},79,0]
[{"$f":"MATRICULADOS!B71","v":"EDUCAÇÃO FÍSICA"},{"$f":"MATRICULADOS!A71","v":13092},{"$f":"'ALUNO TEMPO INTEGRAL'!D72","v":5},2019,{"$f":"'ALUNO TEMPO INTEGRAL'!C72","v":10},52,{"$f":"E66/F66","v":0.19230769230769232}]
[{"$f":"MATRICULADOS!B72","v":"EDUCAÇÃO FÍSICA"},{"$f":"MATRICULADOS!A72","v":313092},{"$f":"'ALUNO TEMPO INTEGRAL'!D73","v":5},2019,{"$f":"'ALUNO TEMPO INTEGRAL'!C73","v":59},23,2.5652173913043477]
[{"$f":"MATRICULADOS!B73","v":"ABI - FILOSOFIA"},{"$f":"MATRICULADOS!A73","v":5000611},{"$f":"'ALUNO TEMPO INTEGRAL'!D74","v":2},2022,{"$f":"'ALUNO TEMPO INTEGRAL'!C74","v":0},35,0]
[{"$f":"MATRICULADOS!B74","v":"FILOSOFIA"},{"$f":"MATRICULADOS!A74","v":13097},{"$f":"'ALUNO TEMPO INTEGRAL'!D75","v":2},2022,{"$f":"'ALUNO TEMPO INTEGRAL'!C75","v":17},19,{"$f":"E69/F69","v":0.89473684210526316}]
[{"$f":"MATRICULADOS!B75","v":"FILOSOFIA"},{"$f":"MATRICULADOS!A75","v":313097},{"$f":"'ALUNO TEMPO INTEGRAL'!D76","v":2},2022,{"$f":"'ALUNO TEMPO INTEGRAL'!C76","v":7},10,0.7]
[{"$f":"MATRICULADOS!B76","v":"ABI - FíSICA"},{"$f":"MATRICULADOS!A76","v":5000613},{"$f":"'ALUNO TEMPO INTEGRAL'!D77","v":2},2022,{"$f":"'ALUNO TEMPO INTEGRAL'!C77","v":0},16,0]
[{"$f":"MATRICULADOS!B77","v":"FÍSICA"},{"$f":"MATRICULADOS!A77","v":13098},{"$f":"'ALUNO TEMPO INTEGRAL'!D78","v":4},2020,{"$f":"'ALUNO TEMPO INTEGRAL'!C78","v":3},0,{"$f":"E72/F72","v":{"$error":"#DIV/0!"}}]
[{"$f":"MATRICULADOS!B78","v":"FÍSICA"},{"$f":"MATRICULADOS!A78","v":313098},{"$f":"'ALUNO TEMPO INTEGRAL'!D79","v":4},2020,{"$f":"'ALUNO TEMPO INTEGRAL'!C79","v":10},3,3.3333333333333335]
[{"$f":"MATRICULADOS!B79","v":"GEOGRAFIA"},{"$f":"MATRICULADOS!A79","v":313099},{"$f":"'ALUNO TEMPO INTEGRAL'!D80","v":4},2020,{"$f":"'ALUNO TEMPO INTEGRAL'!C80","v":19},26,0.73076923076923073]
[{"$f":"MATRICULADOS!B80","v":"GEOGRAFIA"},{"$f":"MATRICULADOS!A80","v":13099},{"$f":"'ALUNO TEMPO INTEGRAL'!D81","v":4},2020,{"$f":"'ALUNO TEMPO INTEGRAL'!C81","v":24},82,0.29268292682926828]
[{"$f":"MATRICULADOS!B81","v":"ABI - HISTÓRIA (INTEGRAL/NOTURNO)"},{"$f":"MATRICULADOS!A81","v":5000616},{"$f":"'ALUNO TEMPO INTEGRAL'!D82","v":2},2022,{"$f":"'ALUNO TEMPO INTEGRAL'!C82","v":0},74,0]
[{"$f":"MATRICULADOS!B82","v":"HISTÓRIA"},{"$f":"MATRICULADOS!A82","v":13100},{"$f":"'ALUNO TEMPO INTEGRAL'!D83","v":4},2020,{"$f":"'ALUNO TEMPO INTEGRAL'!C83","v":50},57,{"$f":"E77/F77","v":0.8771929824561403}]
[{"$f":"MATRICULADOS!B83","v":"HISTÓRIA"},{"$f":"MATRICULADOS!A83","v":313100},{"$f":"'ALUNO TEMPO INTEGRAL'!D84","v":4},2020,{"$f":"'ALUNO TEMPO INTEGRAL'!C84","v":17},41,0.41463414634146339]
[{"$f":"MATRICULADOS!B84","v":"ABI - LETRAS (INTEGRAL/NOTURNO). OBS. NOTURNO SÓ LICENCIATURA"},{"$f":"MATRICULADOS!A84","v":5000617},{"$f":"'ALUNO TEMPO INTEGRAL'!D85","v":2},2022,{"$f":"'ALUNO TEMPO INTEGRAL'!C85","v":0},37,0]
[{"$f":"MATRICULADOS!B85","v":"LETRAS"},{"$f":"MATRICULADOS!A85","v":13101},{"$f":"'ALUNO TEMPO INTEGRAL'!D86","v":4},2020,{"$f":"'ALUNO TEMPO INTEGRAL'!C86","v":39},107,{"$f":"E80/F80","v":0.3644859813084112}]
[{"$f":"MATRICULADOS!B86","v":"LETRAS"},{"$f":"MATRICULADOS!A86","v":313101},{"$f":"'ALUNO TEMPO INTEGRAL'!D87","v":4},2020,{"$f":"'ALUNO TEMPO INTEGRAL'!C87","v":13},24,0.54166666666666663]
[{"$f":"MATRICULADOS!B87","v":"ABI - MATEMÁTICA"},{"$f":"MATRICULADOS!A87","v":5000618},{"$f":"'ALUNO TEMPO INTEGRAL'!D88","v":2},2022,{"$f":"'ALUNO TEMPO INTEGRAL'!C88","v":0},24,0]
[{"$f":"MATRICULADOS!B88","v":"MATEMÁTICA"},{"$f":"MATRICULADOS!A88","v":13102},{"$f":"'ALUNO TEMPO INTEGRAL'!D89","v":4},2020,{"$f":"'ALUNO TEMPO INTEGRAL'!C89","v":11},9,{"$f":"E83/F83","v":1.2222222222222223}]
[{"$f":"MATRICULADOS!B89","v":"MATEMÁTICA"},{"$f":"MATRICULADOS!A89","v":313102},{"$f":"'ALUNO TEMPO INTEGRAL'!D90","v":4},2020,{"$f":"'ALUNO TEMPO INTEGRAL'!C90","v":9},3,3]
[{"$f":"MATRICULADOS!B90","v":"ABI - QUíMICA"},{"$f":"MATRICULADOS!A90","v":5000619},{"$f":"'ALUNO TEMPO INTEGRAL'!D91","v":2},2022,{"$f":"'ALUNO TEMPO INTEGRAL'!C91","v":0},38,0]
[{"$f":"MATRICULADOS!B91","v":"QUÍMICA"},{"$f":"MATRICULADOS!A91","v":13106},{"$f":"'ALUNO TEMPO INTEGRAL'!D92","v":4},2020,{"$f":"'ALUNO TEMPO INTEGRAL'!C92","v":5},11,{"$f":"E86/F86","v":0.45454545454545453}]
[{"$f":"MATRICULADOS!B92","v":"QUÍMICA"},{"$f":"MATRICULADOS!A92","v":313106},{"$f":"'ALUNO TEMPO INTEGRAL'!D93","v":4},2020,{"$f":"'ALUNO TEMPO INTEGRAL'!C93","v":9},24,0.375]
[{"$f":"MATRICULADOS!B93","v":"CIÊNCIAS EXATAS - BI/LI"},{"$f":"MATRICULADOS!A93","v":116502},{"$f":"'ALUNO TEMPO INTEGRAL'!D94","v":3},2021,{"$f":"'ALUNO TEMPO INTEGRAL'!C94","v":63},221,0.28506787330316741]
[{"$f":"MATRICULADOS!B94","v":"BACHARELADO INTERDISCIPLINAR DE HUMANAS - BI/LI\nINTEGRAL/NOTURNO"},{"$f":"MATRICULADOS!A94","v":1120242},{"$f":"'ALUNO TEMPO INTEGRAL'!D95","v":3},2021,{"$f":"'ALUNO TEMPO INTEGRAL'!C95","v":102},261,0.39080459770114945]
[{"$f":"MATRICULADOS!B95","v":"ABI - CIÊNCIAS SOCIAIS (13087/313087)"},{"$f":"MATRICULADOS!A95","v":5000609},{"$f":"'ALUNO TEMPO INTEGRAL'!D96","v":2},2022,{"$f":"'ALUNO TEMPO INTEGRAL'!C96","v":0},45,0]
[{"$f":"MATRICULADOS!B96","v":"CIÊNCIAS SOCIAIS"},{"$f":"MATRICULADOS!A96","v":13087},{"$f":"'ALUNO TEMPO INTEGRAL'!D97","v":2},2022,{"$f":"'ALUNO TEMPO INTEGRAL'!C97","v":11},25,0]
[{"$f":"MATRICULADOS!B97","v":"CIÊNCIAS SOCIAIS"},{"$f":"MATRICULADOS!A97","v":313087},{"$f":"'ALUNO TEMPO INTEGRAL'!D98","v":2},2022,{"$f":"'ALUNO TEMPO INTEGRAL'!C98","v":20},12,0]
[{"$f":"MATRICULADOS!B98","v":"BACHARELADO CIÊNCIA DA RELIGIAO"},{"$f":"MATRICULADOS!A98","v":1165350},{"$f":"'ALUNO TEMPO INTEGRAL'!D99","v":2},2022,{"$f":"'ALUNO TEMPO INTEGRAL'!C99","v":6},12,{"$f":"E93/F93","v":0.5}]
[{"$f":"MATRICULADOS!B99","v":"LICENCIATURA CIÊNCIA DA RELIGIÃO"},{"$f":"MATRICULADOS!A99","v":1165686},{"$f":"'ALUNO TEMPO INTEGRAL'!D100","v":2},2022,{"$f":"'ALUNO TEMPO INTEGRAL'!C100","v":1},15,0]
[{"$f":"MATRICULADOS!B100","v":"INTERDISCIPLINAR EM ARTES E DESIGN - BI/LI  - EXTINTO"},{"$f":"MATRICULADOS!A100","v":116500},{"$f":"'ALUNO TEMPO INTEGRAL'!D101","v":3},2021,{"$f":"'ALUNO TEMPO INTEGRAL'!C101","v":98},0,0]
["TOTAL",null,null,null,{"$f":"SUM(E3:E95)","v":2906},5109]
[]
[]
[]
[]
[]
[]
[]
[]
[]
[]
[]
[]
[]
[]
[]
[]
[]
[]
[]
[]
[]
[]
[]
[]
[]
[]
[]
[]
[]
[]
[]
[]
[]
[]
[]
[]
[]
[]
[]
[null,null,null,null,null,null,null,null,null,69.7]

{"sheet":"HISTORICO","index":9,"n_rows":32,"n_cols":8,"rows_kept":32,"cut":false,"hidden":false,"merged":[]}
["SÉRIE HISTÓRICA - INDICADORES DE GESTÃO"]
["INDICADORES PRIMÁRIOS",2017,2018,2019,2020,2021,2022,2023]
[{"$f":"'INDICADORES TCU'!A3","v":"CUSTO CORRENTE COM HU"},628553903.16999996,666190973.75,682548236.1400001,727731710.80000007,754224765.39999998,787071374.05750012,{"$f":"'INDICADORES TCU'!B3","v":900255671.5799998}]
[{"$f":"'INDICADORES TCU'!A4","v":"CUSTO CORRENTE SEM  HU"},604855746.72000003,644483392.75,661885338.28999996,707077157.49000001,733675198.40999997,765811874.24000013,{"$f":"'INDICADORES TCU'!B4","v":878838255.28999984}]
[{"$f":"'INDICADORES TCU'!A5","v":"NÚMERO DE ALUNOS TEMPO INTEGRAL - ATI"},18378.169999999998,20478,21988.46,20724.957999999995,19834.108,19913.656500000005,{"$f":"'INDICADORES TCU'!B5","v":21107.034999999996}]
[{"$f":"'INDICADORES TCU'!A6","v":"NÚMERO DE ALUNOS EQUIVALENTES = AGE+APGTI+ARTI"},30075.17,31352,33776.524999999994,35479.690999999992,34018.625999999989,32256.504749999986,{"$f":"'INDICADORES TCU'!B6","v":37775.80750000001}]
[{"$f":"'INDICADORES TCU'!A7","v":"NÚMERO DE PROFESSORES EQUIVALENTES"},1490,1546,1550.5,1530.5,1540.5,1538,{"$f":"'INDICADORES TCU'!B7","v":1548.5}]
[{"$f":"'INDICADORES TCU'!A8","v":"NÚMERO DE FUNCIONÁRIOS EQUIVALENTES COM HU"},2646,2711,2692.95,2674.2,2481.8000000000002,2556.6000000000004,{"$f":"'INDICADORES TCU'!B8","v":2672.6}]
[{"$f":"'INDICADORES TCU'!A9","v":"NÚMERO DE FUNCIONÁRIOS EQUIVALENTES SEM HU"},2370,2453,2457.25,2446.5,2272.2000000000003,2359,{"$f":"'INDICADORES TCU'!B9","v":2484}]
[{"$f":"'INDICADORES TCU'!A10","v":"TOTAL DE ALUNOS EFETIVAMENTE MATRICULADOS NA GRADUAÇÃO - AG"},19793,19829,20790,20039,21198.5,20070.5,{"$f":"MATRICULADOS!E101","v":18962.5}]
[{"$f":"'INDICADORES TCU'!A11","v":"TOTAL DE ALUNOS EFETIVAMENTE MATRICULADOS NA PÓS-GRADUAÇÃO STRICTO SENSU - APG"},2333.08,2815.5,2791.5,2482.5,2907,2557,{"$f":"'INDICADORES TCU'!B11","v":2653.5}]
[{"$f":"'INDICADORES TCU'!A12","v":"TOTAL DE ALUNOS EFETIVAMENTE MATRICULADOS NA RESIDÊNCIA MÉDICA - AR"},274.5,266.5,273.5,264.5,270.5,267.5,{"$f":"'INDICADORES TCU'!B12","v":256}]
[{"$f":"'INDICADORES TCU'!A13","v":"NÚMERO DE ALUNOS DA GRADUAÇÃO EM TEMPO INTEGRAL (AgTI)"},13163,14314,15858.460000000001,15230.957999999995,13479.108000000002,14264.656500000005,{"$f":"'INDICADORES TCU'!B13","v":15288.034999999998}]
[{"$f":"'INDICADORES TCU'!A14","v":"NÚMERO DE ALUNOS  EM TEMPO INTEGRAL  DA PÓS-GRADUAÇÃO (APgTI)"},4666.17,5631,5583,4965,5814,5114,{"$f":"'INDICADORES TCU'!B14","v":5307}]
[{"$f":"'INDICADORES TCU'!A15","v":"NÚMERO DE ALUNOS DE RESIDÊNCIA MÉDICA (ARTI)"},549,533,547,529,541,535,{"$f":"'INDICADORES TCU'!B15","v":512}]
[{"$f":"'INDICADORES TCU'!A16","v":"ALUNO EQUIVALENTE DE GRADUAÇÃO - AgE"},24860,25188,27646.524999999991,29985.690999999992,27663.625999999989,26607.504749999986,{"$f":"'INDICADORES TCU'!B16","v":31956.807500000006}]
[]
[]
["SÉRIE HISTÓRICA - INDICADORES DE GESTÃO"]
["Indicadores Decisão TCU 408/2002 - P",2017,2018,2019,2020,2021,2022,2023]
["CUSTO CORRENTE / ALUNO EQUIVALENTE TEMPO INTEGRAL\n (INCLUINDO OS 35% DAS DESPESES DO(s) HU(s)) ",20899.429767811787,21248.755222952284,20207.76963112695,20511.218961856241,22170.935575117004,24400.392421857192,{"$f":"'INDICADORES TCU'!B21","v":23831.540108838166}]
["CUSTO CORRENTE / ALUNO EQUIVALENTE TEMPO INTEGRAL (EXCLUINDO AS DESPESES DO(s) HU(s)) ",20111.465595040696,20556.372567938248,19596.016413470599,19929.067518936401,21566.867468721404,23741.316059360102,{"$f":"'INDICADORES TCU'!B22","v":23264.578931635006}]
["ALUNO TEMPO INTEGRAL / NÚMERO DE PROFESSORES EQUIVALENTES",12.334342281879193,13.245795601552393,14.181528539180908,13.541298921920937,12.875110678351184,12.947761053315999,{"$f":"'INDICADORES TCU'!B23","v":13.630632870519856}]
["ALUNO TEMPO INTEGRAL / FUNCIONÁRIO EQUIV. COM H.U.",6.9456424792139071,7.5536702323865734,8.1651943036447019,7.7499655971879431,7.9918236763639285,7.7891169913165932,{"$f":"'INDICADORES TCU'!B24","v":7.8975660405597532}]
["ALUNO TEMPO INTEGRAL / FUNCIONÁRIO EQUIV. SEM H.U.",7.7545021097046405,8.3481451284141865,8.9484016685318952,8.4712683425301432,8.7290326555760931,8.4415669775328546,{"$f":"'INDICADORES TCU'!B25","v":8.4971960547504004}]
["FUNCIONÁRIO EQUIV. COM H.U. / PROFESSOR EQUIV.",1.7758389261744967,1.7535575679172057,1.7368268300548209,1.7472721332897745,1.6110353781239859,1.6622886866059821,{"$f":"'INDICADORES TCU'!B26","v":1.7259283177268323}]
["FUNCIONÁRIO EQUIV. SEM H.U. / PROFESSOR EQUIV.",1.5906040268456376,1.5866752910737387,1.5848113511770396,1.5984972231296961,1.4749756572541384,1.533810143042913,{"$f":"'INDICADORES TCU'!B27","v":1.6041330319664191}]
["GRAU DE PARTICIPAÇÃO ESTUDANTIL (GPE)",0.67,0.72,0.7627926887926888,0.76006577174509682,0.63585197065830135,0.71072751052539818,{"$f":"'INDICADORES TCU'!B28","v":0.80622465392221476}]
["GRAU DE ENVOLVIMENTO COM A PÓS-GRADUAÇÃO (GEPG)",0.11,0.12,0.12409681700406563,0.11022800435139755,0.12059488498475451,0.11300408794608331,{"$f":"'INDICADORES TCU'!B29","v":0.12275629163582531}]
["CONCEITO CAPES",3.88,4.03,4,4.0294117647058822,4.0294117647058822,4.0571428571428569,{"$f":"'INDICADORES TCU'!B30","v":4.4571428571428573}]
["ÍNDICE DE QUALIFICAÇÃO DO CORPO DOCENTE (IQCD)",4.6500000000000004,4.71,4.7312138728323703,4.7681584739545118,4.8133828996282526,4.8487518355359764,{"$f":"'INDICADORES TCU'!B31","v":4.8868613138686134}]
["TAXA DE SUCESSO NA GRADUAÇÃO (TSG) EM % ",0.49559999999999998,0.47220000000000001,0.56240000000000001,0.49387456573413785,0.42122842827982926,0.55104981473857551,{"$f":"'INDICADORES TCU'!B32","v":0.56880015658641614}]